From mboxrd@z Thu Jan 1 00:00:00 1970 Return-Path: Received: from mails.dpdk.org (mails.dpdk.org [217.70.189.124]) by inbox.dpdk.org (Postfix) with ESMTP id 76A6D488C8 for ; Mon, 6 Oct 2025 17:50:37 +0200 (CEST) Received: from mails.dpdk.org (localhost [127.0.0.1]) by mails.dpdk.org (Postfix) with ESMTP id 727A6402AF; Mon, 6 Oct 2025 17:50:37 +0200 (CEST) Received: from mail-yw1-f225.google.com (mail-yw1-f225.google.com [209.85.128.225]) by mails.dpdk.org (Postfix) with ESMTP id 81E4B402AF for ; Mon, 6 Oct 2025 17:50:35 +0200 (CEST) Received: by mail-yw1-f225.google.com with SMTP id 00721157ae682-743ba48eb71so83708957b3.1 for ; Mon, 06 Oct 2025 08:50:35 -0700 (PDT) DKIM-Signature: v=1; a=rsa-sha256; c=relaxed/relaxed; d=iol.unh.edu; s=unh-iol; t=1759765835; x=1760370635; darn=dpdk.org; h=references:in-reply-to:cc:to:from:subject:message-id:date:from:to :cc:subject:date:message-id:reply-to; bh=OYuhkr7/w38SHOyXeQHJuaXKwGiAjGblZHhVZK5g8jE=; b=O9/NXj53W1YXwex0Y2QgWFM0GGMznqq9v03jAIzgKlOoc2VnBkiqmyL8cR+w3S4NCF b+LOlRJqUqx9uuDU0ffl2r5ZHM9CkzzIx7AiSJJVlaOaKNG0jeJz5Fd4FKTi/6qMmAqG A81iR4/t+6ZuQVqjiFuIw4ZsywybGJPAcFwmc= X-Google-DKIM-Signature: v=1; a=rsa-sha256; c=relaxed/relaxed; d=1e100.net; s=20230601; t=1759765835; x=1760370635; h=references:in-reply-to:cc:to:from:subject:message-id:date :x-gm-message-state:from:to:cc:subject:date:message-id:reply-to; bh=OYuhkr7/w38SHOyXeQHJuaXKwGiAjGblZHhVZK5g8jE=; b=uxu0gQhLL1qdimo63/5WES4O5R+xplf37rMfIpnqhaDOXPJU5n5uMd5J5ue5qrG36A lFmRfUmDtxVKEzakTcHF1Z2juI6Mwf6s9AwcrA3BMHpmmqYza5oxNspUZIi2USJ9jM0q J6qUbqL8yQ4lxzqYhJexQRGJ9NQ4w4MT4+tny1srxjkgRfEBcxW8OjXD5eCeB7FS0yhC 42MlHVAZA9RIedSaEc78kbaOBc5ziHbtXucgle9VB+7f3304WCgVA1leP5PlUx7xnDGL UtzJ/lSqwgTQncgaAbfXFVMXGV0/xmeFrZoHvYq3nLlS6gPyVGRlrnzuYYWBzdxz2bY2 cGUg== X-Gm-Message-State: AOJu0Yxo1vz0TZSeHzkyWshb7wTlVLQJQ3kine/mgE0Xel/OKAOOmfxm j94cIbyPt1ij8v12svED2likKCdy4C5XUIMW46/xcHHF2eqtybrqLukR5bFFhZKI33MDhbe8A3b E9fZhJGk04tQbawe5SsXxlzVFPBgIHJ8ZIxEQAnzd/4muC0PSoFZx2gCu0uvx X-Gm-Gg: ASbGncuQLU5BEEOk23WRdUJL8XpUW8XTbFPviBB1c0lYtvbfIciXYlz0fPkKQazQKCx 0/Dns6fjbNZvxSBN7T4TDbDUgw1MlZrOXw11kqibz5WaDwhWlvVWoGvzxJPsxzcdnNHhhaQ6ZPf qgD1ja9duaGGHoABSp6Wk5ReBWIQG+4chXs6bmlNPtAmDVd8BvtRYTi/YZVz/z4dRWAOyu1C+28 WuiAusb1LG+uChDIvWls2Y3ZIxF8gKo081NL/fD7r/9yWjienWFDT7Ln+cwvDIqcA2OXWSICDOL t+mueTvEgFm/M7D6oblc3XzXHob0fgKWza2pxDu9Cyk3qvsbBFqxhyA= X-Google-Smtp-Source: AGHT+IGo85AbpFhKM4fE1LVeS/S8aDNqzOF+yFoHo3FjQPf9FtBrlJ0PpLq6LF+21XXNddFRagiM6WUMkMXN X-Received: by 2002:a53:e7c4:0:b0:63b:8ed2:de2d with SMTP id 956f58d0204a3-63cbe13f2fcmr41165d50.24.1759765834646; Mon, 06 Oct 2025 08:50:34 -0700 (PDT) Received: from postal.iol.unh.edu (postal.iol.unh.edu. [2606:4100:3880:1234::84]) by smtp-relay.gmail.com with ESMTPS id 956f58d0204a3-63b8456e22csm788605d50.3.2025.10.06.08.50.34 (version=TLS1_2 cipher=ECDHE-ECDSA-AES128-GCM-SHA256 bits=128/128); Mon, 06 Oct 2025 08:50:34 -0700 (PDT) X-Relaying-Domain: iol.unh.edu Date: Mon, 06 Oct 2025 08:50:34 -0700 (PDT) Message-ID: <68e3e54a.530a0220.11765e.c7e2SMTPIN_ADDED_MISSING@mx.google.com> Received: from [172.21.0.5] (unknown [172.18.0.240]) by postal.iol.unh.edu (Postfix) with ESMTP id 5624D604D420; Mon, 6 Oct 2025 11:50:34 -0400 (EDT) Subject: |SUCCESS| pw157251-157252 [PATCH] [v2,2/2] net/iavf: add restore com From: dpdklab@iol.unh.edu To: Test Report Cc: dpdk-test-reports@iol.unh.edu, Bruce Richardson In-Reply-To: <20251003102359.823028-2-ciara.loftus@intel.com> References: <20251003102359.823028-2-ciara.loftus@intel.com> Content-Type: text/plain X-BeenThere: test-report@dpdk.org X-Mailman-Version: 2.1.29 Precedence: list List-Id: automatic DPDK test reports List-Unsubscribe: , List-Archive: List-Post: List-Help: List-Subscribe: , Errors-To: test-report-bounces@dpdk.org Test-Label: iol-compile-arm64-testing Test-Status: SUCCESS http://dpdk.org/patch/157252 _Testing PASS_ Submitter: Loftus, Ciara Date: Friday, October 03 2025 10:23:59 DPDK git baseline: Repo:dpdk-next-net-intel Branch: master CommitID:e7d8cc7ef4df3552575525697079d3c957cfcdaf 157251-157252 --> testing pass Upstream job id: Generic-DPDK-Compile-Meson#431336 Test environment and result as below: +------------------------------+--------------------+ | Environment | dpdk_meson_compile | +==============================+====================+ | CentOS Stream 10 | PASS | +------------------------------+--------------------+ | Red Hat Enterprise Linux 9.5 | PASS | +------------------------------+--------------------+ | Ubuntu 20.04 | PASS | +------------------------------+--------------------+ | Debian GNU/Linux 12 | PASS | +------------------------------+--------------------+ | Fedora Linux 42 | PASS | +------------------------------+--------------------+ | Ubuntu 22.04 | PASS | +------------------------------+--------------------+ | Ubuntu 24.04 | PASS | +------------------------------+--------------------+ | CentOS Stream 9 | PASS | +------------------------------+--------------------+ CentOS Stream 10 Kernel: 5.4 Compiler: gcc gcc (GCC) 14.2.1 20250110 (Red Hat 14.2.1-8) Red Hat Enterprise Linux 9.5 Kernel: 5.4 Compiler: gcc gcc (GCC) 11.5.0 20240719 (Red Hat 11.5.0-2) Ubuntu 20.04 Kernel: 5.15 Compiler: aarch64-linux-gnu-gcc gcc (Ubuntu 9.4.0-1ubuntu1~20.04.2) 9.4.0 Debian GNU/Linux 12 Kernel: 5.4 Compiler: gcc gcc (Debian 12.2.0-14+deb12u1) 12.2.0 Fedora Linux 42 Kernel: 5.4 Compiler: gcc gcc (GCC) 15.2.1 20250808 (Red Hat 15.2.1-1) Ubuntu 22.04 Kernel: 5.4 Compiler: gcc gcc (Ubuntu 11.4.0-1ubuntu1~22.04) 11.4.0 Ubuntu 24.04 Kernel: 5.4 Compiler: gcc gcc (Ubuntu 13.3.0-6ubuntu2~24.04) 13.3.0 CentOS Stream 9 Kernel: 5.4 Compiler: gcc gcc (GCC) 11.5.0 20240719 (Red Hat 11.5.0-11) To view detailed results, visit: https://lab.dpdk.org/results/dashboard/patchsets/34207/ UNH-IOL DPDK Community Lab To manage your email subscriptions, visit: https://lab.dpdk.org/results/dashboard/preferences/subscriptions/