From mboxrd@z Thu Jan 1 00:00:00 1970 Return-Path: Received: from mails.dpdk.org (mails.dpdk.org [217.70.189.124]) by inbox.dpdk.org (Postfix) with ESMTP id 89394488C8 for ; Mon, 6 Oct 2025 17:51:09 +0200 (CEST) Received: from mails.dpdk.org (localhost [127.0.0.1]) by mails.dpdk.org (Postfix) with ESMTP id 85218402AF; Mon, 6 Oct 2025 17:51:09 +0200 (CEST) Received: from mail-pl1-f225.google.com (mail-pl1-f225.google.com [209.85.214.225]) by mails.dpdk.org (Postfix) with ESMTP id 91EB6402AF for ; Mon, 6 Oct 2025 17:51:07 +0200 (CEST) Received: by mail-pl1-f225.google.com with SMTP id d9443c01a7336-27d2c35c459so36660025ad.0 for ; Mon, 06 Oct 2025 08:51:07 -0700 (PDT) DKIM-Signature: v=1; a=rsa-sha256; c=relaxed/relaxed; d=iol.unh.edu; s=unh-iol; t=1759765867; x=1760370667; darn=dpdk.org; h=references:in-reply-to:cc:to:from:subject:message-id:date:from:to :cc:subject:date:message-id:reply-to; bh=n4/eHrlLW8yezW00dKP3km6rQpUxwWmu8S6WG7g3kCI=; b=FxzNF9KiGUG1YBdxRXeo9WFuUJS0pgMsm5UGyjDVshbwi+w9BILyCF59YKoP7qyYRK IxYe8WpzZ5Hz1UmDGAQNf9Ux0Y4fX+ZuyaXSyrHQ/Axw7wuuBsFYgb98AxpW2mbgVcBq DcYduWT0M6MLCNHpicwj6kPmhh+5plB3i6FUM= X-Google-DKIM-Signature: v=1; a=rsa-sha256; c=relaxed/relaxed; d=1e100.net; s=20230601; t=1759765867; x=1760370667; h=references:in-reply-to:cc:to:from:subject:message-id:date :x-gm-message-state:from:to:cc:subject:date:message-id:reply-to; bh=n4/eHrlLW8yezW00dKP3km6rQpUxwWmu8S6WG7g3kCI=; b=ksyuix6WsQZwAgZlEBf5b7pS+2ORiElNox/IxLY0JzLAWaJtOsAwzmXviaWuBD71zP cO7WDzQvj/thMjlW2S8zvh1p21axmlm1eyJ6HTukdiF3+6a5wRPv+z7+Qe4kEo+29dtP 4vVhG1LROlSz8RjeJnXnMM0H939W7/s6IabpDPSroJzyuX5o9j7S8QnoopDxvjuKJO7x 1ZGEmTCnpmA7jwYUj5tJJy6hZ9aNoZz0JpHAbn51UJHUzKXHLiEiRm/+eGydQQQn8Nue qWuR1EGSrgFE7fI3OewKSR59ursarnRPz+rG61/Kap4jLerHPnFHTijEDbVIJabq3Qpi bsxQ== X-Gm-Message-State: AOJu0Yxefu5hVg08pQAZOQoA3w3cDbCGEZ85HRB6/9QrGzK96LCEeacD JZjdePyOz4GY8jgm3I9fmuxs1wjeJVXYnQPITFGF62GrWCjf3BMA/Hgup4j+0OUj9/NxBRoBOB6 zkBUH4ES0CfR4prmT9VX1nXm/CHSnLN+2zaNqwGijAFod X-Gm-Gg: ASbGncvtFDNHyEf6OdnY+SHIhTCINbdY0lhbu3Ua1ob68Da2TBJHH8RdEWAr4t4xl8S eIkXMauTx4ig+RIz76X8TEFzZc3ZcgwU4xEQD7+l0SwCXNheb+4StAf40dVDhOr2CFHamExvL6d ldWbUWBvmWNZrf/LDnXIA2jbJQyzXjsdazfPxgM/VTS2pKkIZoXeby8gJ14Fjqv2bIqmw8ID02K JBehvkBI1WaJE1jtopJIbaH98/v03XyaO55mhXbbLjbeGEszXjuM2RpGU1cuQSXAKyMV+IqyQmj 67ZQI/IRLI33tKNgJEKLdvnKPBsVkS2jVtLurFjhDLEMBxGYVhe7NAm/BHVWLWOMDa6cRtLHqpa f1w== X-Google-Smtp-Source: AGHT+IG7lgXPQhA6/QjfzD/YLJSm/2DbExnjy/M2qRsmF4lpjsmsGrdP4ZylkjZBPzkj1EPUc7CBHan6e4JF X-Received: by 2002:a17:902:f68d:b0:24c:7b94:2f87 with SMTP id d9443c01a7336-28e9a5fa15dmr186100415ad.14.1759765866761; Mon, 06 Oct 2025 08:51:06 -0700 (PDT) Received: from postal.iol.unh.edu (postal.iol.unh.edu. [132.177.123.84]) by smtp-relay.gmail.com with ESMTPS id d9443c01a7336-28e8d119a70sm9921665ad.16.2025.10.06.08.51.06 (version=TLS1_2 cipher=ECDHE-ECDSA-AES128-GCM-SHA256 bits=128/128); Mon, 06 Oct 2025 08:51:06 -0700 (PDT) X-Relaying-Domain: iol.unh.edu Date: Mon, 06 Oct 2025 08:51:06 -0700 (PDT) Message-ID: <68e3e56a.170a0220.1a7bf0.7de6SMTPIN_ADDED_MISSING@mx.google.com> Received: from [172.21.0.2] (unknown [172.18.0.240]) by postal.iol.unh.edu (Postfix) with ESMTP id 013D8604D420; Mon, 6 Oct 2025 11:51:06 -0400 (EDT) Subject: |SUCCESS| pw157260 [PATCH] ethdev: fix copy-paste error in fn parame From: dpdklab@iol.unh.edu To: Test Report Cc: dpdk-test-reports@iol.unh.edu, Stephen Hemminger In-Reply-To: <20251003110944.1594659-1-bruce.richardson@intel.com> References: <20251003110944.1594659-1-bruce.richardson@intel.com> Content-Type: text/plain X-BeenThere: test-report@dpdk.org X-Mailman-Version: 2.1.29 Precedence: list List-Id: automatic DPDK test reports List-Unsubscribe: , List-Archive: List-Post: List-Help: List-Subscribe: , Errors-To: test-report-bounces@dpdk.org Test-Label: iol-compile-arm64-testing Test-Status: SUCCESS http://dpdk.org/patch/157260 _Testing PASS_ Submitter: Bruce Richardson Date: Friday, October 03 2025 11:09:44 DPDK git baseline: Repo:dpdk-next-net Branch: master CommitID:c04bbd131b2c14b3049bf86d3ef367b34e6fdf1e 157260 --> testing pass Upstream job id: Generic-DPDK-Compile-Meson#431374 Test environment and result as below: +------------------------------+--------------------+ | Environment | dpdk_meson_compile | +==============================+====================+ | Red Hat Enterprise Linux 9.5 | PASS | +------------------------------+--------------------+ | Ubuntu 20.04 | PASS | +------------------------------+--------------------+ | Debian GNU/Linux 12 | PASS | +------------------------------+--------------------+ | Fedora Linux 42 | PASS | +------------------------------+--------------------+ | Ubuntu 22.04 | PASS | +------------------------------+--------------------+ | Ubuntu 24.04 | PASS | +------------------------------+--------------------+ | CentOS Stream 9 | PASS | +------------------------------+--------------------+ | CentOS Stream 10 | PASS | +------------------------------+--------------------+ Red Hat Enterprise Linux 9.5 Kernel: 5.4 Compiler: gcc gcc (GCC) 11.5.0 20240719 (Red Hat 11.5.0-2) Ubuntu 20.04 Kernel: 5.15 Compiler: aarch64-linux-gnu-gcc gcc (Ubuntu 9.4.0-1ubuntu1~20.04.2) 9.4.0 Debian GNU/Linux 12 Kernel: 5.4 Compiler: gcc gcc (Debian 12.2.0-14+deb12u1) 12.2.0 Fedora Linux 42 Kernel: 5.4 Compiler: gcc gcc (GCC) 15.2.1 20250808 (Red Hat 15.2.1-1) Ubuntu 22.04 Kernel: 5.4 Compiler: gcc gcc (Ubuntu 11.4.0-1ubuntu1~22.04) 11.4.0 Ubuntu 24.04 Kernel: 5.4 Compiler: gcc gcc (Ubuntu 13.3.0-6ubuntu2~24.04) 13.3.0 CentOS Stream 9 Kernel: 5.4 Compiler: gcc gcc (GCC) 11.5.0 20240719 (Red Hat 11.5.0-11) CentOS Stream 10 Kernel: 5.4 Compiler: gcc gcc (GCC) 14.2.1 20250110 (Red Hat 14.2.1-8) To view detailed results, visit: https://lab.dpdk.org/results/dashboard/patchsets/34208/ UNH-IOL DPDK Community Lab To manage your email subscriptions, visit: https://lab.dpdk.org/results/dashboard/preferences/subscriptions/