From mboxrd@z Thu Jan 1 00:00:00 1970 Return-Path: Received: from mails.dpdk.org (mails.dpdk.org [217.70.189.124]) by inbox.dpdk.org (Postfix) with ESMTP id 93706488C8 for ; Mon, 6 Oct 2025 17:51:16 +0200 (CEST) Received: from mails.dpdk.org (localhost [127.0.0.1]) by mails.dpdk.org (Postfix) with ESMTP id 8E9ED402AF; Mon, 6 Oct 2025 17:51:16 +0200 (CEST) Received: from mail-yw1-f227.google.com (mail-yw1-f227.google.com [209.85.128.227]) by mails.dpdk.org (Postfix) with ESMTP id C1DBC402AF for ; Mon, 6 Oct 2025 17:51:14 +0200 (CEST) Received: by mail-yw1-f227.google.com with SMTP id 00721157ae682-71d603b674aso54645107b3.1 for ; Mon, 06 Oct 2025 08:51:14 -0700 (PDT) DKIM-Signature: v=1; a=rsa-sha256; c=relaxed/relaxed; d=iol.unh.edu; s=unh-iol; t=1759765874; x=1760370674; darn=dpdk.org; h=references:in-reply-to:cc:to:from:subject:message-id:date:from:to :cc:subject:date:message-id:reply-to; bh=kp/oPdEPRvQx1SakCOR8LXZOdheQOclpp0cl4FzlPXA=; b=IDP7r0NnBVSdL0przZooovJxAY/ZwINxUwSHdpdrs6bX8WUpmqpHO6lFHBeFfafVxm zDrPPXaZwy9sTPsLJnj/gMzowiFWc8Fofa5Q854XHh+y9OTrdt8Sr2g8yeaGFqkCTGPX 5YmHuD2TX93oNDTgz9Es0F4C6CLYXWuq8foGU= X-Google-DKIM-Signature: v=1; a=rsa-sha256; c=relaxed/relaxed; d=1e100.net; s=20230601; t=1759765874; x=1760370674; h=references:in-reply-to:cc:to:from:subject:message-id:date :x-gm-message-state:from:to:cc:subject:date:message-id:reply-to; bh=kp/oPdEPRvQx1SakCOR8LXZOdheQOclpp0cl4FzlPXA=; b=O76zQaqgl6xSG9f+AVc35LZD0x/dSXIr2zJfxDTb9apqnBvGHsW9wAcgepb9RwkLHv K45otpKG+5HBIQ84cbSR9s95LDO8n44UqD8UpoflvoyvQ2DXGfL/5DWIp0fRbG197aXE Odt/dUmpny7dVnUhASAq95J9UzJfXK7yfIP95YX5bKUkCeBWH4HJKq7FxIvqyFw9Z7BW DLEWdlSOEYLyze2K35Zey9D+4rHmFZY0y+hQjBeMOvDNOYybG2IdkGEN+mD6f1wXDvcs WN7ebfmf7VVI9nuZ/G9rdHlecGi170Nsvl/4X2PzZQEBzhTxYiiV9vt3fzkNC4MO4d0R e0Mw== X-Gm-Message-State: AOJu0YxNNMwLPESYR2H8bGtquLKRFQha3ldfW8A1pzWa3c4+HDRAT6gZ GzHMUZf1iEbk/nYqQ1ayP/g9HF/Yu8zYJBVtBIK/g+sv9MyogP2/GAdQ9w/PlaT66tW+VrTD79f eVUb1dCPndGR58fep/FjP4z/iIck72cUYFIhoeBWHLoI3B0m3KL692frJFeub X-Gm-Gg: ASbGncs97wfh2JhlsV00Qk6CVvWVtSgvdBKQSoy6fWVNuEwfNS12Ciif8aGnm2ZF5Wg 6L2poUoGwCCiGkj9zUhaZZlbVfAd8K8BqGTR7KsuQUzZvwbbLeSSbWJncohHuGHDG41WiwX/VO2 hCf8y0uqIwTpCEQKSFBRm4ioRT9LNWjhFZ8a3zZtSVrZC862rzV+V/L9vrRQFYvb17umXFeXrSM MZlw1rkbvOXGSAmgntTGjyqY6efY6DLPr1LWSlj0uXcwaokzf7ZP+nfLQ1/YfbClHwa27qTUsEU /ZeRzq+kmW43BpkSGliqXoeLWfWJeupPlOdFto9d9aO85wYxLyRI1q0= X-Google-Smtp-Source: AGHT+IG7xNf2wRcIoslsXiL/iFgm/cGL86AS6YqGm7k/2oK3dXYL8Tyn9jKa2HnuWd9nrrM1FNswQTJTJnu/ X-Received: by 2002:a53:85c4:0:b0:635:4ed0:571b with SMTP id 956f58d0204a3-63b9a13bcb4mr10619275d50.53.1759765874167; Mon, 06 Oct 2025 08:51:14 -0700 (PDT) Received: from postal.iol.unh.edu (postal.iol.unh.edu. [2606:4100:3880:1234::84]) by smtp-relay.gmail.com with ESMTPS id 00721157ae682-77f81d27bb2sm6896067b3.29.2025.10.06.08.51.14 (version=TLS1_2 cipher=ECDHE-ECDSA-AES128-GCM-SHA256 bits=128/128); Mon, 06 Oct 2025 08:51:14 -0700 (PDT) X-Relaying-Domain: iol.unh.edu Date: Mon, 06 Oct 2025 08:51:14 -0700 (PDT) Message-ID: <68e3e572.050a0220.24e6d1.4b6dSMTPIN_ADDED_MISSING@mx.google.com> Received: from [172.21.0.2] (unknown [172.18.0.240]) by postal.iol.unh.edu (Postfix) with ESMTP id CB33E604D420; Mon, 6 Oct 2025 11:51:13 -0400 (EDT) Subject: |SUCCESS| pw157260 [PATCH] ethdev: fix copy-paste error in fn parame From: dpdklab@iol.unh.edu To: Test Report Cc: dpdk-test-reports@iol.unh.edu, Stephen Hemminger In-Reply-To: <20251003110944.1594659-1-bruce.richardson@intel.com> References: <20251003110944.1594659-1-bruce.richardson@intel.com> Content-Type: text/plain X-BeenThere: test-report@dpdk.org X-Mailman-Version: 2.1.29 Precedence: list List-Id: automatic DPDK test reports List-Unsubscribe: , List-Archive: List-Post: List-Help: List-Subscribe: , Errors-To: test-report-bounces@dpdk.org Test-Label: iol-compile-arm64-testing Test-Status: SUCCESS http://dpdk.org/patch/157260 _Testing PASS_ Submitter: Bruce Richardson Date: Friday, October 03 2025 11:09:44 DPDK git baseline: Repo:dpdk-next-net Branch: master CommitID:c04bbd131b2c14b3049bf86d3ef367b34e6fdf1e 157260 --> testing pass Upstream job id: Generic-DPDK-Compile-Meson#431376 Test environment and result as below: +------------------------------+--------------------+ | Environment | dpdk_meson_compile | +==============================+====================+ | Red Hat Enterprise Linux 9.5 | PASS | +------------------------------+--------------------+ | Ubuntu 20.04 | PASS | +------------------------------+--------------------+ | Debian GNU/Linux 12 | PASS | +------------------------------+--------------------+ | Fedora Linux 42 | PASS | +------------------------------+--------------------+ | Ubuntu 22.04 | PASS | +------------------------------+--------------------+ | Ubuntu 24.04 | PASS | +------------------------------+--------------------+ | CentOS Stream 9 | PASS | +------------------------------+--------------------+ | CentOS Stream 10 | PASS | +------------------------------+--------------------+ Red Hat Enterprise Linux 9.5 Kernel: 5.4 Compiler: gcc gcc (GCC) 11.5.0 20240719 (Red Hat 11.5.0-2) Ubuntu 20.04 Kernel: 5.15 Compiler: aarch64-linux-gnu-gcc gcc (Ubuntu 9.4.0-1ubuntu1~20.04.2) 9.4.0 Debian GNU/Linux 12 Kernel: 5.4 Compiler: gcc gcc (Debian 12.2.0-14+deb12u1) 12.2.0 Fedora Linux 42 Kernel: 5.4 Compiler: gcc gcc (GCC) 15.2.1 20250808 (Red Hat 15.2.1-1) Ubuntu 22.04 Kernel: 5.4 Compiler: gcc gcc (Ubuntu 11.4.0-1ubuntu1~22.04) 11.4.0 Ubuntu 24.04 Kernel: 5.4 Compiler: gcc gcc (Ubuntu 13.3.0-6ubuntu2~24.04) 13.3.0 CentOS Stream 9 Kernel: 5.4 Compiler: gcc gcc (GCC) 11.5.0 20240719 (Red Hat 11.5.0-11) CentOS Stream 10 Kernel: 5.4 Compiler: gcc gcc (GCC) 14.2.1 20250110 (Red Hat 14.2.1-8) To view detailed results, visit: https://lab.dpdk.org/results/dashboard/patchsets/34208/ UNH-IOL DPDK Community Lab To manage your email subscriptions, visit: https://lab.dpdk.org/results/dashboard/preferences/subscriptions/