From mboxrd@z Thu Jan 1 00:00:00 1970 Return-Path: Received: from mails.dpdk.org (mails.dpdk.org [217.70.189.124]) by inbox.dpdk.org (Postfix) with ESMTP id A34F4488C8 for ; Mon, 6 Oct 2025 17:51:24 +0200 (CEST) Received: from mails.dpdk.org (localhost [127.0.0.1]) by mails.dpdk.org (Postfix) with ESMTP id 9F4AE402AF; Mon, 6 Oct 2025 17:51:24 +0200 (CEST) Received: from mail-vk1-f226.google.com (mail-vk1-f226.google.com [209.85.221.226]) by mails.dpdk.org (Postfix) with ESMTP id 4397A402AF for ; Mon, 6 Oct 2025 17:51:24 +0200 (CEST) Received: by mail-vk1-f226.google.com with SMTP id 71dfb90a1353d-54a79cadd1fso3365428e0c.3 for ; Mon, 06 Oct 2025 08:51:24 -0700 (PDT) DKIM-Signature: v=1; a=rsa-sha256; c=relaxed/relaxed; d=iol.unh.edu; s=unh-iol; t=1759765883; x=1760370683; darn=dpdk.org; h=references:in-reply-to:cc:to:from:subject:message-id:date:from:to :cc:subject:date:message-id:reply-to; bh=tDgyZUq99dl2asxzMgs2BfgflAvXryW9hPLHp6o8wxA=; b=UPBI0XSxNg27lWWogJ1jOZZm+Se8XX8finpG4W2zg+fiz+uOTz3qjLKjQhud61/CY/ L3OcsimumArz8GkSNSp7EubxFwfXz4Lg5KpDKGzmyOYRA9hrA8z8N3owY0L7mhX6llmX iOf0GDAz8biKMHCeyWX0rLXw6X9jKGaUXCyB0= X-Google-DKIM-Signature: v=1; a=rsa-sha256; c=relaxed/relaxed; d=1e100.net; s=20230601; t=1759765883; x=1760370683; h=references:in-reply-to:cc:to:from:subject:message-id:date :x-gm-message-state:from:to:cc:subject:date:message-id:reply-to; bh=tDgyZUq99dl2asxzMgs2BfgflAvXryW9hPLHp6o8wxA=; b=sK9Dnc8Dle7kQWTC7CsqIZpSZxQU0lK3Wt684+NE+6De5au7ny15e1zhi6HkYyxmO1 6Pt6r0KIwj0p7hkGBeHZMZ+a6wZzW9SGXpL78JOKYy90AMOOZ3WvripSLrWH79ZnPSZs tLDe0PHYw8dHaY7mdCnzPdVVG+R6IAqKTyO0fVgFZbS9BGxoBfdKiAeRAWmEaKk4mlHB 2oYHbpeYYT4t09lcvG8FmAIPzY+bKz/uRdYvCh1eVZxPCBgqAVJkFKBetbtbvBDwXqUS yuaYTH4y+s1Dw1hdPoVY+1UNPdctimnT6yHZz9AYDfKPnSdIr2bPNkevRnAPmof3PIFD LPyA== X-Gm-Message-State: AOJu0Yzi02vMh03YJH2T3/7hB98oFq3lkWyn/Ak58/xoOdCQFeCz9lCn mT9+SkZKW43EDEvnGj4z+qewASrdmypIlIHKnwSGG+8Q4kJF/Azje1wzNiolAWIcGVvMVTuByk7 aHUz+8fg9Tp0p4LSHiDPYp07R3grnuvO95UvI5Iy+BBR7IUm8ERW077bPDJMO X-Gm-Gg: ASbGncsHIOkfuwwlbDuAzCo3De2EurCnYJF6oCCe8hd3fns8AYb1qFH3/zYkFRyTgpA aeQBfL6Qk1bhelvxaW+WRS0gEU4UA3nkpYJFUvh4WXPw0Ic7nVnI/dD2UJ5NEFiNPzi3d56v79o Jkn7IqgNpzBq7n7H05RtWSqOw5kxfOMd5MsuyxFPOGS5b+qhVgG9HF+n948sQc0Pf+8fSq8B1EG rNw8O7Cx2yhtQb2pptbcE/S1CSVB+YFYi6a3RPfsSmSi/qQqAdmbLIL7XCxRiBcp10C4PHZ1140 AjPTIBO0AD4fO9unDFUkyXZ/E2qYntWJR6Uh6TNkR81uv1Ugys1vSPM= X-Google-Smtp-Source: AGHT+IH4reTfauHe/SrlPJoRbrDmKkJ6qH5P8I0RnNHE1vsRECxJIeqWQM50kk+weSHSLuQlxavNtXuJ7EJj X-Received: by 2002:a05:6122:1da6:b0:544:a84d:d3ac with SMTP id 71dfb90a1353d-5524e8b26a3mr4407312e0c.5.1759765883628; Mon, 06 Oct 2025 08:51:23 -0700 (PDT) Received: from postal.iol.unh.edu (postal.iol.unh.edu. [2606:4100:3880:1234::84]) by smtp-relay.gmail.com with ESMTPS id 71dfb90a1353d-5523cf13fbesm1393691e0c.1.2025.10.06.08.51.23 (version=TLS1_2 cipher=ECDHE-ECDSA-AES128-GCM-SHA256 bits=128/128); Mon, 06 Oct 2025 08:51:23 -0700 (PDT) X-Relaying-Domain: iol.unh.edu Date: Mon, 06 Oct 2025 08:51:23 -0700 (PDT) Message-ID: <68e3e57b.050a0220.bf09.c396SMTPIN_ADDED_MISSING@mx.google.com> Received: from [172.21.0.3] (unknown [172.18.0.240]) by postal.iol.unh.edu (Postfix) with ESMTP id 54996604D420; Mon, 6 Oct 2025 11:51:23 -0400 (EDT) Subject: |SUCCESS| pw157260 [PATCH] ethdev: fix copy-paste error in fn parame From: dpdklab@iol.unh.edu To: Test Report Cc: dpdk-test-reports@iol.unh.edu, Stephen Hemminger In-Reply-To: <20251003110944.1594659-1-bruce.richardson@intel.com> References: <20251003110944.1594659-1-bruce.richardson@intel.com> Content-Type: text/plain X-BeenThere: test-report@dpdk.org X-Mailman-Version: 2.1.29 Precedence: list List-Id: automatic DPDK test reports List-Unsubscribe: , List-Archive: List-Post: List-Help: List-Subscribe: , Errors-To: test-report-bounces@dpdk.org Test-Label: iol-compile-arm64-testing Test-Status: SUCCESS http://dpdk.org/patch/157260 _Testing PASS_ Submitter: Bruce Richardson Date: Friday, October 03 2025 11:09:44 DPDK git baseline: Repo:dpdk-next-net Branch: master CommitID:c04bbd131b2c14b3049bf86d3ef367b34e6fdf1e 157260 --> testing pass Upstream job id: Generic-DPDK-Compile-Meson#431381 Test environment and result as below: +------------------------------+--------------------+ | Environment | dpdk_meson_compile | +==============================+====================+ | Red Hat Enterprise Linux 9.5 | PASS | +------------------------------+--------------------+ | Ubuntu 20.04 | PASS | +------------------------------+--------------------+ | Debian GNU/Linux 12 | PASS | +------------------------------+--------------------+ | Fedora Linux 42 | PASS | +------------------------------+--------------------+ | Ubuntu 22.04 | PASS | +------------------------------+--------------------+ | Ubuntu 24.04 | PASS | +------------------------------+--------------------+ | CentOS Stream 9 | PASS | +------------------------------+--------------------+ | CentOS Stream 10 | PASS | +------------------------------+--------------------+ Red Hat Enterprise Linux 9.5 Kernel: 5.4 Compiler: gcc gcc (GCC) 11.5.0 20240719 (Red Hat 11.5.0-2) Ubuntu 20.04 Kernel: 5.15 Compiler: aarch64-linux-gnu-gcc gcc (Ubuntu 9.4.0-1ubuntu1~20.04.2) 9.4.0 Debian GNU/Linux 12 Kernel: 5.4 Compiler: gcc gcc (Debian 12.2.0-14+deb12u1) 12.2.0 Fedora Linux 42 Kernel: 5.4 Compiler: gcc gcc (GCC) 15.2.1 20250808 (Red Hat 15.2.1-1) Ubuntu 22.04 Kernel: 5.4 Compiler: gcc gcc (Ubuntu 11.4.0-1ubuntu1~22.04) 11.4.0 Ubuntu 24.04 Kernel: 5.4 Compiler: gcc gcc (Ubuntu 13.3.0-6ubuntu2~24.04) 13.3.0 CentOS Stream 9 Kernel: 5.4 Compiler: gcc gcc (GCC) 11.5.0 20240719 (Red Hat 11.5.0-11) CentOS Stream 10 Kernel: 5.4 Compiler: gcc gcc (GCC) 14.2.1 20250110 (Red Hat 14.2.1-8) To view detailed results, visit: https://lab.dpdk.org/results/dashboard/patchsets/34208/ UNH-IOL DPDK Community Lab To manage your email subscriptions, visit: https://lab.dpdk.org/results/dashboard/preferences/subscriptions/