From mboxrd@z Thu Jan 1 00:00:00 1970 Return-Path: Received: from mails.dpdk.org (mails.dpdk.org [217.70.189.124]) by inbox.dpdk.org (Postfix) with ESMTP id 04FB4488C9 for ; Mon, 6 Oct 2025 18:19:16 +0200 (CEST) Received: from mails.dpdk.org (localhost [127.0.0.1]) by mails.dpdk.org (Postfix) with ESMTP id F23BA402AF; Mon, 6 Oct 2025 18:19:15 +0200 (CEST) Received: from mail-pl1-f227.google.com (mail-pl1-f227.google.com [209.85.214.227]) by mails.dpdk.org (Postfix) with ESMTP id D00F7402AF for ; Mon, 6 Oct 2025 18:19:14 +0200 (CEST) Received: by mail-pl1-f227.google.com with SMTP id d9443c01a7336-2897522a1dfso50341785ad.1 for ; Mon, 06 Oct 2025 09:19:14 -0700 (PDT) DKIM-Signature: v=1; a=rsa-sha256; c=relaxed/relaxed; d=iol.unh.edu; s=unh-iol; t=1759767554; x=1760372354; darn=dpdk.org; h=references:in-reply-to:cc:to:from:subject:message-id:date:from:to :cc:subject:date:message-id:reply-to; bh=en6P04nwOinsgFONja9FxD5ZP3K3F+LIh5ef4zva3go=; b=Wb2V7txqDDHFUyJsxQZBbk9+5fhf6mcjQ8jKhnJSK3u1JdJZ/LvMjfXUPk08Vzm5M/ U5ZO+GKZDDVVSD4txGEAi+5xoPsSt2I08vLzJfR2OmKLIa+2MJgLSWMoHRKDmiDVOFus XOpo7X81X6edJgP0y1lp8ijTTvIskZQ0lOP9U= X-Google-DKIM-Signature: v=1; a=rsa-sha256; c=relaxed/relaxed; d=1e100.net; s=20230601; t=1759767554; x=1760372354; h=references:in-reply-to:cc:to:from:subject:message-id:date :x-gm-message-state:from:to:cc:subject:date:message-id:reply-to; bh=en6P04nwOinsgFONja9FxD5ZP3K3F+LIh5ef4zva3go=; b=XogXSiDtOsJRHqQSqIgtPEMNnq3OIY6ZIUL3hGJuxJTm06oHGYcbMZ03T49AaYWd/0 /ftHNxsYtyfYiyUr+JrLf+4wkiC+jRJ/tPkAeD+M/hMcKWbNWAZh/mKYvpSav11VjSuh y30CPF4IiPM8KUCuK7NSDHNxoy2CRmNCNtQyy9HaspG7W95M2lcKKbqxj9foglviesYW lQJpBnId4XHhuAMGuJe43GXomY+AEGKgniwpLBueSQwMhQEyiwYrFqqXFCZjoh5Vsgny +2076wIZJc4NdsnnDkWzNorr8TyBrD8B+aTvIdMZpxnYDnEi5m/llqReT2guekNW3yIr f4Dw== X-Gm-Message-State: AOJu0YxMOavwYcS+tK5DzrFOSoxESwMhPg2eE4YIvLLhHq4Aseqg+LDM b5SKtnkEJhbAUTXD2yAxRmr1yo2WTxadQ3TQG+u62YASNuXmoCLijoTKmJMmnmf5ExUI6ETeYQi u16TVlmjoYX4SJhk1t3kLMI/7GB+M4ax07h/uNnpWQO8+3SBrmARH127+tMOW X-Gm-Gg: ASbGncsYSy993kRATfDl2TcgvCsvjCHJBhuGhd/mfPwB8SGdecyBBguZk5sjJiqQxZp on2PEvfi8rwYDw72KEb05JZteH2ek47OqzG4P42lK+bj4ENZCbIqPhYsZttC/GmS0ZT3y2VP3oq R4X0iHPDFy6Cs3UMrGivy65kQzGNyAgFvzXu5FKY13LLx6axIksd1P0D+ZlMmTVgb9fEE5MVtWC MgaAvj220ck1NCYk0QS9/EuF/YL3b5Ku4HaoWCo3TLVdd9RjgQx91DvuO7YH/lHLu/rpMsX3a9H QGMoxT9osKCgGcXg9vVuaPlVHts3QWMVb5P9Q7NdXeGk3sD623CXeZA= X-Google-Smtp-Source: AGHT+IGoB/O248amW2Lc3uWYpt/dBAbWiJjonzpiDmUIvUmOKy3cZSjowII+OEPw0LxwURRG7iQ6zpD0VUdj X-Received: by 2002:a17:903:2ecd:b0:28e:7f50:5d80 with SMTP id d9443c01a7336-28e9a513472mr136014545ad.7.1759767553987; Mon, 06 Oct 2025 09:19:13 -0700 (PDT) Received: from postal.iol.unh.edu (postal.iol.unh.edu. [2606:4100:3880:1234::84]) by smtp-relay.gmail.com with ESMTPS id d9443c01a7336-28e8d108780sm10338345ad.6.2025.10.06.09.19.13 (version=TLS1_2 cipher=ECDHE-ECDSA-AES128-GCM-SHA256 bits=128/128); Mon, 06 Oct 2025 09:19:13 -0700 (PDT) X-Relaying-Domain: iol.unh.edu Date: Mon, 06 Oct 2025 09:19:13 -0700 (PDT) Message-ID: <68e3ec01.170a0220.5b1fe.8fdfSMTPIN_ADDED_MISSING@mx.google.com> Received: from [172.21.0.2] (unknown [172.18.0.240]) by postal.iol.unh.edu (Postfix) with ESMTP id 6F5F86050A61; Mon, 6 Oct 2025 12:19:13 -0400 (EDT) Subject: |SUCCESS| pw157266-157267 [PATCH] [v2,3/3] app/compress-perf: suppor From: dpdklab@iol.unh.edu To: Test Report Cc: dpdk-test-reports@iol.unh.edu, Akhil Goyal In-Reply-To: <20251003165132.3201643-3-svaze@qti.qualcomm.com> References: <20251003165132.3201643-3-svaze@qti.qualcomm.com> Content-Type: text/plain X-BeenThere: test-report@dpdk.org X-Mailman-Version: 2.1.29 Precedence: list List-Id: automatic DPDK test reports List-Unsubscribe: , List-Archive: List-Post: List-Help: List-Subscribe: , Errors-To: test-report-bounces@dpdk.org Test-Label: iol-compile-amd64-testing Test-Status: SUCCESS http://dpdk.org/patch/157267 _Testing PASS_ Submitter: Sameer Vaze Date: Friday, October 03 2025 16:51:32 DPDK git baseline: Repo:dpdk-next-crypto Branch: master CommitID:caa17cb4b057a31ee04067459fe543f7d7ae1079 157266-157267 --> testing pass Upstream job id: Generic-DPDK-Compile-Meson#431454 Test environment and result as below: +-------------------------------+--------------------+-------------------------+-------------------+----------------------+-------------------+------------------+ | Environment | dpdk_meson_compile | dpdk_llvm_clang_compile | dpdk_msvc_compile | dpdk_mingw64_compile | dpdk_compile_spdk | dpdk_compile_ovs | +===============================+====================+=========================+===================+======================+===================+==================+ | Ubuntu 20.04 | PASS | SKIPPED | SKIPPED | SKIPPED | SKIPPED | SKIPPED | +-------------------------------+--------------------+-------------------------+-------------------+----------------------+-------------------+------------------+ | FreeBSD 14.2 | PASS | SKIPPED | SKIPPED | SKIPPED | SKIPPED | SKIPPED | +-------------------------------+--------------------+-------------------------+-------------------+----------------------+-------------------+------------------+ | CentOS Stream 9 | PASS | SKIPPED | SKIPPED | SKIPPED | PASS | SKIPPED | +-------------------------------+--------------------+-------------------------+-------------------+----------------------+-------------------+------------------+ | CentOS Stream 10 | PASS | SKIPPED | SKIPPED | SKIPPED | SKIPPED | SKIPPED | +-------------------------------+--------------------+-------------------------+-------------------+----------------------+-------------------+------------------+ | Debian GNU/Linux 12 | PASS | SKIPPED | SKIPPED | SKIPPED | PASS | SKIPPED | +-------------------------------+--------------------+-------------------------+-------------------+----------------------+-------------------+------------------+ | Fedora Linux 42 | PASS | SKIPPED | SKIPPED | SKIPPED | PASS | PASS | +-------------------------------+--------------------+-------------------------+-------------------+----------------------+-------------------+------------------+ | openSUSE Leap 15.6 | PASS | SKIPPED | SKIPPED | SKIPPED | SKIPPED | SKIPPED | +-------------------------------+--------------------+-------------------------+-------------------+----------------------+-------------------+------------------+ | Red Hat Enterprise Linux 8.10 | PASS | SKIPPED | SKIPPED | SKIPPED | SKIPPED | SKIPPED | +-------------------------------+--------------------+-------------------------+-------------------+----------------------+-------------------+------------------+ | Red Hat Enterprise Linux 9.5 | PASS | SKIPPED | SKIPPED | SKIPPED | SKIPPED | SKIPPED | +-------------------------------+--------------------+-------------------------+-------------------+----------------------+-------------------+------------------+ | Ubuntu 22.04 | PASS | SKIPPED | SKIPPED | SKIPPED | PASS | SKIPPED | +-------------------------------+--------------------+-------------------------+-------------------+----------------------+-------------------+------------------+ | Ubuntu 24.04 | PASS | SKIPPED | SKIPPED | SKIPPED | PASS | PASS | +-------------------------------+--------------------+-------------------------+-------------------+----------------------+-------------------+------------------+ | Alpine Linux 3.22.0 | PASS | SKIPPED | SKIPPED | SKIPPED | SKIPPED | SKIPPED | +-------------------------------+--------------------+-------------------------+-------------------+----------------------+-------------------+------------------+ | Windows Server 2022 | SKIPPED | PASS | PASS | PASS | SKIPPED | SKIPPED | +-------------------------------+--------------------+-------------------------+-------------------+----------------------+-------------------+------------------+ Ubuntu 20.04 Kernel: 4.19 Compiler: gcc gcc (Ubuntu 9.4.0-1ubuntu1~20.04.2) 9.4.0 FreeBSD 14.2 Kernel: 14.2-RELEASE Compiler: clang 18.1.6 CentOS Stream 9 Kernel: 5.15 Compiler: gcc gcc (GCC) 11.5.0 20240719 (Red Hat 11.5.0-11) CentOS Stream 10 Kernel: 5.15 Compiler: gcc gcc (GCC) 14.2.1 20250110 (Red Hat 14.2.1-8) Debian GNU/Linux 12 Kernel: 5.15 Compiler: gcc gcc (Debian 12.2.0-14+deb12u1) 12.2.0 Fedora Linux 42 Kernel: 5.15 Compiler: clang gcc (GCC) 15.2.1 20250808 (Red Hat 15.2.1-1) openSUSE Leap 15.6 Kernel: 5.15 Compiler: gcc gcc (SUSE Linux) 7.5.0 Red Hat Enterprise Linux 8.10 Kernel: 5.15 Compiler: gcc gcc (GCC) 8.5.0 20210514 (Red Hat 8.5.0-22) Red Hat Enterprise Linux 9.5 Kernel: 5.15 Compiler: gcc gcc (GCC) 11.5.0 20240719 (Red Hat 11.5.0-2) Ubuntu 22.04 Kernel: 5.15 Compiler: gcc gcc (Ubuntu 11.4.0-1ubuntu1~22.04) 11.4.0 Ubuntu 24.04 Kernel: 5.15 Compiler: gcc gcc (Ubuntu 13.3.0-6ubuntu2~24.04) 13.3.0 Alpine Linux 3.22.0 Kernel: 5.15 Compiler: gcc gcc (Alpine 14.2.0) 14.2.0 Windows Server 2022 Kernel: 10.0.20348.2031 Compiler: clang 15.0.7, gcc 14.1.0 (MinGW), and MSVC VS 19.39.33521 To view detailed results, visit: https://lab.dpdk.org/results/dashboard/patchsets/34212/ UNH-IOL DPDK Community Lab To manage your email subscriptions, visit: https://lab.dpdk.org/results/dashboard/preferences/subscriptions/