From mboxrd@z Thu Jan 1 00:00:00 1970 Return-Path: Received: from mails.dpdk.org (mails.dpdk.org [217.70.189.124]) by inbox.dpdk.org (Postfix) with ESMTP id 153D5488C9 for ; Mon, 6 Oct 2025 18:19:28 +0200 (CEST) Received: from mails.dpdk.org (localhost [127.0.0.1]) by mails.dpdk.org (Postfix) with ESMTP id 0E31B402AF; Mon, 6 Oct 2025 18:19:28 +0200 (CEST) Received: from mail-yw1-f228.google.com (mail-yw1-f228.google.com [209.85.128.228]) by mails.dpdk.org (Postfix) with ESMTP id BD499402AF for ; Mon, 6 Oct 2025 18:19:26 +0200 (CEST) Received: by mail-yw1-f228.google.com with SMTP id 00721157ae682-77fac63ba26so25700777b3.3 for ; Mon, 06 Oct 2025 09:19:26 -0700 (PDT) DKIM-Signature: v=1; a=rsa-sha256; c=relaxed/relaxed; d=iol.unh.edu; s=unh-iol; t=1759767566; x=1760372366; darn=dpdk.org; h=references:in-reply-to:cc:to:from:subject:message-id:date:from:to :cc:subject:date:message-id:reply-to; bh=6IdFYB23UPPylUS6N/AC68B32Y46ETV7Z22vDXOt8zw=; b=Cjkc9qE7i/6vmdeD0q0qGddYGw/kMDj/3dKJ3r3VxLzt83GBXGmo4tVFBjS9krSW+8 raJnsHwnJbuaDE9VM6w/9NLlw0830t/GN+94cWjgpRF7zbAonzM1d/r3TGSNdhp+G2Dc vWcuqC+TVKUpxypbjYl34vHRtF0vgwVpLLvKE= X-Google-DKIM-Signature: v=1; a=rsa-sha256; c=relaxed/relaxed; d=1e100.net; s=20230601; t=1759767566; x=1760372366; h=references:in-reply-to:cc:to:from:subject:message-id:date :x-gm-message-state:from:to:cc:subject:date:message-id:reply-to; bh=6IdFYB23UPPylUS6N/AC68B32Y46ETV7Z22vDXOt8zw=; b=wYfTdjndHxjSBw7XTrbZYHHwegr8K8meCxXDJqTo9OkAy2I9n9o57ZXQhecuylwn1u FCx5B/AIJHtBRRQE6vRSD7BOrLjYoqkdfQ+Ot1F6JjmVfr9KRy3i8TesdNpkVNyz1IXf qw/n2tHpUkw8X60GrzKFSi5760HIkptghKqQvEEveOI0Cz4L1SWOU6948WW9VekGnLpo T3SnZMejAQDG24xV84P3rLuc2THhUAbZLwG3sZmgUqJGddAKCUzDklnS7QlSUOZWYu+9 H3B4Ri+Ty2Zz7jAc4YByE9w6a+9WFTK/HCT4UDRNR2JJmkemP5/C7AROzfELGG8Np1hT yZPw== X-Gm-Message-State: AOJu0Yx44ktbphpf6rjlTegNZFcWDU3vpQ8ENyaQAZ6YHoqQty0pxQoL 4rt/rIyPHAYeWu7TmG50Wrm4lAFlLImbk4RYC+4PiStG1aMc+zlP9z1RO1yRkF9ZYMe0+HO6CrI IyvaeAAGbUn0eYfB5CvWhRt1oNciH3ejaDxwybykLz5bybKPb9+nV2FwJB+86 X-Gm-Gg: ASbGncuNlAdFH9JTceVJCc+3v3zc7wUdACvSd0aIDc1+C8F/y7lU5/7YvZxhvsRAy4C tCX6y+Dte3+NqhM66xr/Cq3rHSvoDK2QaSm08oac+Jt6XryyP7nmRKkY1vYzbtfdTWgcytIdaRa 7MOfZnWJUbJdHMM+qb8RtwkX6vwV+kohymdLpW1Eld1frZq+ZCqMPMRjmIWtbefE2C9Ctk10Mhf fcdYCSAH2intzeqr5Xhwv1pHhVr1RqX/j8xLKGgh53Q6hIWDoBp1esTpjybxi90WMl6zQuLRrBJ DXHvJRHYeYvrE9/eHoV4DlmDavrJd1ZZhcTwZzuIBFNbz7QvN1LaV/c= X-Google-Smtp-Source: AGHT+IH3NMMvgVFCGdp2VbJ90Cg2DrIGsRYkXAKiEv5OgmK1wASSWj6gbjyusqGtQYNxgXCDwHa5dywckl9S X-Received: by 2002:a05:690c:f8f:b0:731:76db:a5e0 with SMTP id 00721157ae682-77f946a89e6mr169572687b3.25.1759767565516; Mon, 06 Oct 2025 09:19:25 -0700 (PDT) Received: from postal.iol.unh.edu (postal.iol.unh.edu. [2606:4100:3880:1234::84]) by smtp-relay.gmail.com with ESMTPS id 00721157ae682-77f81d2d3b8sm7093747b3.34.2025.10.06.09.19.25 (version=TLS1_2 cipher=ECDHE-ECDSA-AES128-GCM-SHA256 bits=128/128); Mon, 06 Oct 2025 09:19:25 -0700 (PDT) X-Relaying-Domain: iol.unh.edu Date: Mon, 06 Oct 2025 09:19:25 -0700 (PDT) Message-ID: <68e3ec0d.050a0220.23ef7c.6239SMTPIN_ADDED_MISSING@mx.google.com> Received: from [172.21.0.2] (unknown [172.18.0.240]) by postal.iol.unh.edu (Postfix) with ESMTP id 31380604D420; Mon, 6 Oct 2025 12:19:25 -0400 (EDT) Subject: |SUCCESS| pw157266-157267 [PATCH] [v2,3/3] app/compress-perf: suppor From: dpdklab@iol.unh.edu To: Test Report Cc: dpdk-test-reports@iol.unh.edu, Akhil Goyal In-Reply-To: <20251003165132.3201643-3-svaze@qti.qualcomm.com> References: <20251003165132.3201643-3-svaze@qti.qualcomm.com> Content-Type: text/plain X-BeenThere: test-report@dpdk.org X-Mailman-Version: 2.1.29 Precedence: list List-Id: automatic DPDK test reports List-Unsubscribe: , List-Archive: List-Post: List-Help: List-Subscribe: , Errors-To: test-report-bounces@dpdk.org Test-Label: iol-compile-amd64-testing Test-Status: SUCCESS http://dpdk.org/patch/157267 _Testing PASS_ Submitter: Sameer Vaze Date: Friday, October 03 2025 16:51:32 DPDK git baseline: Repo:dpdk-next-crypto Branch: master CommitID:caa17cb4b057a31ee04067459fe543f7d7ae1079 157266-157267 --> testing pass Upstream job id: Generic-DPDK-Compile-Meson#431462 Test environment and result as below: +-------------------------------+--------------------+-------------------------+-------------------+----------------------+-------------------+------------------+ | Environment | dpdk_meson_compile | dpdk_llvm_clang_compile | dpdk_msvc_compile | dpdk_mingw64_compile | dpdk_compile_spdk | dpdk_compile_ovs | +===============================+====================+=========================+===================+======================+===================+==================+ | Ubuntu 20.04 | PASS | SKIPPED | SKIPPED | SKIPPED | SKIPPED | SKIPPED | +-------------------------------+--------------------+-------------------------+-------------------+----------------------+-------------------+------------------+ | FreeBSD 14.2 | PASS | SKIPPED | SKIPPED | SKIPPED | SKIPPED | SKIPPED | +-------------------------------+--------------------+-------------------------+-------------------+----------------------+-------------------+------------------+ | CentOS Stream 9 | PASS | SKIPPED | SKIPPED | SKIPPED | PASS | SKIPPED | +-------------------------------+--------------------+-------------------------+-------------------+----------------------+-------------------+------------------+ | CentOS Stream 10 | PASS | SKIPPED | SKIPPED | SKIPPED | SKIPPED | SKIPPED | +-------------------------------+--------------------+-------------------------+-------------------+----------------------+-------------------+------------------+ | Debian GNU/Linux 12 | PASS | SKIPPED | SKIPPED | SKIPPED | PASS | SKIPPED | +-------------------------------+--------------------+-------------------------+-------------------+----------------------+-------------------+------------------+ | Fedora Linux 42 | PASS | SKIPPED | SKIPPED | SKIPPED | PASS | PASS | +-------------------------------+--------------------+-------------------------+-------------------+----------------------+-------------------+------------------+ | openSUSE Leap 15.6 | PASS | SKIPPED | SKIPPED | SKIPPED | SKIPPED | SKIPPED | +-------------------------------+--------------------+-------------------------+-------------------+----------------------+-------------------+------------------+ | Red Hat Enterprise Linux 8.10 | PASS | SKIPPED | SKIPPED | SKIPPED | SKIPPED | SKIPPED | +-------------------------------+--------------------+-------------------------+-------------------+----------------------+-------------------+------------------+ | Red Hat Enterprise Linux 9.5 | PASS | SKIPPED | SKIPPED | SKIPPED | SKIPPED | SKIPPED | +-------------------------------+--------------------+-------------------------+-------------------+----------------------+-------------------+------------------+ | Ubuntu 22.04 | PASS | SKIPPED | SKIPPED | SKIPPED | PASS | SKIPPED | +-------------------------------+--------------------+-------------------------+-------------------+----------------------+-------------------+------------------+ | Ubuntu 24.04 | PASS | SKIPPED | SKIPPED | SKIPPED | PASS | PASS | +-------------------------------+--------------------+-------------------------+-------------------+----------------------+-------------------+------------------+ | Alpine Linux 3.22.0 | PASS | SKIPPED | SKIPPED | SKIPPED | SKIPPED | SKIPPED | +-------------------------------+--------------------+-------------------------+-------------------+----------------------+-------------------+------------------+ | Windows Server 2022 | SKIPPED | PASS | PASS | PASS | SKIPPED | SKIPPED | +-------------------------------+--------------------+-------------------------+-------------------+----------------------+-------------------+------------------+ Ubuntu 20.04 Kernel: 4.19 Compiler: gcc gcc (Ubuntu 9.4.0-1ubuntu1~20.04.2) 9.4.0 FreeBSD 14.2 Kernel: 14.2-RELEASE Compiler: clang 18.1.6 CentOS Stream 9 Kernel: 5.15 Compiler: gcc gcc (GCC) 11.5.0 20240719 (Red Hat 11.5.0-11) CentOS Stream 10 Kernel: 5.15 Compiler: gcc gcc (GCC) 14.2.1 20250110 (Red Hat 14.2.1-8) Debian GNU/Linux 12 Kernel: 5.15 Compiler: gcc gcc (Debian 12.2.0-14+deb12u1) 12.2.0 Fedora Linux 42 Kernel: 5.15 Compiler: clang gcc (GCC) 15.2.1 20250808 (Red Hat 15.2.1-1) openSUSE Leap 15.6 Kernel: 5.15 Compiler: gcc gcc (SUSE Linux) 7.5.0 Red Hat Enterprise Linux 8.10 Kernel: 5.15 Compiler: gcc gcc (GCC) 8.5.0 20210514 (Red Hat 8.5.0-22) Red Hat Enterprise Linux 9.5 Kernel: 5.15 Compiler: gcc gcc (GCC) 11.5.0 20240719 (Red Hat 11.5.0-2) Ubuntu 22.04 Kernel: 5.15 Compiler: gcc gcc (Ubuntu 11.4.0-1ubuntu1~22.04) 11.4.0 Ubuntu 24.04 Kernel: 5.15 Compiler: gcc gcc (Ubuntu 13.3.0-6ubuntu2~24.04) 13.3.0 Alpine Linux 3.22.0 Kernel: 5.15 Compiler: gcc gcc (Alpine 14.2.0) 14.2.0 Windows Server 2022 Kernel: 10.0.20348.2031 Compiler: clang 15.0.7, gcc 14.1.0 (MinGW), and MSVC VS 19.39.33521 To view detailed results, visit: https://lab.dpdk.org/results/dashboard/patchsets/34212/ UNH-IOL DPDK Community Lab To manage your email subscriptions, visit: https://lab.dpdk.org/results/dashboard/preferences/subscriptions/