From mboxrd@z Thu Jan 1 00:00:00 1970 Return-Path: Received: from mails.dpdk.org (mails.dpdk.org [217.70.189.124]) by inbox.dpdk.org (Postfix) with ESMTP id 2B2AB488C9 for ; Mon, 6 Oct 2025 19:04:39 +0200 (CEST) Received: from mails.dpdk.org (localhost [127.0.0.1]) by mails.dpdk.org (Postfix) with ESMTP id 248CF402AF; Mon, 6 Oct 2025 19:04:39 +0200 (CEST) Received: from mail-io1-f98.google.com (mail-io1-f98.google.com [209.85.166.98]) by mails.dpdk.org (Postfix) with ESMTP id 4C878402AF for ; Mon, 6 Oct 2025 19:04:38 +0200 (CEST) Received: by mail-io1-f98.google.com with SMTP id ca18e2360f4ac-91f6ccdbfc8so288675139f.1 for ; Mon, 06 Oct 2025 10:04:38 -0700 (PDT) DKIM-Signature: v=1; a=rsa-sha256; c=relaxed/relaxed; d=iol.unh.edu; s=unh-iol; t=1759770277; x=1760375077; darn=dpdk.org; h=references:in-reply-to:cc:to:from:subject:message-id:date:from:to :cc:subject:date:message-id:reply-to; bh=7jPRDu4APrSa4iauYM0eaSPmO+y9p08pp6dB0pQOC/c=; b=ZSmRM1UTxuVUBU7dHDZwx9u54rjllrkwyF4BoK+9U7sKIzqfN2zDHH0E/xcMZhSk/1 ws+7fvlVw0oQzxrPib4F6VDpDDGibDtJNVuY+IwX4/HAZvk0+6FWDer/6v2gXTrvDT4p iGma0VtZYcRxOb6RRaLmUsqkGt0EAsFSBiXC4= X-Google-DKIM-Signature: v=1; a=rsa-sha256; c=relaxed/relaxed; d=1e100.net; s=20230601; t=1759770277; x=1760375077; h=references:in-reply-to:cc:to:from:subject:message-id:date :x-gm-message-state:from:to:cc:subject:date:message-id:reply-to; bh=7jPRDu4APrSa4iauYM0eaSPmO+y9p08pp6dB0pQOC/c=; b=W6O23i5dEtIwK4FO3EGCCYSepqRvT8G7gwv6EQVg7WRuOtl8tlLeYGYSmM1urvqQrG 6knW9JqzY3ShCqyExfflmkl5G8Mja9s8vHBIbO7K3MP1Evt6g/A5dswiR3X87KWmjqhY 9jL6DNvF1aeQUqNenr06CI2mU9auRXNu2QIlMhD1gpNBU+0DsV0JL+rPfYPuxUqUpZS3 8sc01fLq4NJndzVJ76JoWqJhHZ27vCvo2dwIgrvuE9Z0FYHDzfksHicLq1dm4kD3XESK eoFqHXxD/YrPjBErHayou8Ww5qK1WrpXa0sTwBlMaomHQh5S6fonFJtlS4fQBDeKSbCh CHxQ== X-Gm-Message-State: AOJu0YwVs7ZF5skzG7l9UkrEv+y6Gu7dqqid8KzDw3px6g7RpdCSbcvg Z75HypxBV6sfsMV2BUPqhli1csaj33hPMp6NeQxRBhaKNv39t+8Vlua/v9YDt/xj7o/krrk3o7c qzvJ0zHDP1uDT0dgNVS6CBYRhICE9rbJugHPIUHDQM64I X-Gm-Gg: ASbGncvvkzCmj0zKlLTCtkFncoc8PdZYhOy9NSeyZbsvyFQw1+9kjRMe9BNpXeiXobx 5uIXuEuaPN8izjNoSn06uspgeTTA3Z62tcl78HxAPq4HLPs9IA4gxfAoODIApm+ZBj4c33dY2KX c45tyNHpYjMLcsxpxXvs04hfa0FRkeME8zQ5Yt8bFkLjguJW/b9FtGAa4eoZHundv+8YWse7i+9 WEET2DXeXAnAC247NjKa7eJOaMlYHXrVWlVcSIyentzdun61On1++sybREesXj97MuRVogvakEh JMBFS6T6sJ+qgt4pnjLEV9G9Ox/e+NuT6HEF/lkc5ruNoIX8sr0zmcs3xCQ0G0i4i0zuhYnjhxh kYA== X-Google-Smtp-Source: AGHT+IHnclxtxj/cbv4lhJddRGMSjmlRMj33CjziK9KY/rKB2mD3u8r/OXJ9WEcS11PVBhXc14TezplPwNjO X-Received: by 2002:a05:6e02:318c:b0:427:7824:4940 with SMTP id e9e14a558f8ab-42e7ad04b99mr195487975ab.2.1759770277347; Mon, 06 Oct 2025 10:04:37 -0700 (PDT) Received: from postal.iol.unh.edu (postal.iol.unh.edu. [132.177.123.84]) by smtp-relay.gmail.com with ESMTPS id 8926c6da1cb9f-57b5ed26af3sm1114672173.32.2025.10.06.10.04.37 (version=TLS1_2 cipher=ECDHE-ECDSA-AES128-GCM-SHA256 bits=128/128); Mon, 06 Oct 2025 10:04:37 -0700 (PDT) X-Relaying-Domain: iol.unh.edu Date: Mon, 06 Oct 2025 10:04:37 -0700 (PDT) Message-ID: <68e3f6a5.050a0220.3c3297.ff09SMTPIN_ADDED_MISSING@mx.google.com> Received: from [172.21.0.2] (unknown [172.18.0.240]) by postal.iol.unh.edu (Postfix) with ESMTP id F2EB76051830; Mon, 6 Oct 2025 13:04:36 -0400 (EDT) Subject: |SUCCESS| pw157268-157269 [PATCH] [v2,2/2] dts: add virtio forwardin From: dpdklab@iol.unh.edu To: Test Report Cc: dpdk-test-reports@iol.unh.edu In-Reply-To: <20251003192717.444490-2-dmarx@iol.unh.edu> References: <20251003192717.444490-2-dmarx@iol.unh.edu> Content-Type: text/plain X-BeenThere: test-report@dpdk.org X-Mailman-Version: 2.1.29 Precedence: list List-Id: automatic DPDK test reports List-Unsubscribe: , List-Archive: List-Post: List-Help: List-Subscribe: , Errors-To: test-report-bounces@dpdk.org Test-Label: iol-compile-amd64-testing Test-Status: SUCCESS http://dpdk.org/patch/157269 _Testing PASS_ Submitter: Dean Marx Date: Friday, October 03 2025 19:27:16 DPDK git baseline: Repo:dpdk-next-dts Branch: master CommitID:b71d7bdf2b663f9fedc1d344b81a8cf65518026c 157268-157269 --> testing pass Upstream job id: Generic-DPDK-Compile-Meson#431466 Test environment and result as below: +-------------------------------+--------------------+-------------------------+-------------------+----------------------+-------------------+------------------+ | Environment | dpdk_meson_compile | dpdk_llvm_clang_compile | dpdk_msvc_compile | dpdk_mingw64_compile | dpdk_compile_spdk | dpdk_compile_ovs | +===============================+====================+=========================+===================+======================+===================+==================+ | Ubuntu 20.04 | PASS | SKIPPED | SKIPPED | SKIPPED | SKIPPED | SKIPPED | +-------------------------------+--------------------+-------------------------+-------------------+----------------------+-------------------+------------------+ | FreeBSD 14.2 | PASS | SKIPPED | SKIPPED | SKIPPED | SKIPPED | SKIPPED | +-------------------------------+--------------------+-------------------------+-------------------+----------------------+-------------------+------------------+ | CentOS Stream 9 | PASS | SKIPPED | SKIPPED | SKIPPED | PASS | SKIPPED | +-------------------------------+--------------------+-------------------------+-------------------+----------------------+-------------------+------------------+ | CentOS Stream 10 | PASS | SKIPPED | SKIPPED | SKIPPED | SKIPPED | SKIPPED | +-------------------------------+--------------------+-------------------------+-------------------+----------------------+-------------------+------------------+ | Debian GNU/Linux 12 | PASS | SKIPPED | SKIPPED | SKIPPED | PASS | SKIPPED | +-------------------------------+--------------------+-------------------------+-------------------+----------------------+-------------------+------------------+ | Fedora Linux 42 | PASS | SKIPPED | SKIPPED | SKIPPED | PASS | PASS | +-------------------------------+--------------------+-------------------------+-------------------+----------------------+-------------------+------------------+ | openSUSE Leap 15.6 | PASS | SKIPPED | SKIPPED | SKIPPED | SKIPPED | SKIPPED | +-------------------------------+--------------------+-------------------------+-------------------+----------------------+-------------------+------------------+ | Red Hat Enterprise Linux 8.10 | PASS | SKIPPED | SKIPPED | SKIPPED | SKIPPED | SKIPPED | +-------------------------------+--------------------+-------------------------+-------------------+----------------------+-------------------+------------------+ | Red Hat Enterprise Linux 9.5 | PASS | SKIPPED | SKIPPED | SKIPPED | SKIPPED | SKIPPED | +-------------------------------+--------------------+-------------------------+-------------------+----------------------+-------------------+------------------+ | Ubuntu 22.04 | PASS | SKIPPED | SKIPPED | SKIPPED | PASS | SKIPPED | +-------------------------------+--------------------+-------------------------+-------------------+----------------------+-------------------+------------------+ | Ubuntu 24.04 | PASS | SKIPPED | SKIPPED | SKIPPED | PASS | PASS | +-------------------------------+--------------------+-------------------------+-------------------+----------------------+-------------------+------------------+ | Alpine Linux 3.22.0 | PASS | SKIPPED | SKIPPED | SKIPPED | SKIPPED | SKIPPED | +-------------------------------+--------------------+-------------------------+-------------------+----------------------+-------------------+------------------+ | Windows Server 2022 | SKIPPED | PASS | PASS | PASS | SKIPPED | SKIPPED | +-------------------------------+--------------------+-------------------------+-------------------+----------------------+-------------------+------------------+ Ubuntu 20.04 Kernel: 4.19 Compiler: gcc gcc (Ubuntu 9.4.0-1ubuntu1~20.04.2) 9.4.0 FreeBSD 14.2 Kernel: 14.2-RELEASE Compiler: clang 18.1.6 CentOS Stream 9 Kernel: 5.15 Compiler: gcc gcc (GCC) 11.5.0 20240719 (Red Hat 11.5.0-11) CentOS Stream 10 Kernel: 5.15 Compiler: gcc gcc (GCC) 14.2.1 20250110 (Red Hat 14.2.1-8) Debian GNU/Linux 12 Kernel: 5.15 Compiler: gcc gcc (Debian 12.2.0-14+deb12u1) 12.2.0 Fedora Linux 42 Kernel: 5.15 Compiler: clang gcc (GCC) 15.2.1 20250808 (Red Hat 15.2.1-1) openSUSE Leap 15.6 Kernel: 5.15 Compiler: gcc gcc (SUSE Linux) 7.5.0 Red Hat Enterprise Linux 8.10 Kernel: 5.15 Compiler: gcc gcc (GCC) 8.5.0 20210514 (Red Hat 8.5.0-22) Red Hat Enterprise Linux 9.5 Kernel: 5.15 Compiler: gcc gcc (GCC) 11.5.0 20240719 (Red Hat 11.5.0-2) Ubuntu 22.04 Kernel: 5.15 Compiler: gcc gcc (Ubuntu 11.4.0-1ubuntu1~22.04) 11.4.0 Ubuntu 24.04 Kernel: 5.15 Compiler: gcc gcc (Ubuntu 13.3.0-6ubuntu2~24.04) 13.3.0 Alpine Linux 3.22.0 Kernel: 5.15 Compiler: gcc gcc (Alpine 14.2.0) 14.2.0 Windows Server 2022 Kernel: 10.0.20348.2031 Compiler: clang 15.0.7, gcc 14.1.0 (MinGW), and MSVC VS 19.39.33521 To view detailed results, visit: https://lab.dpdk.org/results/dashboard/patchsets/34213/ UNH-IOL DPDK Community Lab To manage your email subscriptions, visit: https://lab.dpdk.org/results/dashboard/preferences/subscriptions/