From: dpdklab@iol.unh.edu
To: Test Report <test-report@dpdk.org>
Cc: dpdk-test-reports@iol.unh.edu, Jerin Jacob <jerinj@marvell.com>
Subject: |SUCCESS| [GIT MASTER] 2b403dd8fb37d0ba13723e44ffc7ee2c2795f838
Date: Mon, 06 Oct 2025 10:23:47 -0700 (PDT) [thread overview]
Message-ID: <68e3fb23.050a0220.19af0a.995dSMTPIN_ADDED_MISSING@mx.google.com> (raw)
_Testing PASS_
Branch: dpdk-next-eventdev
2b403dd8fb37d0ba13723e44ffc7ee2c2795f838 --> testing pass
Upstream job id: Windows-Compile-DPDK-Native#31450
Test environment and result as below:
+---------------------+--------------------+-------------------------+-------------------+----------------------+
| Environment | dpdk_meson_compile | dpdk_llvm_clang_compile | dpdk_msvc_compile | dpdk_mingw64_compile |
+=====================+====================+=========================+===================+======================+
| Ubuntu 20.04 | PASS | SKIPPED | SKIPPED | SKIPPED |
+---------------------+--------------------+-------------------------+-------------------+----------------------+
| FreeBSD 14.2 | PASS | SKIPPED | SKIPPED | SKIPPED |
+---------------------+--------------------+-------------------------+-------------------+----------------------+
| Windows Server 2022 | SKIPPED | PASS | PASS | PASS |
+---------------------+--------------------+-------------------------+-------------------+----------------------+
Ubuntu 20.04
Kernel: 4.19
Compiler: gcc gcc (Ubuntu 9.4.0-1ubuntu1~20.04.2) 9.4.0
FreeBSD 14.2
Kernel: 14.2-RELEASE
Compiler: clang 18.1.6
Windows Server 2022
Kernel: 10.0.20348.2031
Compiler: clang 15.0.7, gcc 14.1.0 (MinGW), and MSVC VS 19.39.33521
To view detailed results, visit:
https://lab.dpdk.org/results/dashboard/tarballs/35122/
UNH-IOL DPDK Community Lab
To manage your email subscriptions, visit:
https://lab.dpdk.org/results/dashboard/preferences/subscriptions/
next reply other threads:[~2025-10-06 17:23 UTC|newest]
Thread overview: 20+ messages / expand[flat|nested] mbox.gz Atom feed top
2025-10-06 17:23 dpdklab [this message]
-- strict thread matches above, loose matches on Subject: below --
2025-10-06 20:47 dpdklab
2025-10-06 18:08 dpdklab
2025-10-06 17:27 dpdklab
2025-10-06 17:25 dpdklab
2025-10-06 17:15 dpdklab
2025-10-06 17:03 dpdklab
2025-10-06 16:52 dpdklab
2025-10-06 16:50 dpdklab
2025-10-06 8:20 dpdklab
2025-10-06 6:44 dpdklab
2025-10-06 0:59 dpdklab
2025-10-06 0:58 dpdklab
2025-10-06 0:53 dpdklab
2025-10-06 0:50 dpdklab
2025-10-06 0:36 dpdklab
2025-10-06 0:36 dpdklab
2025-10-06 0:35 dpdklab
2025-10-06 0:24 dpdklab
2025-10-06 0:23 dpdklab
Reply instructions:
You may reply publicly to this message via plain-text email
using any one of the following methods:
* Save the following mbox file, import it into your mail client,
and reply-to-all from there: mbox
Avoid top-posting and favor interleaved quoting:
https://en.wikipedia.org/wiki/Posting_style#Interleaved_style
* Reply using the --to, --cc, and --in-reply-to
switches of git-send-email(1):
git send-email \
--in-reply-to=68e3fb23.050a0220.19af0a.995dSMTPIN_ADDED_MISSING@mx.google.com \
--to=dpdklab@iol.unh.edu \
--cc=dpdk-test-reports@iol.unh.edu \
--cc=jerinj@marvell.com \
--cc=test-report@dpdk.org \
/path/to/YOUR_REPLY
https://kernel.org/pub/software/scm/git/docs/git-send-email.html
* If your mail client supports setting the In-Reply-To header
via mailto: links, try the mailto: link
Be sure your reply has a Subject: header at the top and a blank line
before the message body.
This is a public inbox, see mirroring instructions
for how to clone and mirror all data and code used for this inbox;
as well as URLs for NNTP newsgroup(s).