From mboxrd@z Thu Jan 1 00:00:00 1970 Return-Path: Received: from mails.dpdk.org (mails.dpdk.org [217.70.189.124]) by inbox.dpdk.org (Postfix) with ESMTP id 1B662488C9 for ; Mon, 6 Oct 2025 19:23:49 +0200 (CEST) Received: from mails.dpdk.org (localhost [127.0.0.1]) by mails.dpdk.org (Postfix) with ESMTP id EDB33402D1; Mon, 6 Oct 2025 19:23:48 +0200 (CEST) Received: from mail-qt1-f227.google.com (mail-qt1-f227.google.com [209.85.160.227]) by mails.dpdk.org (Postfix) with ESMTP id C4E41402D1 for ; Mon, 6 Oct 2025 19:23:47 +0200 (CEST) Received: by mail-qt1-f227.google.com with SMTP id d75a77b69052e-4b109c6b9fcso52743251cf.3 for ; Mon, 06 Oct 2025 10:23:47 -0700 (PDT) DKIM-Signature: v=1; a=rsa-sha256; c=relaxed/relaxed; d=iol.unh.edu; s=unh-iol; t=1759771427; x=1760376227; darn=dpdk.org; h=cc:to:from:subject:message-id:date:from:to:cc:subject:date :message-id:reply-to; bh=M6JFknBJ7Y0Pm1BaNoBlZt3qZym/hPzHxc37CyYU1qY=; b=h4WCXibU4BLfQch4SoC+SLvF9uTnSOCjnEcSV0Rx6R84IroJIkTOMo8NQ2wXQlr5qz oMg44Kt1lRhuTGAW8fXkdH4WcQgtXoKdI9eXNgjvFHyfOPkicEJXvAmz0sS7jTqqsOsJ LvFoOeKZBqr9HO2+snxw5/alcV+iIgrCTG3es= X-Google-DKIM-Signature: v=1; a=rsa-sha256; c=relaxed/relaxed; d=1e100.net; s=20230601; t=1759771427; x=1760376227; h=cc:to:from:subject:message-id:date:x-gm-message-state:from:to:cc :subject:date:message-id:reply-to; bh=M6JFknBJ7Y0Pm1BaNoBlZt3qZym/hPzHxc37CyYU1qY=; b=VQoWxNoWk6ZzEM9Zib/1u5nen2jUDzA7FKEnrocEwJDkSv3upM9Kxn1ILwJleABsvu uLE91bVMn+6O+Ekpubds7R65460QjXAC0I9N099YpkcVM4HZQLHcXXbTo8j+hsg1iD8s Mio9LTn9Ws2Sq9Fi1nYfsQGCNkRuaL1cSdIxG62Ngd+WnadMOquWnPJPO2CkUmyCrrZf jcS9VgiPpre2RunNmHEe9gf9nY2qn4DXkdZJg/XGGdH96dqn/Ymyo3nNYhLHcg8s8990 4F82r1EebgkE1ha6KRJqcPkWiV8n2/dKHBTWOv6uQKRbzOODIqZuNQUf25S1fLebPXDO b9sA== X-Gm-Message-State: AOJu0Yx/ogjYSz2t4EzhF4XpUtuJxm1XDbx99xU22ncXE9MsYj6UiXqa o3CXSJB6u5Sw3hMRvrNlZqin96m/g5F+z/7hBDyB+KYjBfGvTknG5YTlmpZEMySziNpqcP57anN dx+TBWhkIAJt1cfwYKVQqlW1WtiJYSzzhrZANoMqkoHV0K5aWSJnnxg8ShCal X-Gm-Gg: ASbGncsQCpOyi+Kn68o1ufUeRUKUQ+ZZ9BdjwPO3DEOLRTd59+laPHmyXzAJrHXma1M RFJrTJtIZZBLlfTNfDybSA5LzyRukcmK9mjN98KyWvicBCWI4CkNfkSZyFwyYl4IDKUZ1ODz/CR deBbvG0JgApiLgpD4bGX51fMqJsUIo5qVZQGQIGqYim+ttYBMJazcvaT25zLWO7kWTB2S9cXD/4 UyOxmBh0QoHPeEB9xOI8i93klC3H8kg7taeGTGIpYKsVyEzbS/Z2aRyqDNAYuRsuJHUaaTmSOzT M9QM6ykHIB1xzJ8/OwXHVBKeGpGzu0yF3CjCKZMetwixJMOYl/WvA3k= X-Google-Smtp-Source: AGHT+IGe/NINrt9jEHz9H3tquRICbkbMJpPwfEjj2Et3DFj0uF0aMrqoji372/lWFK+OdVS82WkftXgsKhzB X-Received: by 2002:a05:622a:124a:b0:4dc:ad1c:58e0 with SMTP id d75a77b69052e-4e576a84e8emr178491011cf.35.1759771427113; Mon, 06 Oct 2025 10:23:47 -0700 (PDT) Received: from postal.iol.unh.edu (postal.iol.unh.edu. [2606:4100:3880:1234::84]) by smtp-relay.gmail.com with ESMTPS id af79cd13be357-87774db040fsm102767585a.4.2025.10.06.10.23.47 (version=TLS1_2 cipher=ECDHE-ECDSA-AES128-GCM-SHA256 bits=128/128); Mon, 06 Oct 2025 10:23:47 -0700 (PDT) X-Relaying-Domain: iol.unh.edu Date: Mon, 06 Oct 2025 10:23:47 -0700 (PDT) Message-ID: <68e3fb23.050a0220.19af0a.995dSMTPIN_ADDED_MISSING@mx.google.com> Received: from [172.21.0.3] (unknown [172.18.0.240]) by postal.iol.unh.edu (Postfix) with ESMTP id CC0456050A61; Mon, 6 Oct 2025 13:23:46 -0400 (EDT) Subject: |SUCCESS| [GIT MASTER] 2b403dd8fb37d0ba13723e44ffc7ee2c2795f838 From: dpdklab@iol.unh.edu To: Test Report Cc: dpdk-test-reports@iol.unh.edu, Jerin Jacob Content-Type: text/plain X-BeenThere: test-report@dpdk.org X-Mailman-Version: 2.1.29 Precedence: list List-Id: automatic DPDK test reports List-Unsubscribe: , List-Archive: List-Post: List-Help: List-Subscribe: , Errors-To: test-report-bounces@dpdk.org _Testing PASS_ Branch: dpdk-next-eventdev 2b403dd8fb37d0ba13723e44ffc7ee2c2795f838 --> testing pass Upstream job id: Windows-Compile-DPDK-Native#31450 Test environment and result as below: +---------------------+--------------------+-------------------------+-------------------+----------------------+ | Environment | dpdk_meson_compile | dpdk_llvm_clang_compile | dpdk_msvc_compile | dpdk_mingw64_compile | +=====================+====================+=========================+===================+======================+ | Ubuntu 20.04 | PASS | SKIPPED | SKIPPED | SKIPPED | +---------------------+--------------------+-------------------------+-------------------+----------------------+ | FreeBSD 14.2 | PASS | SKIPPED | SKIPPED | SKIPPED | +---------------------+--------------------+-------------------------+-------------------+----------------------+ | Windows Server 2022 | SKIPPED | PASS | PASS | PASS | +---------------------+--------------------+-------------------------+-------------------+----------------------+ Ubuntu 20.04 Kernel: 4.19 Compiler: gcc gcc (Ubuntu 9.4.0-1ubuntu1~20.04.2) 9.4.0 FreeBSD 14.2 Kernel: 14.2-RELEASE Compiler: clang 18.1.6 Windows Server 2022 Kernel: 10.0.20348.2031 Compiler: clang 15.0.7, gcc 14.1.0 (MinGW), and MSVC VS 19.39.33521 To view detailed results, visit: https://lab.dpdk.org/results/dashboard/tarballs/35122/ UNH-IOL DPDK Community Lab To manage your email subscriptions, visit: https://lab.dpdk.org/results/dashboard/preferences/subscriptions/