From mboxrd@z Thu Jan 1 00:00:00 1970 Return-Path: Received: from mails.dpdk.org (mails.dpdk.org [217.70.189.124]) by inbox.dpdk.org (Postfix) with ESMTP id 7F25E488C9 for ; Mon, 6 Oct 2025 19:27:47 +0200 (CEST) Received: from mails.dpdk.org (localhost [127.0.0.1]) by mails.dpdk.org (Postfix) with ESMTP id 5F9A1402D1; Mon, 6 Oct 2025 19:27:47 +0200 (CEST) Received: from mail-il1-f228.google.com (mail-il1-f228.google.com [209.85.166.228]) by mails.dpdk.org (Postfix) with ESMTP id 34C67402D1 for ; Mon, 6 Oct 2025 19:27:45 +0200 (CEST) Received: by mail-il1-f228.google.com with SMTP id e9e14a558f8ab-42d7ef9a402so23503055ab.0 for ; Mon, 06 Oct 2025 10:27:45 -0700 (PDT) DKIM-Signature: v=1; a=rsa-sha256; c=relaxed/relaxed; d=iol.unh.edu; s=unh-iol; t=1759771664; x=1760376464; darn=dpdk.org; h=cc:to:from:subject:message-id:date:from:to:cc:subject:date :message-id:reply-to; bh=l3KEZTLUqNMBK/+/hz2rBYMA2Kcgtl1dEGgdR3fit0E=; b=KyV05Hxt10fnhNfn8fdFZZXhGIVgc6iftWP/8QkMmJQpk+rSL3FPG3uqz5ecgndil+ tM6L9jNxhE5KngsP+ea1Pdib00PtBDWOSzgUDUZHnByopXXSnEDCAabL7UwvvtSDZ8bb UYsJpoDw0YYB7aSi4+g1Hvjm29SoLokHCfhd8= X-Google-DKIM-Signature: v=1; a=rsa-sha256; c=relaxed/relaxed; d=1e100.net; s=20230601; t=1759771664; x=1760376464; h=cc:to:from:subject:message-id:date:x-gm-message-state:from:to:cc :subject:date:message-id:reply-to; bh=l3KEZTLUqNMBK/+/hz2rBYMA2Kcgtl1dEGgdR3fit0E=; b=AWoWRlbELgLKW661TXYyxTvSEg4AX4elSe3SKwygZ8i7LgVlMWJH5Eo/wb8ICNpqpB dyXjajkXXW5ynw87HUoZ5fPusT7eGZp2dWnA4q23TIh3ph/6p8GECwgE9aMU8wEimT// 5EE3sB6/bDZ+6Ms/7uub5iENfDYrCwtoqLpnWGC9pq2JNguvvw3TgbnqIQrHlNIn16v0 dA+lW7pZngTPZwNeLoeIkAGLZcnuGhQu6oU30tYWYmfCcFrmwvsazgtG28pixlMDjkZm V4A+NiqM4WMoqlKv+KwnXr1xOqS0RVykfGYntTFT9S1Vo0f+E5/dgGNpXydXYDI+Qxz8 blFQ== X-Gm-Message-State: AOJu0Yyc2UfCeHRTbf1HKBcOWQFmUv3a86rzz0syuTeUZQpWI1OS/K4P FEx/lHBFWWuifUsjahCec4oQWf0fEKeMthSCE0nUbNo3pHjj0d8QF0UnpeiOQy8RpM1/+p9AvU/ 78GxW/rBV6R6Cp8jN5UY3Nenb2eIZJmTVF90yzuV4zeS9rpgqsS14ORGaJnPs X-Gm-Gg: ASbGnctLh08bVHLHdQPHs18MURYsAO0Erz/pPVyHmxMYlA4RDi5si53SOZ+lgi5Bpjz d9KwshAFPDNuJ3kYdpG6Q49Wa6Ulof9aVcmCZ7o/UX9UcLtwO0vq5DW5XD4xP0WmhzQhEBu7ClJ wzxSbTjYizt978O8PQTSj95XhF6b9PsCXHyrjzUwhC6z7G1+H7tXJhe0Z2OcIh+Nddcwc08ZES5 55n2AI/pxd4Q8XjCAN8KVam16tLWpKGA39k92IwyiKp4CZPUjVZoicouUnrXrf6zQfmjpr3hYVq biHyUCrrAM+MzyD0RYIL3mIkMFPLkERB0Fpoo0rKDIbQjijwwHB3PHE= X-Google-Smtp-Source: AGHT+IFSBw97B7oHT6sTwLHt34PW9xFI+xlyphxYcDJ4lyIQyH3WAzSb4Q28r3ehXVDbp+K/zBwVJ4f0hEE/ X-Received: by 2002:a92:cdac:0:b0:405:d8c4:ab8f with SMTP id e9e14a558f8ab-42f7c3b2655mr5475435ab.14.1759771664235; Mon, 06 Oct 2025 10:27:44 -0700 (PDT) Received: from postal.iol.unh.edu (postal.iol.unh.edu. [2606:4100:3880:1234::84]) by smtp-relay.gmail.com with ESMTPS id e9e14a558f8ab-42d8b2935d8sm10469685ab.34.2025.10.06.10.27.44 (version=TLS1_2 cipher=ECDHE-ECDSA-AES128-GCM-SHA256 bits=128/128); Mon, 06 Oct 2025 10:27:44 -0700 (PDT) X-Relaying-Domain: iol.unh.edu Date: Mon, 06 Oct 2025 10:27:44 -0700 (PDT) Message-ID: <68e3fc10.050a0220.ddd2e.a35dSMTPIN_ADDED_MISSING@mx.google.com> Received: from [172.21.0.4] (unknown [172.18.0.240]) by postal.iol.unh.edu (Postfix) with ESMTP id C431B604D420; Mon, 6 Oct 2025 13:27:43 -0400 (EDT) Subject: |SUCCESS| [GIT MASTER] 2b403dd8fb37d0ba13723e44ffc7ee2c2795f838 From: dpdklab@iol.unh.edu To: Test Report Cc: dpdk-test-reports@iol.unh.edu, Jerin Jacob Content-Type: text/plain X-BeenThere: test-report@dpdk.org X-Mailman-Version: 2.1.29 Precedence: list List-Id: automatic DPDK test reports List-Unsubscribe: , List-Archive: List-Post: List-Help: List-Subscribe: , Errors-To: test-report-bounces@dpdk.org _Testing PASS_ Branch: dpdk-next-eventdev 2b403dd8fb37d0ba13723e44ffc7ee2c2795f838 --> testing pass Upstream job id: Generic-VM-Unit-Test-DPDK#31619 Test environment and result as below: +-------------------------------+----------------+ | Environment | dpdk_unit_test | +===============================+================+ | CentOS Stream 9 | PASS | +-------------------------------+----------------+ | CentOS Stream 10 | PASS | +-------------------------------+----------------+ | Fedora Linux 40 | PASS | +-------------------------------+----------------+ | Debian GNU/Linux 12 | PASS | +-------------------------------+----------------+ | Fedora Linux 42 | PASS | +-------------------------------+----------------+ | Fedora Linux 41 | PASS | +-------------------------------+----------------+ | Ubuntu 22.04 | PASS | +-------------------------------+----------------+ | Ubuntu 20.04 | PASS | +-------------------------------+----------------+ | Red Hat Enterprise Linux 8.10 | PASS | +-------------------------------+----------------+ | Ubuntu 24.04 | PASS | +-------------------------------+----------------+ | Red Hat Enterprise Linux 9.5 | PASS | +-------------------------------+----------------+ | Windows Server 2022 | PASS | +-------------------------------+----------------+ CentOS Stream 9 Kernel: 5.15 Compiler: gcc gcc (GCC) 11.5.0 20240719 (Red Hat 11.5.0-11) CentOS Stream 10 Kernel: 5.15 Compiler: gcc gcc (GCC) 14.2.1 20250110 (Red Hat 14.2.1-8) Fedora Linux 40 Kernel: 5.15 Compiler: clang gcc (GCC) 14.2.1 20240912 (Red Hat 14.2.1-3) Debian GNU/Linux 12 Kernel: 5.15 Compiler: gcc gcc (Debian 12.2.0-14+deb12u1) 12.2.0 Fedora Linux 42 Kernel: 5.15 Compiler: clang gcc (GCC) 15.2.1 20250808 (Red Hat 15.2.1-1) Fedora Linux 41 Kernel: 5.15 Compiler: clang gcc (GCC) 14.3.1 20250523 (Red Hat 14.3.1-1) Ubuntu 22.04 Kernel: 5.15 Compiler: gcc gcc (Ubuntu 11.4.0-1ubuntu1~22.04) 11.4.0 Ubuntu 20.04 Kernel: 5.15 Compiler: gcc gcc (Ubuntu 9.4.0-1ubuntu1~20.04.2) 9.4.0 Red Hat Enterprise Linux 8.10 Kernel: 5.15 Compiler: gcc gcc (GCC) 8.5.0 20210514 (Red Hat 8.5.0-22) Ubuntu 24.04 Kernel: 5.15 Compiler: gcc gcc (Ubuntu 13.3.0-6ubuntu2~24.04) 13.3.0 Red Hat Enterprise Linux 9.5 Kernel: 5.15 Compiler: gcc gcc (GCC) 11.5.0 20240719 (Red Hat 11.5.0-2) Windows Server 2022 Kernel: 10.0.20348.2031 Compiler: clang 15.0.7, gcc 14.1.0 (MinGW), and MSVC VS 19.39.33521 To view detailed results, visit: https://lab.dpdk.org/results/dashboard/tarballs/35122/ UNH-IOL DPDK Community Lab To manage your email subscriptions, visit: https://lab.dpdk.org/results/dashboard/preferences/subscriptions/