From mboxrd@z Thu Jan 1 00:00:00 1970 Return-Path: Received: from mails.dpdk.org (mails.dpdk.org [217.70.189.124]) by inbox.dpdk.org (Postfix) with ESMTP id 78CB8488C9 for ; Mon, 6 Oct 2025 19:28:16 +0200 (CEST) Received: from mails.dpdk.org (localhost [127.0.0.1]) by mails.dpdk.org (Postfix) with ESMTP id 7442F402D1; Mon, 6 Oct 2025 19:28:16 +0200 (CEST) Received: from mail-io1-f97.google.com (mail-io1-f97.google.com [209.85.166.97]) by mails.dpdk.org (Postfix) with ESMTP id 3FAFE402D1 for ; Mon, 6 Oct 2025 19:28:15 +0200 (CEST) Received: by mail-io1-f97.google.com with SMTP id ca18e2360f4ac-938bf212b72so187362039f.1 for ; Mon, 06 Oct 2025 10:28:15 -0700 (PDT) DKIM-Signature: v=1; a=rsa-sha256; c=relaxed/relaxed; d=iol.unh.edu; s=unh-iol; t=1759771694; x=1760376494; darn=dpdk.org; h=references:in-reply-to:cc:to:from:subject:message-id:date:from:to :cc:subject:date:message-id:reply-to; bh=QgGJBlz2VK+43NHFuyqp5xIEMrUkXjKHpkAgBeApikM=; b=boBDAuPJtpLjk6Oqg+O8/bmehBi+oYBWJIYwvb7ctLMHmLBv9waCMgQ8aKPJwIyffU h9oLLoCSDX50NaveHyo570beE+zfuXXMR9qnQp/JDkNPMw3WH4IHEPPt4KM3vW1tIHJk mPvsWPr2roksdMHi95bzQptboMjLsUNt6baUI= X-Google-DKIM-Signature: v=1; a=rsa-sha256; c=relaxed/relaxed; d=1e100.net; s=20230601; t=1759771694; x=1760376494; h=references:in-reply-to:cc:to:from:subject:message-id:date :x-gm-message-state:from:to:cc:subject:date:message-id:reply-to; bh=QgGJBlz2VK+43NHFuyqp5xIEMrUkXjKHpkAgBeApikM=; b=S21q7vrM4nQT9mZ54inZpq9HC0IFJwMOBFH+L1M2IStfq7xVLuwt23o+RszmbhGyf+ mSkDM6EBxQaV2h7bkJFSXdPLgAgdGPelR2cBKJFLJVGFs3kgxMgzWem+LLS6pLVngZjf N6Xw08cYXENkhCp8DkPRWi9Pn9CYEcKghzsCfVmofIQmO3lEjMolPhvHKKDLKX8sFNNq QxyhkANWmzoKjQZyaVne122DDo2onAY5uHVDW51RzA1/T4Z+oDJb2dr7bMOVD/PvUMOc 32qzskLgFvmlJgh+x6j0pFRfoiq55XinEqfaQYKugJHCYS64nbiOb9aAdYdQkJtyhNuR a9eg== X-Gm-Message-State: AOJu0Yxki12+W/OfQkzCkBn6nFO8VySL6AqZcmyzASXnHRULPgb76A3d 0ElyItU1VJIYDpJ/4C6fzChe+3LgOyBS43X8WKnBahZO03XNuIwfE90nloJWkNLwFIuX/nt/MsU NLqa3swTMgG+vBclYkAn7brb+OOSEPXLXO/cHFQrvIA8m X-Gm-Gg: ASbGncu3OnzlKdCKRh2ejQXTOVH4xDNqxwC77+ZQg2NHd+v7qs75ToaKglHSPGU1QBS fWv85BA1t37gGgfhmJfWBDImSuLiHR/qP4tj46ISZippILaGBMAtj2z9A/Keb6aZuENTLD/btex 3efk90Dqfj8K4YWGnWF4pQqBIM42u87exxmoHlSD06k3wa+1qPzQLenexXVYNZH6aQpnMnYtt4r Hf9TovepE0X+MDMyof+GcW7zKRM2DEEh9PABwiLPBvR3HwN13uGsYqVOOY2KV3/nPisgtIvUm4k FszzNHCaqUFaeJFypWaWRPthpSIujUaC+ZOtYGZhCdajj+9Qpn/QBPwAuosnJ9cSbWEcQ1b/xpC l8A== X-Google-Smtp-Source: AGHT+IEPxdyxzr3UBHZPT0tNZLerQMcS4einYOg+gvaIHSq/YbEQmxlC7Ldut1DUwA8kP1Sr/IIAmaljKNQt X-Received: by 2002:a05:6e02:12e8:b0:42d:bb9d:5358 with SMTP id e9e14a558f8ab-42e7ada8fbcmr166424795ab.27.1759771694324; Mon, 06 Oct 2025 10:28:14 -0700 (PDT) Received: from postal.iol.unh.edu (postal.iol.unh.edu. [132.177.123.84]) by smtp-relay.gmail.com with ESMTPS id 8926c6da1cb9f-57b5ed6b5c0sm1093842173.41.2025.10.06.10.28.14 (version=TLS1_2 cipher=ECDHE-ECDSA-AES128-GCM-SHA256 bits=128/128); Mon, 06 Oct 2025 10:28:14 -0700 (PDT) X-Relaying-Domain: iol.unh.edu Date: Mon, 06 Oct 2025 10:28:14 -0700 (PDT) Message-ID: <68e3fc2e.050a0220.35771d.ba5cSMTPIN_ADDED_MISSING@mx.google.com> Received: from [172.21.0.2] (unknown [172.18.0.240]) by postal.iol.unh.edu (Postfix) with ESMTP id F3F6E604D420; Mon, 6 Oct 2025 13:28:13 -0400 (EDT) Subject: |SUCCESS| pw157272-157273 [PATCH] [v3,4/4] doc: add doc for dictiona From: dpdklab@iol.unh.edu To: Test Report Cc: dpdk-test-reports@iol.unh.edu, Akhil Goyal In-Reply-To: <20251003194901.3375364-4-svaze@qti.qualcomm.com> References: <20251003194901.3375364-4-svaze@qti.qualcomm.com> Content-Type: text/plain X-BeenThere: test-report@dpdk.org X-Mailman-Version: 2.1.29 Precedence: list List-Id: automatic DPDK test reports List-Unsubscribe: , List-Archive: List-Post: List-Help: List-Subscribe: , Errors-To: test-report-bounces@dpdk.org Test-Label: iol-compile-amd64-testing Test-Status: SUCCESS http://dpdk.org/patch/157273 _Testing PASS_ Submitter: Sameer Vaze Date: Friday, October 03 2025 19:49:01 DPDK git baseline: Repo:dpdk-next-crypto Branch: master CommitID:caa17cb4b057a31ee04067459fe543f7d7ae1079 157272-157273 --> testing pass Upstream job id: Generic-DPDK-Compile-Meson#431513 Test environment and result as below: +-------------------------------+--------------------+-------------------+-------------------------+----------------------+-------------------+------------------+ | Environment | dpdk_meson_compile | dpdk_msvc_compile | dpdk_llvm_clang_compile | dpdk_mingw64_compile | dpdk_compile_spdk | dpdk_compile_ovs | +===============================+====================+===================+=========================+======================+===================+==================+ | Ubuntu 20.04 | PASS | SKIPPED | SKIPPED | SKIPPED | SKIPPED | SKIPPED | +-------------------------------+--------------------+-------------------+-------------------------+----------------------+-------------------+------------------+ | FreeBSD 14.2 | PASS | SKIPPED | SKIPPED | SKIPPED | SKIPPED | SKIPPED | +-------------------------------+--------------------+-------------------+-------------------------+----------------------+-------------------+------------------+ | Alpine Linux 3.22.0 | PASS | SKIPPED | SKIPPED | SKIPPED | SKIPPED | SKIPPED | +-------------------------------+--------------------+-------------------+-------------------------+----------------------+-------------------+------------------+ | CentOS Stream 9 | PASS | SKIPPED | SKIPPED | SKIPPED | PASS | SKIPPED | +-------------------------------+--------------------+-------------------+-------------------------+----------------------+-------------------+------------------+ | CentOS Stream 10 | PASS | SKIPPED | SKIPPED | SKIPPED | SKIPPED | SKIPPED | +-------------------------------+--------------------+-------------------+-------------------------+----------------------+-------------------+------------------+ | Debian GNU/Linux 12 | PASS | SKIPPED | SKIPPED | SKIPPED | PASS | SKIPPED | +-------------------------------+--------------------+-------------------+-------------------------+----------------------+-------------------+------------------+ | Fedora Linux 42 | PASS | SKIPPED | SKIPPED | SKIPPED | PASS | PASS | +-------------------------------+--------------------+-------------------+-------------------------+----------------------+-------------------+------------------+ | openSUSE Leap 15.6 | PASS | SKIPPED | SKIPPED | SKIPPED | SKIPPED | SKIPPED | +-------------------------------+--------------------+-------------------+-------------------------+----------------------+-------------------+------------------+ | Red Hat Enterprise Linux 8.10 | PASS | SKIPPED | SKIPPED | SKIPPED | SKIPPED | SKIPPED | +-------------------------------+--------------------+-------------------+-------------------------+----------------------+-------------------+------------------+ | Red Hat Enterprise Linux 9.5 | PASS | SKIPPED | SKIPPED | SKIPPED | SKIPPED | SKIPPED | +-------------------------------+--------------------+-------------------+-------------------------+----------------------+-------------------+------------------+ | Ubuntu 22.04 | PASS | SKIPPED | SKIPPED | SKIPPED | PASS | SKIPPED | +-------------------------------+--------------------+-------------------+-------------------------+----------------------+-------------------+------------------+ | Ubuntu 24.04 | PASS | SKIPPED | SKIPPED | SKIPPED | PASS | PASS | +-------------------------------+--------------------+-------------------+-------------------------+----------------------+-------------------+------------------+ | Windows Server 2022 | SKIPPED | PASS | PASS | PASS | SKIPPED | SKIPPED | +-------------------------------+--------------------+-------------------+-------------------------+----------------------+-------------------+------------------+ Ubuntu 20.04 Kernel: 4.19 Compiler: gcc gcc (Ubuntu 9.4.0-1ubuntu1~20.04.2) 9.4.0 FreeBSD 14.2 Kernel: 14.2-RELEASE Compiler: clang 18.1.6 Alpine Linux 3.22.0 Kernel: 5.15 Compiler: gcc gcc (Alpine 14.2.0) 14.2.0 CentOS Stream 9 Kernel: 5.15 Compiler: gcc gcc (GCC) 11.5.0 20240719 (Red Hat 11.5.0-11) CentOS Stream 10 Kernel: 5.15 Compiler: gcc gcc (GCC) 14.2.1 20250110 (Red Hat 14.2.1-8) Debian GNU/Linux 12 Kernel: 5.15 Compiler: gcc gcc (Debian 12.2.0-14+deb12u1) 12.2.0 Fedora Linux 42 Kernel: 5.15 Compiler: clang gcc (GCC) 15.2.1 20250808 (Red Hat 15.2.1-1) openSUSE Leap 15.6 Kernel: 5.15 Compiler: gcc gcc (SUSE Linux) 7.5.0 Red Hat Enterprise Linux 8.10 Kernel: 5.15 Compiler: gcc gcc (GCC) 8.5.0 20210514 (Red Hat 8.5.0-22) Red Hat Enterprise Linux 9.5 Kernel: 5.15 Compiler: gcc gcc (GCC) 11.5.0 20240719 (Red Hat 11.5.0-2) Ubuntu 22.04 Kernel: 5.15 Compiler: gcc gcc (Ubuntu 11.4.0-1ubuntu1~22.04) 11.4.0 Ubuntu 24.04 Kernel: 5.15 Compiler: gcc gcc (Ubuntu 13.3.0-6ubuntu2~24.04) 13.3.0 Windows Server 2022 Kernel: 10.0.20348.2031 Compiler: clang 15.0.7, gcc 14.1.0 (MinGW), and MSVC VS 19.39.33521 To view detailed results, visit: https://lab.dpdk.org/results/dashboard/patchsets/34214/ UNH-IOL DPDK Community Lab To manage your email subscriptions, visit: https://lab.dpdk.org/results/dashboard/preferences/subscriptions/