From mboxrd@z Thu Jan 1 00:00:00 1970 Return-Path: Received: from mails.dpdk.org (mails.dpdk.org [217.70.189.124]) by inbox.dpdk.org (Postfix) with ESMTP id 9E776488C9 for ; Mon, 6 Oct 2025 19:39:38 +0200 (CEST) Received: from mails.dpdk.org (localhost [127.0.0.1]) by mails.dpdk.org (Postfix) with ESMTP id 7A39A402D1; Mon, 6 Oct 2025 19:39:38 +0200 (CEST) Received: from mail-oa1-f97.google.com (mail-oa1-f97.google.com [209.85.160.97]) by mails.dpdk.org (Postfix) with ESMTP id DE903402D1 for ; Mon, 6 Oct 2025 19:39:37 +0200 (CEST) Received: by mail-oa1-f97.google.com with SMTP id 586e51a60fabf-3729f8eaa10so1236784fac.3 for ; Mon, 06 Oct 2025 10:39:37 -0700 (PDT) DKIM-Signature: v=1; a=rsa-sha256; c=relaxed/relaxed; d=iol.unh.edu; s=unh-iol; t=1759772377; x=1760377177; darn=dpdk.org; h=cc:to:from:subject:message-id:date:from:to:cc:subject:date :message-id:reply-to; bh=HuyXL+LjTFi5jnO5DvjXrYIO11yJX2RENLXsNa+C7PE=; b=Zs1qRnvWElOEE9HlQXBo7GgmpUUZQpuCxNxzthQLLxbBJhvhoc4qR8I9ouYIJHZ5+Z XWjRyyHYxVAo9NdRNt9/lm73Bi/ZpZTSiaLtn8ibPT5Xjow/eFU0nxg0RLOwunF3tx8O LC4J2b0gHIUkihQUfWuuKKSWP218sE6pB9sL0= X-Google-DKIM-Signature: v=1; a=rsa-sha256; c=relaxed/relaxed; d=1e100.net; s=20230601; t=1759772377; x=1760377177; h=cc:to:from:subject:message-id:date:x-gm-message-state:from:to:cc :subject:date:message-id:reply-to; bh=HuyXL+LjTFi5jnO5DvjXrYIO11yJX2RENLXsNa+C7PE=; b=wuExANHthbvhYihzOTTwkebvkIyLazNEgR1+5LDhUBov+axvCeGppw6+huPMp9GYSi asXgh7QaVEQvHdh8UWTUaIe2oOt8q4hk5t+pFU/o1jfIMhpFNMUaiDvIW4Gc2XXMEFtc JeEzod+zUGfUV7vczA9rQGNqLmzIuJfg7WWiVnu3e5mHjaVTogAEJsmineK9INO/XVm4 umFPJYy8OkFEqd/piVH6Ew9sG4wYrxXMLf9uYgpjIblz6oTdYTmlMTHEkd7eV0KRDOwG cs8sWAgrJdyyt35YtRARfTk6WA5m2NotFmZ1VG0ZEXYjODWE1BGbaiRfXyZKIOyp9FmT LIqA== X-Gm-Message-State: AOJu0Yw/A5A+NgDNujOhlMhdcNs04ur4PNZcR17ZIUKUU7xJPwZ71lZU 3lMbqiUfK10JtIEmXiEwyezQimWr7CeBI9WW07zW8wIURMG184AsfWsV8Caor8/73hmvWGZRII8 LcTF71SezR3JwqbIfWCraF9W3w6rzA2yRH9KGg1qx6diG X-Gm-Gg: ASbGncupnmN3juvDhRiBcr/pN3kNjGULCjIi6qvZhVuE00AaBljeb5NTZTAANICX+Vj TCv5G8oo0e6oKwgXaQk2eZxgoWi9s7cfhqfy50x5wOoQBIaptvtw3+PI8UUKC3CqyhB9AQw++1N WNo6qkXVlfR1BU6RgfMwWofCaM3p97Ycp0xMlkSJmQslMKXuoLqjg6Rvd5UgEhxQN5S23OKn+d2 UPxvFHH15QAQ1jWxLcHaoeBjmg/PRkQsb+s7hVsqlFuHraZ0XboITI2vR7VR6jEPodgutiUdqcs P7sgDhrMoPH5WagUbrfNM0wtjCOc+H5uE99vAjJT01pqVmkExgQuErd3xfyjCnS4SZb1oRh2h6z 1vA== X-Google-Smtp-Source: AGHT+IHwHZ0x1UpRy4rKMNsKHWfQcLqrJz3cijECg1A62ix486mXsr0FDlECEnf0AAnkufu0UT1yLXXBXPkA X-Received: by 2002:a05:6870:f622:b0:332:125e:2647 with SMTP id 586e51a60fabf-3b0f3e1b8e3mr6206088fac.9.1759772377002; Mon, 06 Oct 2025 10:39:37 -0700 (PDT) Received: from postal.iol.unh.edu (postal.iol.unh.edu. [132.177.123.84]) by smtp-relay.gmail.com with ESMTPS id 586e51a60fabf-3ab9847bf16sm1130020fac.23.2025.10.06.10.39.36 (version=TLS1_2 cipher=ECDHE-ECDSA-AES128-GCM-SHA256 bits=128/128); Mon, 06 Oct 2025 10:39:36 -0700 (PDT) X-Relaying-Domain: iol.unh.edu Date: Mon, 06 Oct 2025 10:39:36 -0700 (PDT) Message-ID: <68e3fed8.050a0220.732d2.f488SMTPIN_ADDED_MISSING@mx.google.com> Received: from [172.21.0.3] (unknown [172.18.0.240]) by postal.iol.unh.edu (Postfix) with ESMTP id 740A76051830; Mon, 6 Oct 2025 13:39:36 -0400 (EDT) Subject: |SUCCESS| [GIT MASTER] 76393b98bf67f94dc6aa23cf5016c32571899261 From: dpdklab@iol.unh.edu To: Test Report Cc: dpdk-test-reports@iol.unh.edu Content-Type: text/plain X-BeenThere: test-report@dpdk.org X-Mailman-Version: 2.1.29 Precedence: list List-Id: automatic DPDK test reports List-Unsubscribe: , List-Archive: List-Post: List-Help: List-Subscribe: , Errors-To: test-report-bounces@dpdk.org _Testing PASS_ Branch: dpdk 76393b98bf67f94dc6aa23cf5016c32571899261 --> testing pass Upstream job id: Generic-DPDK-Compile-Meson#431532 Test environment and result as below: +-------------------------------+--------------------+-------------------------+-------------------+----------------------+-------------------+------------------+ | Environment | dpdk_meson_compile | dpdk_llvm_clang_compile | dpdk_msvc_compile | dpdk_mingw64_compile | dpdk_compile_spdk | dpdk_compile_ovs | +===============================+====================+=========================+===================+======================+===================+==================+ | Ubuntu 20.04 | PASS | SKIPPED | SKIPPED | SKIPPED | SKIPPED | SKIPPED | +-------------------------------+--------------------+-------------------------+-------------------+----------------------+-------------------+------------------+ | FreeBSD 14.2 | PASS | SKIPPED | SKIPPED | SKIPPED | SKIPPED | SKIPPED | +-------------------------------+--------------------+-------------------------+-------------------+----------------------+-------------------+------------------+ | CentOS Stream 10 | PASS | SKIPPED | SKIPPED | SKIPPED | SKIPPED | SKIPPED | +-------------------------------+--------------------+-------------------------+-------------------+----------------------+-------------------+------------------+ | CentOS Stream 9 | PASS | SKIPPED | SKIPPED | SKIPPED | PASS | SKIPPED | +-------------------------------+--------------------+-------------------------+-------------------+----------------------+-------------------+------------------+ | Debian GNU/Linux 12 | PASS | SKIPPED | SKIPPED | SKIPPED | PASS | SKIPPED | +-------------------------------+--------------------+-------------------------+-------------------+----------------------+-------------------+------------------+ | Fedora Linux 42 | PASS | SKIPPED | SKIPPED | SKIPPED | PASS | PASS | +-------------------------------+--------------------+-------------------------+-------------------+----------------------+-------------------+------------------+ | openSUSE Leap 15.6 | PASS | SKIPPED | SKIPPED | SKIPPED | SKIPPED | SKIPPED | +-------------------------------+--------------------+-------------------------+-------------------+----------------------+-------------------+------------------+ | Red Hat Enterprise Linux 8.10 | PASS | SKIPPED | SKIPPED | SKIPPED | SKIPPED | SKIPPED | +-------------------------------+--------------------+-------------------------+-------------------+----------------------+-------------------+------------------+ | Red Hat Enterprise Linux 9.5 | PASS | SKIPPED | SKIPPED | SKIPPED | SKIPPED | SKIPPED | +-------------------------------+--------------------+-------------------------+-------------------+----------------------+-------------------+------------------+ | Ubuntu 22.04 | PASS | SKIPPED | SKIPPED | SKIPPED | PASS | SKIPPED | +-------------------------------+--------------------+-------------------------+-------------------+----------------------+-------------------+------------------+ | Ubuntu 24.04 | PASS | SKIPPED | SKIPPED | SKIPPED | PASS | PASS | +-------------------------------+--------------------+-------------------------+-------------------+----------------------+-------------------+------------------+ | Windows Server 2022 | SKIPPED | PASS | PASS | PASS | SKIPPED | SKIPPED | +-------------------------------+--------------------+-------------------------+-------------------+----------------------+-------------------+------------------+ Ubuntu 20.04 Kernel: 4.19 Compiler: gcc gcc (Ubuntu 9.4.0-1ubuntu1~20.04.2) 9.4.0 FreeBSD 14.2 Kernel: 14.2-RELEASE Compiler: clang 18.1.6 CentOS Stream 10 Kernel: 5.15 Compiler: gcc gcc (GCC) 14.2.1 20250110 (Red Hat 14.2.1-8) CentOS Stream 9 Kernel: 5.15 Compiler: gcc gcc (GCC) 11.5.0 20240719 (Red Hat 11.5.0-11) Debian GNU/Linux 12 Kernel: 5.15 Compiler: gcc gcc (Debian 12.2.0-14+deb12u1) 12.2.0 Fedora Linux 42 Kernel: 5.15 Compiler: clang gcc (GCC) 15.2.1 20250808 (Red Hat 15.2.1-1) openSUSE Leap 15.6 Kernel: 5.15 Compiler: gcc gcc (SUSE Linux) 7.5.0 Red Hat Enterprise Linux 8.10 Kernel: 5.15 Compiler: gcc gcc (GCC) 8.5.0 20210514 (Red Hat 8.5.0-22) Red Hat Enterprise Linux 9.5 Kernel: 5.15 Compiler: gcc gcc (GCC) 11.5.0 20240719 (Red Hat 11.5.0-2) Ubuntu 22.04 Kernel: 5.15 Compiler: gcc gcc (Ubuntu 11.4.0-1ubuntu1~22.04) 11.4.0 Ubuntu 24.04 Kernel: 5.15 Compiler: gcc gcc (Ubuntu 13.3.0-6ubuntu2~24.04) 13.3.0 Windows Server 2022 Kernel: 10.0.20348.2031 Compiler: clang 15.0.7, gcc 14.1.0 (MinGW), and MSVC VS 19.39.33521 To view detailed results, visit: https://lab.dpdk.org/results/dashboard/tarballs/35103/ UNH-IOL DPDK Community Lab To manage your email subscriptions, visit: https://lab.dpdk.org/results/dashboard/preferences/subscriptions/