From mboxrd@z Thu Jan 1 00:00:00 1970 Return-Path: Received: from mails.dpdk.org (mails.dpdk.org [217.70.189.124]) by inbox.dpdk.org (Postfix) with ESMTP id 24582488CA for ; Mon, 6 Oct 2025 20:07:57 +0200 (CEST) Received: from mails.dpdk.org (localhost [127.0.0.1]) by mails.dpdk.org (Postfix) with ESMTP id 01B44402D1; Mon, 6 Oct 2025 20:07:57 +0200 (CEST) Received: from mail-pl1-f225.google.com (mail-pl1-f225.google.com [209.85.214.225]) by mails.dpdk.org (Postfix) with ESMTP id CB235402D1 for ; Mon, 6 Oct 2025 20:07:55 +0200 (CEST) Received: by mail-pl1-f225.google.com with SMTP id d9443c01a7336-2698384978dso37737275ad.0 for ; Mon, 06 Oct 2025 11:07:55 -0700 (PDT) DKIM-Signature: v=1; a=rsa-sha256; c=relaxed/relaxed; d=iol.unh.edu; s=unh-iol; t=1759774075; x=1760378875; darn=dpdk.org; h=cc:to:from:subject:message-id:date:from:to:cc:subject:date :message-id:reply-to; bh=KNw1ERH9Op3DKhrjOplWIyWC8cB4mwNIYsvl0Z2TGiw=; b=BD8NZu2QjYoguIRQijxJsqNyui0wDY+lIH0XEvqQ4/+ASsBADevTBW9xNP4waO8ube ZBrDvqODqEzKqYpPHsissHaIuwxzsWUPwqHUjMxvA5FYjTIkitPF8bbZUmhcBMi+1Vtz WOQ9kvl/qtbm+++/Z2vVZ8Az8xIpoS+Z59w60= X-Google-DKIM-Signature: v=1; a=rsa-sha256; c=relaxed/relaxed; d=1e100.net; s=20230601; t=1759774075; x=1760378875; h=cc:to:from:subject:message-id:date:x-gm-message-state:from:to:cc :subject:date:message-id:reply-to; bh=KNw1ERH9Op3DKhrjOplWIyWC8cB4mwNIYsvl0Z2TGiw=; b=P1C8pMYwvgUj3klDqUWQe1f1VBqCkaqrUdZP42ECWGtnEnjxcEzrpFHv6BhQ/zH9gq gGsKg88nRXihWnOTboELyal35htTP8Hi3Rm8g38wf5tmZtylri37n1rA+bgLXvSoB7En nqpyxvlJmU4MrkBzPOsMZqtW4P/m64tJ06MIsuj1S3FVhPXentdc7t/8SnSLhpYHsWUd osFAt1wTZSM+CzUxQdqLpK6tV8aPjSmqruEV94Jg/h2N19D9Uf6598Avl4ZR/PTmLdKc N9WLBEhBb1O4d9TffGE8YKQxyhDBA6319aOyWKMCxHo0ycYXzjj0SZXWuqhHfkpFCeuK q1yQ== X-Gm-Message-State: AOJu0YxIyAwmLcExp5zEo4z36zsN0hdkzXCsgjMQkb4e6dieaXXTK1dY BBGrBWIefIQ65YZyI9IoVD5bAS2VIcFYBYbYPHrnX3LBZ7eA7PAwvv43DqJr1tIyTi66H9uBQyB ci0xVuHsHX4ziVKeuXg7mPcJ77sHJiCnMFfE1//D1DovS/VouTgfU X-Gm-Gg: ASbGncseO1CLyAUGuihq6LcrujUKrMOWOLcTirKrLlCRp4/gsXk7wztw7NfywWCBzeh OKHlnXoo+nkpU4F2ErNoLZBKw7xgDWFvj3cO6g5L+vcfYBn/1MjIV6n19KTxjUlr0ILofsDBWlf p3tcYavxXisIC1U89pGCTXZkRtqGBQiaE5R9mNGlTILeWmnJb82nb6pWpqY0hrXQUfoCBUBKqfr Bwuc4k+t+Do1N30vltJwvmUcu8rzKBuv7tKnLrDlzk1qQhseIeM/Q+ZAfZpc7h50kIW7Q7XeXSS 9FpAbaDr2rQRagBEN1RsxDO29YBsaKH7greTfyvJsLrDgOYBqqENimY= X-Google-Smtp-Source: AGHT+IEhRJy+N0BTDRWOw4wa+J6OSZDL1TKjpfNa3zQOoODJSPbwhb4ORLcNhhznI+pHmHutbFXcWntXdqF2 X-Received: by 2002:a17:902:e78b:b0:26d:353c:75cd with SMTP id d9443c01a7336-28e9a567016mr168232915ad.21.1759774074840; Mon, 06 Oct 2025 11:07:54 -0700 (PDT) Received: from postal.iol.unh.edu (postal.iol.unh.edu. [2606:4100:3880:1234::84]) by smtp-relay.gmail.com with ESMTPS id d9443c01a7336-28e8d118f86sm10679835ad.27.2025.10.06.11.07.54 (version=TLS1_2 cipher=ECDHE-ECDSA-AES128-GCM-SHA256 bits=128/128); Mon, 06 Oct 2025 11:07:54 -0700 (PDT) X-Relaying-Domain: iol.unh.edu Date: Mon, 06 Oct 2025 11:07:54 -0700 (PDT) Message-ID: <68e4057a.170a0220.3441c4.9ed0SMTPIN_ADDED_MISSING@mx.google.com> Received: from [172.21.0.2] (unknown [172.18.0.240]) by postal.iol.unh.edu (Postfix) with ESMTP id 4D7B66051830; Mon, 6 Oct 2025 14:07:54 -0400 (EDT) Subject: |SUCCESS| [GIT MASTER] b287e404643aeab5bb5db084c142789df187844e From: dpdklab@iol.unh.edu To: Test Report Cc: dpdk-test-reports@iol.unh.edu, Xueming Li , Christian Ehrhardt , Kevin Traynor , Luca Boccassi Content-Type: text/plain X-BeenThere: test-report@dpdk.org X-Mailman-Version: 2.1.29 Precedence: list List-Id: automatic DPDK test reports List-Unsubscribe: , List-Archive: List-Post: List-Help: List-Subscribe: , Errors-To: test-report-bounces@dpdk.org _Testing PASS_ Branch: tags/v24.11 b287e404643aeab5bb5db084c142789df187844e --> testing pass Upstream job id: Generic-DPDK-Compile-Meson#431533 Test environment and result as below: +---------------------+--------------------+-------------------+-------------------------+----------------------+------------------+-------------------+ | Environment | dpdk_meson_compile | dpdk_msvc_compile | dpdk_llvm_clang_compile | dpdk_mingw64_compile | dpdk_compile_ovs | dpdk_compile_spdk | +=====================+====================+===================+=========================+======================+==================+===================+ | Ubuntu 20.04 | PASS | SKIPPED | SKIPPED | SKIPPED | SKIPPED | SKIPPED | +---------------------+--------------------+-------------------+-------------------------+----------------------+------------------+-------------------+ | FreeBSD 14.2 | PASS | SKIPPED | SKIPPED | SKIPPED | SKIPPED | SKIPPED | +---------------------+--------------------+-------------------+-------------------------+----------------------+------------------+-------------------+ | Ubuntu 24.04 | PASS | SKIPPED | SKIPPED | SKIPPED | PASS | PASS | +---------------------+--------------------+-------------------+-------------------------+----------------------+------------------+-------------------+ | Windows Server 2022 | SKIPPED | PASS | PASS | PASS | SKIPPED | SKIPPED | +---------------------+--------------------+-------------------+-------------------------+----------------------+------------------+-------------------+ Ubuntu 20.04 Kernel: 4.19 Compiler: gcc gcc (Ubuntu 9.4.0-1ubuntu1~20.04.2) 9.4.0 FreeBSD 14.2 Kernel: 14.2-RELEASE Compiler: clang 18.1.6 Ubuntu 24.04 Kernel: 5.15 Compiler: gcc gcc (Ubuntu 13.3.0-6ubuntu2~24.04) 13.3.0 Windows Server 2022 Kernel: 10.0.20348.2031 Compiler: clang 15.0.7, gcc 14.1.0 (MinGW), and MSVC VS 19.39.33521 To view detailed results, visit: https://lab.dpdk.org/results/dashboard/tarballs/35115/ UNH-IOL DPDK Community Lab To manage your email subscriptions, visit: https://lab.dpdk.org/results/dashboard/preferences/subscriptions/