From mboxrd@z Thu Jan 1 00:00:00 1970 Return-Path: Received: from mails.dpdk.org (mails.dpdk.org [217.70.189.124]) by inbox.dpdk.org (Postfix) with ESMTP id 2A3F2488CA for ; Mon, 6 Oct 2025 20:31:27 +0200 (CEST) Received: from mails.dpdk.org (localhost [127.0.0.1]) by mails.dpdk.org (Postfix) with ESMTP id 0F684402D1; Mon, 6 Oct 2025 20:31:27 +0200 (CEST) Received: from mail-oa1-f98.google.com (mail-oa1-f98.google.com [209.85.160.98]) by mails.dpdk.org (Postfix) with ESMTP id 1A1C3402D1 for ; Mon, 6 Oct 2025 20:31:26 +0200 (CEST) Received: by mail-oa1-f98.google.com with SMTP id 586e51a60fabf-35acca93e00so3056777fac.2 for ; Mon, 06 Oct 2025 11:31:26 -0700 (PDT) DKIM-Signature: v=1; a=rsa-sha256; c=relaxed/relaxed; d=iol.unh.edu; s=unh-iol; t=1759775485; x=1760380285; darn=dpdk.org; h=cc:to:from:subject:message-id:date:from:to:cc:subject:date :message-id:reply-to; bh=XpV0NSFAj9/CeaRXWecfWiaaJ06ufaJ2l/W6HMP0CyY=; b=PoxBYa+dUrWKlieGA1PzcgLTT+vCWWLQ/HWYxZSLzctz0vvd7nBBwxMtc3oYV2vZFq QQXakufl0J6aPveM92DYH0gCAnDWRRS8d+Ut7Y98/NbcifT+MoNixYJDBwtBXfhty3VL c2bSjsqE5j9NpcJhNjH/0LeXjx3kJFS2L7Kd8= X-Google-DKIM-Signature: v=1; a=rsa-sha256; c=relaxed/relaxed; d=1e100.net; s=20230601; t=1759775485; x=1760380285; h=cc:to:from:subject:message-id:date:x-gm-message-state:from:to:cc :subject:date:message-id:reply-to; bh=XpV0NSFAj9/CeaRXWecfWiaaJ06ufaJ2l/W6HMP0CyY=; b=jbOHwJQroIzmug7v/Uvvp/2Q76aHC5Fe4N7hnTTKNmdRCKFK8aj487axZSQiIo6vwI FiFt5Z8A5/L4ue4K1HNMoI6tNCL7CU9D5Rom9tXRyc/BzyGuimM5nyuzD1Sss1f12hB7 eTjGOSNP6GND3xKXrRk6cJ00bOWmdbyg53t2XJyuAhsSh0stQKVbMjHy6dwbNmUqeDOo r4MKWysheUAzoItW2VxiCailE2wgXTNCoXSUvyYkdZCJQ5DtXwvC0ieTRdrltDK7Vylk PjD8YZua3mTbGehNhvxfmnyzvfuCnFabJh2Dj5dZE79y+pNskZ8pnnCEtp7RumHNpyiC +egA== X-Gm-Message-State: AOJu0YxlecdhYdwiwi77BtF1UK2BMbsWFlJ1PoQa28NgcuoMcwXZGmPW jtYiSh3Eb1EzqieC5eT1xtslgsV3d/lZIcErYMsH6QLbYm7lPxKhNYFZVy0Sgao3OhJ4pKMbSxT lfH9UEf+DUlOby1qprwPZFSeEm94PpZerCpvXYSbWfDR9 X-Gm-Gg: ASbGncs6U+bpI/xlrBp4Z7hg0JyyBBoM2RTuqCTx6Gpg8MOFr1Xa+7IsE4nT3cibQb8 j6qO3S1nsTOLrS93Hk/Z9koAoFJWatJf7co2atwL4Gz7ODqYSBwoiUxUPscYz8Jl3+foDBddOT1 esuO/wVUYqbwv3PJiU1HCoT6xPXDllzqbzbF0bWsMKwLHhuwBE8slvbhTt2z/yFrYn6xJVbZTVe AGc/smKFoUUxC5tHsVf2xY0Ptn68tANXMKy3ec0kRQxgHT7KLJy+j7NWieFFgDM84IGc1RximCE qxwMOBkG17NnvNuGrV3EQS57Du6WkM8RsXBE2GcQstk0Voh1W0p0QXX6Qt1tUMy9wmFnq5QlTim ayA== X-Google-Smtp-Source: AGHT+IE+f0+1Q7sogu+odD91HKI74NwOCHg2oCxbBGoQ76EfMwoBGlcR4WrVlNa6ONU3mCRKumYkr8dZNvmc X-Received: by 2002:a05:6871:2b1b:b0:32e:f4de:2db3 with SMTP id 586e51a60fabf-3b0f54b2fe7mr7736432fac.0.1759775485158; Mon, 06 Oct 2025 11:31:25 -0700 (PDT) Received: from postal.iol.unh.edu (postal.iol.unh.edu. [132.177.123.84]) by smtp-relay.gmail.com with ESMTPS id 46e09a7af769-7bf3f802a38sm808145a34.1.2025.10.06.11.31.25 (version=TLS1_2 cipher=ECDHE-ECDSA-AES128-GCM-SHA256 bits=128/128); Mon, 06 Oct 2025 11:31:25 -0700 (PDT) X-Relaying-Domain: iol.unh.edu Date: Mon, 06 Oct 2025 11:31:25 -0700 (PDT) Message-ID: <68e40afd.050a0220.248031.b9f8SMTPIN_ADDED_MISSING@mx.google.com> Received: from [172.21.0.2] (unknown [172.18.0.240]) by postal.iol.unh.edu (Postfix) with ESMTP id A4D696051830; Mon, 6 Oct 2025 14:31:24 -0400 (EDT) Subject: |SUCCESS| [GIT MASTER] 76393b98bf67f94dc6aa23cf5016c32571899261 From: dpdklab@iol.unh.edu To: Test Report Cc: dpdk-test-reports@iol.unh.edu Content-Type: text/plain X-BeenThere: test-report@dpdk.org X-Mailman-Version: 2.1.29 Precedence: list List-Id: automatic DPDK test reports List-Unsubscribe: , List-Archive: List-Post: List-Help: List-Subscribe: , Errors-To: test-report-bounces@dpdk.org _Testing PASS_ Branch: dpdk 76393b98bf67f94dc6aa23cf5016c32571899261 --> testing pass Upstream job id: Generic-DPDK-Compile-Meson#431538 Test environment and result as below: +-------------------------------+--------------------+-------------------------+-------------------+----------------------+-------------------+------------------+ | Environment | dpdk_meson_compile | dpdk_llvm_clang_compile | dpdk_msvc_compile | dpdk_mingw64_compile | dpdk_compile_spdk | dpdk_compile_ovs | +===============================+====================+=========================+===================+======================+===================+==================+ | Ubuntu 20.04 | PASS | SKIPPED | SKIPPED | SKIPPED | SKIPPED | SKIPPED | +-------------------------------+--------------------+-------------------------+-------------------+----------------------+-------------------+------------------+ | FreeBSD 14.2 | PASS | SKIPPED | SKIPPED | SKIPPED | SKIPPED | SKIPPED | +-------------------------------+--------------------+-------------------------+-------------------+----------------------+-------------------+------------------+ | CentOS Stream 10 | PASS | SKIPPED | SKIPPED | SKIPPED | SKIPPED | SKIPPED | +-------------------------------+--------------------+-------------------------+-------------------+----------------------+-------------------+------------------+ | CentOS Stream 9 | PASS | SKIPPED | SKIPPED | SKIPPED | PASS | SKIPPED | +-------------------------------+--------------------+-------------------------+-------------------+----------------------+-------------------+------------------+ | Debian GNU/Linux 12 | PASS | SKIPPED | SKIPPED | SKIPPED | PASS | SKIPPED | +-------------------------------+--------------------+-------------------------+-------------------+----------------------+-------------------+------------------+ | Fedora Linux 42 | PASS | SKIPPED | SKIPPED | SKIPPED | PASS | PASS | +-------------------------------+--------------------+-------------------------+-------------------+----------------------+-------------------+------------------+ | openSUSE Leap 15.6 | PASS | SKIPPED | SKIPPED | SKIPPED | SKIPPED | SKIPPED | +-------------------------------+--------------------+-------------------------+-------------------+----------------------+-------------------+------------------+ | Red Hat Enterprise Linux 8.10 | PASS | SKIPPED | SKIPPED | SKIPPED | SKIPPED | SKIPPED | +-------------------------------+--------------------+-------------------------+-------------------+----------------------+-------------------+------------------+ | Red Hat Enterprise Linux 9.5 | PASS | SKIPPED | SKIPPED | SKIPPED | SKIPPED | SKIPPED | +-------------------------------+--------------------+-------------------------+-------------------+----------------------+-------------------+------------------+ | Ubuntu 22.04 | PASS | SKIPPED | SKIPPED | SKIPPED | PASS | SKIPPED | +-------------------------------+--------------------+-------------------------+-------------------+----------------------+-------------------+------------------+ | Ubuntu 24.04 | PASS | SKIPPED | SKIPPED | SKIPPED | PASS | PASS | +-------------------------------+--------------------+-------------------------+-------------------+----------------------+-------------------+------------------+ | Alpine Linux 3.22.0 | PASS | SKIPPED | SKIPPED | SKIPPED | SKIPPED | SKIPPED | +-------------------------------+--------------------+-------------------------+-------------------+----------------------+-------------------+------------------+ | Windows Server 2022 | SKIPPED | PASS | PASS | PASS | SKIPPED | SKIPPED | +-------------------------------+--------------------+-------------------------+-------------------+----------------------+-------------------+------------------+ Ubuntu 20.04 Kernel: 4.19 Compiler: gcc gcc (Ubuntu 9.4.0-1ubuntu1~20.04.2) 9.4.0 FreeBSD 14.2 Kernel: 14.2-RELEASE Compiler: clang 18.1.6 CentOS Stream 10 Kernel: 5.15 Compiler: gcc gcc (GCC) 14.2.1 20250110 (Red Hat 14.2.1-8) CentOS Stream 9 Kernel: 5.15 Compiler: gcc gcc (GCC) 11.5.0 20240719 (Red Hat 11.5.0-11) Debian GNU/Linux 12 Kernel: 5.15 Compiler: gcc gcc (Debian 12.2.0-14+deb12u1) 12.2.0 Fedora Linux 42 Kernel: 5.15 Compiler: clang gcc (GCC) 15.2.1 20250808 (Red Hat 15.2.1-1) openSUSE Leap 15.6 Kernel: 5.15 Compiler: gcc gcc (SUSE Linux) 7.5.0 Red Hat Enterprise Linux 8.10 Kernel: 5.15 Compiler: gcc gcc (GCC) 8.5.0 20210514 (Red Hat 8.5.0-22) Red Hat Enterprise Linux 9.5 Kernel: 5.15 Compiler: gcc gcc (GCC) 11.5.0 20240719 (Red Hat 11.5.0-2) Ubuntu 22.04 Kernel: 5.15 Compiler: gcc gcc (Ubuntu 11.4.0-1ubuntu1~22.04) 11.4.0 Ubuntu 24.04 Kernel: 5.15 Compiler: gcc gcc (Ubuntu 13.3.0-6ubuntu2~24.04) 13.3.0 Alpine Linux 3.22.0 Kernel: 5.15 Compiler: gcc gcc (Alpine 14.2.0) 14.2.0 Windows Server 2022 Kernel: 10.0.20348.2031 Compiler: clang 15.0.7, gcc 14.1.0 (MinGW), and MSVC VS 19.39.33521 To view detailed results, visit: https://lab.dpdk.org/results/dashboard/tarballs/35103/ UNH-IOL DPDK Community Lab To manage your email subscriptions, visit: https://lab.dpdk.org/results/dashboard/preferences/subscriptions/