From mboxrd@z Thu Jan 1 00:00:00 1970 Return-Path: Received: from mails.dpdk.org (mails.dpdk.org [217.70.189.124]) by inbox.dpdk.org (Postfix) with ESMTP id 446FD488CA for ; Mon, 6 Oct 2025 20:32:17 +0200 (CEST) Received: from mails.dpdk.org (localhost [127.0.0.1]) by mails.dpdk.org (Postfix) with ESMTP id 3FE9C402D1; Mon, 6 Oct 2025 20:32:17 +0200 (CEST) Received: from mail-pf1-f225.google.com (mail-pf1-f225.google.com [209.85.210.225]) by mails.dpdk.org (Postfix) with ESMTP id 72CC0402D1 for ; Mon, 6 Oct 2025 20:32:16 +0200 (CEST) Received: by mail-pf1-f225.google.com with SMTP id d2e1a72fcca58-7810289cd4bso5054825b3a.2 for ; Mon, 06 Oct 2025 11:32:16 -0700 (PDT) DKIM-Signature: v=1; a=rsa-sha256; c=relaxed/relaxed; d=iol.unh.edu; s=unh-iol; t=1759775535; x=1760380335; darn=dpdk.org; h=references:in-reply-to:cc:to:from:subject:message-id:date:from:to :cc:subject:date:message-id:reply-to; bh=oo+Uze8xhGtNhf3zomeO/0uK5dBEH+/eCJ89K6Zs498=; b=i2/HwcJMrX3xE2x3Mazmvt1S16PuzE/B0W3j5qQYj8ilG+anIcluA9woYwgkG9gsbG XbV5JCBJeZD59SnF0rfPiMoP0nef/9Pivlk2BRXJgiCAMAHhQZywZ+Ov7rEgzVaeZ2xN 1PJQA9Joj0GqBH6TQIL79yQdvpfWlc9bYP62w= X-Google-DKIM-Signature: v=1; a=rsa-sha256; c=relaxed/relaxed; d=1e100.net; s=20230601; t=1759775535; x=1760380335; h=references:in-reply-to:cc:to:from:subject:message-id:date :x-gm-message-state:from:to:cc:subject:date:message-id:reply-to; bh=oo+Uze8xhGtNhf3zomeO/0uK5dBEH+/eCJ89K6Zs498=; b=bRvQPSeKQBRgSTMksQ/jEZiDCLfY9my/iDVLM/jEJvTC1Y9LOmnvP2iEWfOVKsXFw8 g1JQmWMtTCaSz08/vDIK8BNAlgF5RVCpvp0tTHNdrAvMdt3R7rCyHS+gD1myMBNVbCl3 qvP1KkmBJxJ7X0vDvp+rnX+HRfPit8truV01jJLrJM5SAMAUc7PoDaiZvoixW1LiqAsy yq0V4pphY8dHxh110Zpg3NngAExhdJ/K+NUEyl5NpTezs/Jey3d0x9o0FqQplxg2Ki+y AtjXhRrDRC7evfeZLkQ6pZlsR+sN30du5iyyDA+N3DeNliFFdqOkLf060dJVr9OxkE5m tzCg== X-Gm-Message-State: AOJu0YxsOgxDOSZz1fm9PQ1VFggRT9SQZuJHKRzHy47SUIl+97lkCAUc UUvaDAO/8OdNWAwlgBecuunljT4AHFvblAMgifajdYJIwdytt8Li2NtDiKq3jGYbtj559HlZ9Qk wdJOajRvpf3VP5JGZibsFCIuj+zv+fK8oDzBokk+7TOOZ X-Gm-Gg: ASbGncuDn4kFZRc8yvyiAYAeMP8QltX8JrCdF4sM0L1+AEEYYVitQYE/e9sacDeuNp+ ziRoW+sWP8NTj/ZiZJuqoDdT3VTnQ2+SQFiogLdipKH62icKVErfjVt/B/KplDrrAnB9I/YvV0N ltmyrwVP/DZPil3HDqWgWA/Tlkt9/Q1TO8O8uEISPA3wQMkCKFdiFZL1hjwN3AaEeJXjOVDjBMG RPBY+JpR0ddUN+7zH4xmTzVkAbywAvB9TztlGhDMGGCeejLRGSaqrmMFZIqmiY+ApE9LRlHP1wC PSBPh8Zf8XfO+NW4LAKovVaMfaLolzzkcJwcI0koO6w0p5TyIVxikXz91DX/cb6n5KhycGIelzZ 7QA== X-Google-Smtp-Source: AGHT+IGPtc/U5NHk/1hguQ7NTA2xDlQHlWanFVzLSRYQN58FAMEmaGuYmfWXdhPvtDKK989+21ZGqiyWKn/x X-Received: by 2002:a05:6a20:2447:b0:2ea:f131:e257 with SMTP id adf61e73a8af0-32b620e8774mr17412340637.51.1759775535622; Mon, 06 Oct 2025 11:32:15 -0700 (PDT) Received: from postal.iol.unh.edu (postal.iol.unh.edu. [132.177.123.84]) by smtp-relay.gmail.com with ESMTPS id d2e1a72fcca58-78b0204cdd2sm850916b3a.13.2025.10.06.11.32.15 (version=TLS1_2 cipher=ECDHE-ECDSA-AES128-GCM-SHA256 bits=128/128); Mon, 06 Oct 2025 11:32:15 -0700 (PDT) X-Relaying-Domain: iol.unh.edu Date: Mon, 06 Oct 2025 11:32:15 -0700 (PDT) Message-ID: <68e40b2f.050a0220.245412.f4ebSMTPIN_ADDED_MISSING@mx.google.com> Received: from [172.21.0.2] (unknown [172.18.0.240]) by postal.iol.unh.edu (Postfix) with ESMTP id D4D956051830; Mon, 6 Oct 2025 14:32:14 -0400 (EDT) Subject: |SUCCESS| pw157278-157282 [PATCH] [5/5] net/cnxk: enable CPT CQ for From: dpdklab@iol.unh.edu To: Test Report Cc: dpdk-test-reports@iol.unh.edu In-Reply-To: <20251006051402.1387576-5-rkudurumalla@marvell.com> References: <20251006051402.1387576-5-rkudurumalla@marvell.com> Content-Type: text/plain X-BeenThere: test-report@dpdk.org X-Mailman-Version: 2.1.29 Precedence: list List-Id: automatic DPDK test reports List-Unsubscribe: , List-Archive: List-Post: List-Help: List-Subscribe: , Errors-To: test-report-bounces@dpdk.org Test-Label: iol-unit-arm64-testing Test-Status: SUCCESS http://dpdk.org/patch/157282 _Testing PASS_ Submitter: Rakesh Kudurumalla Date: Monday, October 06 2025 05:14:02 DPDK git baseline: Repo:dpdk-next-net-mrvl Branch: master CommitID:f3878b615e69a12087a6c5d212723478cfc79c31 157278-157282 --> testing pass Upstream job id: Generic-Unit-Test-DPDK#378769 Test environment and result as below: +------------------------------+----------------+---------------------------+--------------+------------------------------+ | Environment | dpdk_unit_test | cryptodev_sw_zuc_autotest | lpm_autotest | cryptodev_sw_snow3g_autotest | +==============================+================+===========================+==============+==============================+ | CentOS Stream 10 | PASS | SKIPPED | SKIPPED | SKIPPED | +------------------------------+----------------+---------------------------+--------------+------------------------------+ | Debian GNU/Linux 12 | PASS | SKIPPED | SKIPPED | SKIPPED | +------------------------------+----------------+---------------------------+--------------+------------------------------+ | CentOS Stream 9 | PASS | SKIPPED | SKIPPED | SKIPPED | +------------------------------+----------------+---------------------------+--------------+------------------------------+ | Fedora Linux 40 | PASS | SKIPPED | SKIPPED | SKIPPED | +------------------------------+----------------+---------------------------+--------------+------------------------------+ | Fedora Linux 41 | PASS | SKIPPED | SKIPPED | SKIPPED | +------------------------------+----------------+---------------------------+--------------+------------------------------+ | Red Hat Enterprise Linux 9.5 | PASS | SKIPPED | SKIPPED | SKIPPED | +------------------------------+----------------+---------------------------+--------------+------------------------------+ | Fedora Linux 42 | PASS | SKIPPED | SKIPPED | SKIPPED | +------------------------------+----------------+---------------------------+--------------+------------------------------+ | Ubuntu 22.04 | PASS | SKIPPED | SKIPPED | SKIPPED | +------------------------------+----------------+---------------------------+--------------+------------------------------+ | Ubuntu 20.04 | PASS | SKIPPED | PASS | SKIPPED | +------------------------------+----------------+---------------------------+--------------+------------------------------+ | Ubuntu 24.04 | PASS | SKIPPED | SKIPPED | SKIPPED | +------------------------------+----------------+---------------------------+--------------+------------------------------+ | Debian 12 (arm) | SKIPPED | PASS | SKIPPED | PASS | +------------------------------+----------------+---------------------------+--------------+------------------------------+ CentOS Stream 10 Kernel: 5.4 Compiler: gcc gcc (GCC) 14.2.1 20250110 (Red Hat 14.2.1-8) Debian GNU/Linux 12 Kernel: 5.4 Compiler: gcc gcc (Debian 12.2.0-14+deb12u1) 12.2.0 CentOS Stream 9 Kernel: 5.4 Compiler: gcc gcc (GCC) 11.5.0 20240719 (Red Hat 11.5.0-11) Fedora Linux 40 Kernel: 5.4 Compiler: gcc gcc (GCC) 14.2.1 20240912 (Red Hat 14.2.1-3) Fedora Linux 41 Kernel: 5.4 Compiler: gcc gcc (GCC) 14.3.1 20250523 (Red Hat 14.3.1-1) Red Hat Enterprise Linux 9.5 Kernel: 5.4 Compiler: gcc gcc (GCC) 11.5.0 20240719 (Red Hat 11.5.0-2) Fedora Linux 42 Kernel: 5.4 Compiler: gcc gcc (GCC) 15.2.1 20250808 (Red Hat 15.2.1-1) Ubuntu 22.04 Kernel: 5.4 Compiler: gcc gcc (Ubuntu 11.4.0-1ubuntu1~22.04) 11.4.0 Ubuntu 20.04 Kernel: 5.4 Compiler: gcc gcc (Ubuntu 9.4.0-1ubuntu1~20.04.2) 9.4.0 Ubuntu 24.04 Kernel: 5.4 Compiler: gcc gcc (Ubuntu 13.3.0-6ubuntu2~24.04) 13.3.0 Debian 12 (arm) Kernel: Depends on container host Compiler: gcc (Debian 12.2.0-14) 12.2.0 To view detailed results, visit: https://lab.dpdk.org/results/dashboard/patchsets/34217/ UNH-IOL DPDK Community Lab To manage your email subscriptions, visit: https://lab.dpdk.org/results/dashboard/preferences/subscriptions/