From mboxrd@z Thu Jan 1 00:00:00 1970 Return-Path: Received: from mails.dpdk.org (mails.dpdk.org [217.70.189.124]) by inbox.dpdk.org (Postfix) with ESMTP id 83415488CA for ; Mon, 6 Oct 2025 21:00:57 +0200 (CEST) Received: from mails.dpdk.org (localhost [127.0.0.1]) by mails.dpdk.org (Postfix) with ESMTP id 6C21A402D1; Mon, 6 Oct 2025 21:00:57 +0200 (CEST) Received: from mail-qv1-f99.google.com (mail-qv1-f99.google.com [209.85.219.99]) by mails.dpdk.org (Postfix) with ESMTP id 516F5402D1 for ; Mon, 6 Oct 2025 21:00:56 +0200 (CEST) Received: by mail-qv1-f99.google.com with SMTP id 6a1803df08f44-79390b83c7dso43552606d6.1 for ; Mon, 06 Oct 2025 12:00:56 -0700 (PDT) DKIM-Signature: v=1; a=rsa-sha256; c=relaxed/relaxed; d=iol.unh.edu; s=unh-iol; t=1759777255; x=1760382055; darn=dpdk.org; h=cc:to:from:subject:message-id:date:from:to:cc:subject:date :message-id:reply-to; bh=z+RWMKNOq6sbpt2cfSlaObIm+qDOWSbzZtP3Of1wDa0=; b=SwTbnH1lMnKl6Mdc6YtczLS1RTAP6vXXRWAiFIRZvwHv5EccmtsCmKcrOtr/7IMsCQ k1MPGyiHojxe9dcMaSKtt9LRWpMFgMwQN6NtFg3m1wxvESBX8ujwuQG5/skYS2VeaFNx i+F9qoE7KXJEp7oh1pfA/vbjQeeb6gAUSc+Y8= X-Google-DKIM-Signature: v=1; a=rsa-sha256; c=relaxed/relaxed; d=1e100.net; s=20230601; t=1759777255; x=1760382055; h=cc:to:from:subject:message-id:date:x-gm-message-state:from:to:cc :subject:date:message-id:reply-to; bh=z+RWMKNOq6sbpt2cfSlaObIm+qDOWSbzZtP3Of1wDa0=; b=Hpv8/ckdAjMpgDjDj6xWH7wsUngY73S4xZ5ysFGkd6CzxG7dj8BhvgJ88oLJA7OvXE TZ5Ohz4OOLN7PnnwRwClB94fMb8ACbBjSSNxoZQqyQCpaPnsbu1Tpa4OjfJtK5oxzFWn heN6Hvj2NnZkTjU0ZDj3SzVzMsfzysTb1je9s/wPsZC2qLIMFWOBstQqMxDyhc7BtPGO 284wUFjHjtuW1TUEWfiEcVQEjppd1DcDKLIYxOhW5+xvqfR1lVR6p4vUDgUhmgTfP6vC EBdIorXSGHj/VuO9NP6n7orLO90m3gCq89LFhB5hRkJbk5t6z+sxIMKH6kgl6RYF5Ltw 7pdw== X-Gm-Message-State: AOJu0YzNsvXpLce/2WW8PqjLe0W17qakpWSlBU6rSVycv6NlZrj++ade P9PWG+Tc/BblTqdTUWnEhr0DAQKXuTBOIxwtXukJmT23lOokz39sQL7StjlIRmBD25Z9zrw1+u3 tS1NUfeF5qI+A22E5/R4AOOrUxCv9g/AUCsB1ogQZeeJB5VukBV22aEzShPEj X-Gm-Gg: ASbGncsox4C+H9jxJh8Th1Ebvk6zEoSjM8CNP3vk81gsBBZsozRLQYgD857mO479b2r pnV4ZlEvseIqrDcI3SfhyFTpDrzC55xH29W51jdTgf1Zb05qC/fJmUR+vnNSzRYpq6nwmnmwDVo V/MUjn2t1AA62IEvCCeC9XxGP56XUM7Jz6yz5Qc02Px7gpC/cUQAsEPWGZj7O+rUdIKHQNl5+Mn 3P2EOLjZ3LDH+pryn94kEd8gb6DEDdVMDaf5ipqIO7s2yGrZKkp+VWMo02FQHcSYSZbP3i4821h frOlUh5gmmmoRljzxCkSZVFnNb8ZgaOmdmeNKBxZPRN7JfUpnS45URs= X-Google-Smtp-Source: AGHT+IFrmhBkIm8G1hGZpQIwANLBb3X8Rqfk+8Q68Tg8AaCAzFGGf28Mi2qDT0wf89bDkDp5XHE5QJpXYnpb X-Received: by 2002:a05:6214:f05:b0:86b:edb:d031 with SMTP id 6a1803df08f44-879dc860bd1mr164365886d6.57.1759777255391; Mon, 06 Oct 2025 12:00:55 -0700 (PDT) Received: from postal.iol.unh.edu (postal.iol.unh.edu. [2606:4100:3880:1234::84]) by smtp-relay.gmail.com with ESMTPS id 6a1803df08f44-878be04c74asm12240386d6.28.2025.10.06.12.00.55 (version=TLS1_2 cipher=ECDHE-ECDSA-AES128-GCM-SHA256 bits=128/128); Mon, 06 Oct 2025 12:00:55 -0700 (PDT) X-Relaying-Domain: iol.unh.edu Date: Mon, 06 Oct 2025 12:00:55 -0700 (PDT) Message-ID: <68e411e7.d40a0220.367fc2.2846SMTPIN_ADDED_MISSING@mx.google.com> Received: from [172.21.0.3] (unknown [172.18.0.240]) by postal.iol.unh.edu (Postfix) with ESMTP id 15AB2604D420; Mon, 6 Oct 2025 15:00:55 -0400 (EDT) Subject: |SUCCESS| [GIT MASTER] 76393b98bf67f94dc6aa23cf5016c32571899261 From: dpdklab@iol.unh.edu To: Test Report Cc: dpdk-test-reports@iol.unh.edu Content-Type: text/plain X-BeenThere: test-report@dpdk.org X-Mailman-Version: 2.1.29 Precedence: list List-Id: automatic DPDK test reports List-Unsubscribe: , List-Archive: List-Post: List-Help: List-Subscribe: , Errors-To: test-report-bounces@dpdk.org _Testing PASS_ Branch: dpdk 76393b98bf67f94dc6aa23cf5016c32571899261 --> testing pass Upstream job id: Generic-DPDK-Compile-Meson#431540 Test environment and result as below: +-------------------------------+--------------------+-------------------------+-------------------+----------------------+-------------------+------------------+ | Environment | dpdk_meson_compile | dpdk_llvm_clang_compile | dpdk_msvc_compile | dpdk_mingw64_compile | dpdk_compile_spdk | dpdk_compile_ovs | +===============================+====================+=========================+===================+======================+===================+==================+ | Ubuntu 20.04 | PASS | SKIPPED | SKIPPED | SKIPPED | SKIPPED | SKIPPED | +-------------------------------+--------------------+-------------------------+-------------------+----------------------+-------------------+------------------+ | FreeBSD 14.2 | PASS | SKIPPED | SKIPPED | SKIPPED | SKIPPED | SKIPPED | +-------------------------------+--------------------+-------------------------+-------------------+----------------------+-------------------+------------------+ | CentOS Stream 10 | PASS | SKIPPED | SKIPPED | SKIPPED | SKIPPED | SKIPPED | +-------------------------------+--------------------+-------------------------+-------------------+----------------------+-------------------+------------------+ | CentOS Stream 9 | PASS | SKIPPED | SKIPPED | SKIPPED | PASS | SKIPPED | +-------------------------------+--------------------+-------------------------+-------------------+----------------------+-------------------+------------------+ | Debian GNU/Linux 12 | PASS | SKIPPED | SKIPPED | SKIPPED | PASS | SKIPPED | +-------------------------------+--------------------+-------------------------+-------------------+----------------------+-------------------+------------------+ | Fedora Linux 42 | PASS | SKIPPED | SKIPPED | SKIPPED | PASS | PASS | +-------------------------------+--------------------+-------------------------+-------------------+----------------------+-------------------+------------------+ | openSUSE Leap 15.6 | PASS | SKIPPED | SKIPPED | SKIPPED | SKIPPED | SKIPPED | +-------------------------------+--------------------+-------------------------+-------------------+----------------------+-------------------+------------------+ | Red Hat Enterprise Linux 8.10 | PASS | SKIPPED | SKIPPED | SKIPPED | SKIPPED | SKIPPED | +-------------------------------+--------------------+-------------------------+-------------------+----------------------+-------------------+------------------+ | Red Hat Enterprise Linux 9.5 | PASS | SKIPPED | SKIPPED | SKIPPED | SKIPPED | SKIPPED | +-------------------------------+--------------------+-------------------------+-------------------+----------------------+-------------------+------------------+ | Ubuntu 22.04 | PASS | SKIPPED | SKIPPED | SKIPPED | PASS | SKIPPED | +-------------------------------+--------------------+-------------------------+-------------------+----------------------+-------------------+------------------+ | Ubuntu 24.04 | PASS | SKIPPED | SKIPPED | SKIPPED | PASS | PASS | +-------------------------------+--------------------+-------------------------+-------------------+----------------------+-------------------+------------------+ | Alpine Linux 3.22.0 | PASS | SKIPPED | SKIPPED | SKIPPED | SKIPPED | SKIPPED | +-------------------------------+--------------------+-------------------------+-------------------+----------------------+-------------------+------------------+ | Arch Linux 20250613.0.365270 | PASS | SKIPPED | SKIPPED | SKIPPED | SKIPPED | SKIPPED | +-------------------------------+--------------------+-------------------------+-------------------+----------------------+-------------------+------------------+ | Windows Server 2022 | SKIPPED | PASS | PASS | PASS | SKIPPED | SKIPPED | +-------------------------------+--------------------+-------------------------+-------------------+----------------------+-------------------+------------------+ Ubuntu 20.04 Kernel: 4.19 Compiler: gcc gcc (Ubuntu 9.4.0-1ubuntu1~20.04.2) 9.4.0 FreeBSD 14.2 Kernel: 14.2-RELEASE Compiler: clang 18.1.6 CentOS Stream 10 Kernel: 5.15 Compiler: gcc gcc (GCC) 14.2.1 20250110 (Red Hat 14.2.1-8) CentOS Stream 9 Kernel: 5.15 Compiler: gcc gcc (GCC) 11.5.0 20240719 (Red Hat 11.5.0-11) Debian GNU/Linux 12 Kernel: 5.15 Compiler: gcc gcc (Debian 12.2.0-14+deb12u1) 12.2.0 Fedora Linux 42 Kernel: 5.15 Compiler: clang gcc (GCC) 15.2.1 20250808 (Red Hat 15.2.1-1) openSUSE Leap 15.6 Kernel: 5.15 Compiler: gcc gcc (SUSE Linux) 7.5.0 Red Hat Enterprise Linux 8.10 Kernel: 5.15 Compiler: gcc gcc (GCC) 8.5.0 20210514 (Red Hat 8.5.0-22) Red Hat Enterprise Linux 9.5 Kernel: 5.15 Compiler: gcc gcc (GCC) 11.5.0 20240719 (Red Hat 11.5.0-2) Ubuntu 22.04 Kernel: 5.15 Compiler: gcc gcc (Ubuntu 11.4.0-1ubuntu1~22.04) 11.4.0 Ubuntu 24.04 Kernel: 5.15 Compiler: gcc gcc (Ubuntu 13.3.0-6ubuntu2~24.04) 13.3.0 Alpine Linux 3.22.0 Kernel: 5.15 Compiler: gcc gcc (Alpine 14.2.0) 14.2.0 Arch Linux 20250613.0.365270 Kernel: 5.15 Compiler: gcc gcc (GCC) 15.1.1 20250425 Windows Server 2022 Kernel: 10.0.20348.2031 Compiler: clang 15.0.7, gcc 14.1.0 (MinGW), and MSVC VS 19.39.33521 To view detailed results, visit: https://lab.dpdk.org/results/dashboard/tarballs/35103/ UNH-IOL DPDK Community Lab To manage your email subscriptions, visit: https://lab.dpdk.org/results/dashboard/preferences/subscriptions/