From mboxrd@z Thu Jan 1 00:00:00 1970 Return-Path: Received: from mails.dpdk.org (mails.dpdk.org [217.70.189.124]) by inbox.dpdk.org (Postfix) with ESMTP id 8B59C488CA for ; Mon, 6 Oct 2025 21:17:29 +0200 (CEST) Received: from mails.dpdk.org (localhost [127.0.0.1]) by mails.dpdk.org (Postfix) with ESMTP id 6BB35402D1; Mon, 6 Oct 2025 21:17:29 +0200 (CEST) Received: from mail-yx1-f97.google.com (mail-yx1-f97.google.com [74.125.224.97]) by mails.dpdk.org (Postfix) with ESMTP id D0AF4402D1 for ; Mon, 6 Oct 2025 21:17:28 +0200 (CEST) Received: by mail-yx1-f97.google.com with SMTP id 956f58d0204a3-635283199a9so4894090d50.1 for ; Mon, 06 Oct 2025 12:17:28 -0700 (PDT) DKIM-Signature: v=1; a=rsa-sha256; c=relaxed/relaxed; d=iol.unh.edu; s=unh-iol; t=1759778248; x=1760383048; darn=dpdk.org; h=cc:to:from:subject:message-id:date:from:to:cc:subject:date :message-id:reply-to; bh=vKEx5CPTTlUGZrEW+xcPCSx4qBg1Ugxlq3Nk+d1UjjY=; b=dPH+tm6REa9eETyBSh/vwty9pSh6940bFKjOzYNxGx/6JSnPXQv1Y0QtqoIgbFaN1J A2AzxqQzosfp20X2N+2Y9MUfjxmqGAeMulj9YcgbidB96lZCngz8pkNb9VEpHXidP6Lc 8yyVIMTMOVB6TRZZCoszWJ0m7PgVRGV0VTyl0= X-Google-DKIM-Signature: v=1; a=rsa-sha256; c=relaxed/relaxed; d=1e100.net; s=20230601; t=1759778248; x=1760383048; h=cc:to:from:subject:message-id:date:x-gm-message-state:from:to:cc :subject:date:message-id:reply-to; bh=vKEx5CPTTlUGZrEW+xcPCSx4qBg1Ugxlq3Nk+d1UjjY=; b=qIJHKszrtF7YBBdVIPxaoDOEz/ItHZsXgPlGtujT1Yt7Dt92zDsSMP0dJ9hpflO17x r3Ixi7k0aTVoSdxOD/OumN59en4f0h8ZYwuvj2cXk95SUoJbEMYMet2swOOFaj1CA6Xs PGESp/22mBXmK6Q8GGA2OeDmMuM+TAyYhAzFAmGhMvKBtyK7KUpWiMa1+Fdc7yqMMls7 7bN5yMIiHdRkHI6XIsykIijSo78Pb7pMvXAcSqtVwzDvROifwUa57WpsjA3eVybQnH+s YdX/IlslaCzNlx7czSD/177GxUFlD0IakcEU+26XqcjAw8hKhWNf1a9z1d7VZtvETaKI X1zA== X-Gm-Message-State: AOJu0YyopkCKUjTCZeYksnrk0cifpLoiwVBZblFrRym6InNvCsKRSDUa 5jdbPLQNSnfwo08NW2FdQ7y5Goa1TuXEBbiDK5u2qSo9sliNkKVKiZCvDdS4+n4bOI+etEBzudv ZKQbCrrctyxWxYmLstRLUIDdmfJ/NqKEXUAyivzrMk66BotrUPNir8IeM5rVX X-Gm-Gg: ASbGncsVLa+b3GbKy3roiv5d0xaDrOs3dEsTDSHCwY5PH6qtZS2D/0NRsTDcwYlpfxB aEIPK2l4eDwQAYdTIBrtWi3CCK8yE54rEeewuYxyG2SwlBOk4iMJMCBus/UupWSsKj19mjMhSeS q6D7+XRFJVK36YTz74Sg9XFuJWKrJVlVYoNm3gehKxnJruh4BHJysULreOj2fMmzAvCC8oIs5Ey DwsbJpd9nEY+sM380WyITL4nKNnLm+lU1xAgLkAZMO+BCTwHNN8qA+8Q7ZwdryUKc6xOgAoGngx l22G+AGuqUVIq26ytKnmUnfhxRgpe92FumLLsDYkUJ5edXkJ4ImEO9Y= X-Google-Smtp-Source: AGHT+IF7mSQIbAIaZPit+rL7q55nx/HVQnY1iYIFjtKiVQsOeSKWN4Yf+RoTA2WgCLrJ1bi6woWYRtlbKyI8 X-Received: by 2002:a53:cb84:0:b0:63b:a9d6:78c with SMTP id 956f58d0204a3-63ba9d6090dmr8435791d50.45.1759778248060; Mon, 06 Oct 2025 12:17:28 -0700 (PDT) Received: from postal.iol.unh.edu (postal.iol.unh.edu. [2606:4100:3880:1234::84]) by smtp-relay.gmail.com with ESMTPS id 956f58d0204a3-63b845a19afsm827258d50.7.2025.10.06.12.17.27 (version=TLS1_2 cipher=ECDHE-ECDSA-AES128-GCM-SHA256 bits=128/128); Mon, 06 Oct 2025 12:17:28 -0700 (PDT) X-Relaying-Domain: iol.unh.edu Date: Mon, 06 Oct 2025 12:17:28 -0700 (PDT) Message-ID: <68e415c8.530a0220.21f5d2.d902SMTPIN_ADDED_MISSING@mx.google.com> Received: from [172.21.0.2] (unknown [172.18.0.240]) by postal.iol.unh.edu (Postfix) with ESMTP id 874536050A61; Mon, 6 Oct 2025 15:17:27 -0400 (EDT) Subject: |SUCCESS| [GIT MASTER] 76393b98bf67f94dc6aa23cf5016c32571899261 From: dpdklab@iol.unh.edu To: Test Report Cc: dpdk-test-reports@iol.unh.edu Content-Type: text/plain X-BeenThere: test-report@dpdk.org X-Mailman-Version: 2.1.29 Precedence: list List-Id: automatic DPDK test reports List-Unsubscribe: , List-Archive: List-Post: List-Help: List-Subscribe: , Errors-To: test-report-bounces@dpdk.org _Testing PASS_ Branch: dpdk 76393b98bf67f94dc6aa23cf5016c32571899261 --> testing pass Upstream job id: Generic-DPDK-Compile-Meson#431541 Test environment and result as below: +-------------------------------+--------------------+-------------------------+-------------------+----------------------+-------------------+------------------+ | Environment | dpdk_meson_compile | dpdk_llvm_clang_compile | dpdk_msvc_compile | dpdk_mingw64_compile | dpdk_compile_spdk | dpdk_compile_ovs | +===============================+====================+=========================+===================+======================+===================+==================+ | Ubuntu 20.04 | PASS | SKIPPED | SKIPPED | SKIPPED | SKIPPED | SKIPPED | +-------------------------------+--------------------+-------------------------+-------------------+----------------------+-------------------+------------------+ | FreeBSD 14.2 | PASS | SKIPPED | SKIPPED | SKIPPED | SKIPPED | SKIPPED | +-------------------------------+--------------------+-------------------------+-------------------+----------------------+-------------------+------------------+ | CentOS Stream 10 | PASS | SKIPPED | SKIPPED | SKIPPED | SKIPPED | SKIPPED | +-------------------------------+--------------------+-------------------------+-------------------+----------------------+-------------------+------------------+ | CentOS Stream 9 | PASS | SKIPPED | SKIPPED | SKIPPED | PASS | SKIPPED | +-------------------------------+--------------------+-------------------------+-------------------+----------------------+-------------------+------------------+ | Debian GNU/Linux 12 | PASS | SKIPPED | SKIPPED | SKIPPED | PASS | SKIPPED | +-------------------------------+--------------------+-------------------------+-------------------+----------------------+-------------------+------------------+ | Fedora Linux 42 | PASS | SKIPPED | SKIPPED | SKIPPED | PASS | PASS | +-------------------------------+--------------------+-------------------------+-------------------+----------------------+-------------------+------------------+ | openSUSE Leap 15.6 | PASS | SKIPPED | SKIPPED | SKIPPED | SKIPPED | SKIPPED | +-------------------------------+--------------------+-------------------------+-------------------+----------------------+-------------------+------------------+ | Red Hat Enterprise Linux 8.10 | PASS | SKIPPED | SKIPPED | SKIPPED | SKIPPED | SKIPPED | +-------------------------------+--------------------+-------------------------+-------------------+----------------------+-------------------+------------------+ | Red Hat Enterprise Linux 9.5 | PASS | SKIPPED | SKIPPED | SKIPPED | SKIPPED | SKIPPED | +-------------------------------+--------------------+-------------------------+-------------------+----------------------+-------------------+------------------+ | Ubuntu 22.04 | PASS | SKIPPED | SKIPPED | SKIPPED | PASS | SKIPPED | +-------------------------------+--------------------+-------------------------+-------------------+----------------------+-------------------+------------------+ | Ubuntu 24.04 | PASS | SKIPPED | SKIPPED | SKIPPED | PASS | PASS | +-------------------------------+--------------------+-------------------------+-------------------+----------------------+-------------------+------------------+ | Alpine Linux 3.22.0 | PASS | SKIPPED | SKIPPED | SKIPPED | SKIPPED | SKIPPED | +-------------------------------+--------------------+-------------------------+-------------------+----------------------+-------------------+------------------+ | Arch Linux 20250613.0.365270 | PASS | SKIPPED | SKIPPED | SKIPPED | SKIPPED | SKIPPED | +-------------------------------+--------------------+-------------------------+-------------------+----------------------+-------------------+------------------+ | Windows Server 2022 | SKIPPED | PASS | PASS | PASS | SKIPPED | SKIPPED | +-------------------------------+--------------------+-------------------------+-------------------+----------------------+-------------------+------------------+ Ubuntu 20.04 Kernel: 4.19 Compiler: gcc gcc (Ubuntu 9.4.0-1ubuntu1~20.04.2) 9.4.0 FreeBSD 14.2 Kernel: 14.2-RELEASE Compiler: clang 18.1.6 CentOS Stream 10 Kernel: 5.15 Compiler: gcc gcc (GCC) 14.2.1 20250110 (Red Hat 14.2.1-8) CentOS Stream 9 Kernel: 5.15 Compiler: gcc gcc (GCC) 11.5.0 20240719 (Red Hat 11.5.0-11) Debian GNU/Linux 12 Kernel: 5.15 Compiler: gcc gcc (Debian 12.2.0-14+deb12u1) 12.2.0 Fedora Linux 42 Kernel: 5.15 Compiler: clang gcc (GCC) 15.2.1 20250808 (Red Hat 15.2.1-1) openSUSE Leap 15.6 Kernel: 5.15 Compiler: gcc gcc (SUSE Linux) 7.5.0 Red Hat Enterprise Linux 8.10 Kernel: 5.15 Compiler: gcc gcc (GCC) 8.5.0 20210514 (Red Hat 8.5.0-22) Red Hat Enterprise Linux 9.5 Kernel: 5.15 Compiler: gcc gcc (GCC) 11.5.0 20240719 (Red Hat 11.5.0-2) Ubuntu 22.04 Kernel: 5.15 Compiler: gcc gcc (Ubuntu 11.4.0-1ubuntu1~22.04) 11.4.0 Ubuntu 24.04 Kernel: 5.15 Compiler: gcc gcc (Ubuntu 13.3.0-6ubuntu2~24.04) 13.3.0 Alpine Linux 3.22.0 Kernel: 5.15 Compiler: gcc gcc (Alpine 14.2.0) 14.2.0 Arch Linux 20250613.0.365270 Kernel: 5.15 Compiler: gcc gcc (GCC) 15.1.1 20250425 Windows Server 2022 Kernel: 10.0.20348.2031 Compiler: clang 15.0.7, gcc 14.1.0 (MinGW), and MSVC VS 19.39.33521 To view detailed results, visit: https://lab.dpdk.org/results/dashboard/tarballs/35103/ UNH-IOL DPDK Community Lab To manage your email subscriptions, visit: https://lab.dpdk.org/results/dashboard/preferences/subscriptions/