From mboxrd@z Thu Jan 1 00:00:00 1970 Return-Path: Received: from mails.dpdk.org (mails.dpdk.org [217.70.189.124]) by inbox.dpdk.org (Postfix) with ESMTP id 35EBB488CA for ; Mon, 6 Oct 2025 21:24:52 +0200 (CEST) Received: from mails.dpdk.org (localhost [127.0.0.1]) by mails.dpdk.org (Postfix) with ESMTP id 136C8402D1; Mon, 6 Oct 2025 21:24:52 +0200 (CEST) Received: from mail-yw1-f227.google.com (mail-yw1-f227.google.com [209.85.128.227]) by mails.dpdk.org (Postfix) with ESMTP id 0AAB9402D1 for ; Mon, 6 Oct 2025 21:24:51 +0200 (CEST) Received: by mail-yw1-f227.google.com with SMTP id 00721157ae682-77f9fb3bea0so30903517b3.3 for ; Mon, 06 Oct 2025 12:24:50 -0700 (PDT) DKIM-Signature: v=1; a=rsa-sha256; c=relaxed/relaxed; d=iol.unh.edu; s=unh-iol; t=1759778690; x=1760383490; darn=dpdk.org; h=references:in-reply-to:cc:to:from:subject:message-id:date:from:to :cc:subject:date:message-id:reply-to; bh=OJk2dT6BWZpmsAqPhJpAgeSx065jaRHB9PAg9vP9CgY=; b=U9cosQPVJnylQs2NGLjxywcaPN0lLTvQHamlgzF5JxtnXV5GKY9fNLSrZnIN8eULcv UbFkxDb5t355y9wCRXDKet1+vrNA0L+TfDX5NuLwp83JwvlxlabwvsvEU3je7BvpFFOE chp4Ha59I35viLXc6S4RK0PexEyQ0KAjHRZSg= X-Google-DKIM-Signature: v=1; a=rsa-sha256; c=relaxed/relaxed; d=1e100.net; s=20230601; t=1759778690; x=1760383490; h=references:in-reply-to:cc:to:from:subject:message-id:date :x-gm-message-state:from:to:cc:subject:date:message-id:reply-to; bh=OJk2dT6BWZpmsAqPhJpAgeSx065jaRHB9PAg9vP9CgY=; b=VZJTxDratJcDTetEMuMyoK+t4k7SBN02OZgRGy+HOFeFnRdSMLsRkhAcfWJ0nA1GOL v1hMVCZy5PdUC5hm2n+tPTbwcrVYNlrVey43AHX0gOTGMpaTv7+Q3LtgyMT+3/cL4VyM lJ760gVUTGQoIm/tuZYNeqGWS+h2lrMISrrSxePL8ZW33qzBgFtLd9CG4oWdu/OMYKDV 1cQlE9SnHYsC+GJ7BG7wYwmJ28d3YM2N9Ph7L+sRIiNLozzcLEoquGROWYfIk8w8FVyn XOZZxATZFHJpRearsbbQdY2XelB15z6/ADgxRB1zPpLi/PN8tfwiIFjq58F2uRE8vmEu UaEw== X-Gm-Message-State: AOJu0YwU3sdG/NXkBlT8QClE1GT/0/6Bt1bZo5NHlwrcLuwryg6dbM59 nPT7aZ2LhvsNanRhWP2F/0hO3wg5hhdkZDETBwrzJQsK9pg8GqimBfUe6uGnV3Kb6RuVW2zk9VM X6yJoWr7YdNlXhcvoXqzSxjWSmTcNGy7UoTcDFkmcSKc9 X-Gm-Gg: ASbGnct39tvOMv/OIqNQ1MdY2nRrYauw3rl1c9UE1HSJOGFZB7TwVsXZ1DR/4y0hdpR ZdBckQwK/bsJiqz/h2jhlsfBXNehaebbPZNCGOX+3aKjEZRPsu5P09VquTvbHWj0m7JtgaJ2i+R yxQButAPcIzZsBDMYgc/6Bf4BMlti7sNhVP2+B1fS0VY5ZWB0yoYSgdTRLkkcE8I+19zHKFdSft GxQiaPUGuC3CRvFVIlpbQh+4XyE5NBiEBw4kKbTbJpnimUy8DdkROqktSn6+TQ55rwr5g633bim 9fVUEQ9m7u4moOLjPwZYL4rgs9zZ/nomqZ6QZiOFIj2S5uYTnhGROTUEXzLTg6roJIG2fLY8/3c YvA== X-Google-Smtp-Source: AGHT+IF/viFcidTsTZDZoJGcLCNo1KJMHcr/F3zQ21Xu/ZQbahpK1VfIkLvEB/9okDveRVOw2+EaURE1z94M X-Received: by 2002:a05:690c:296:b0:773:e84f:ece8 with SMTP id 00721157ae682-77f9458cf03mr169444187b3.14.1759778690110; Mon, 06 Oct 2025 12:24:50 -0700 (PDT) Received: from postal.iol.unh.edu (postal.iol.unh.edu. [132.177.123.84]) by smtp-relay.gmail.com with ESMTPS id 00721157ae682-77f81d2765csm7645467b3.28.2025.10.06.12.24.50 (version=TLS1_2 cipher=ECDHE-ECDSA-AES128-GCM-SHA256 bits=128/128); Mon, 06 Oct 2025 12:24:50 -0700 (PDT) X-Relaying-Domain: iol.unh.edu Date: Mon, 06 Oct 2025 12:24:50 -0700 (PDT) Message-ID: <68e41782.050a0220.301fe0.9e97SMTPIN_ADDED_MISSING@mx.google.com> Received: from [172.21.0.2] (unknown [172.18.0.240]) by postal.iol.unh.edu (Postfix) with ESMTP id B9C546050A61; Mon, 6 Oct 2025 15:24:49 -0400 (EDT) Subject: |SUCCESS| pw157274-157276 [PATCH] [v4,3/3] app/test: add ML crypto t From: dpdklab@iol.unh.edu To: Test Report Cc: dpdk-test-reports@iol.unh.edu In-Reply-To: <20251004032259.2707-4-gmuthukrishn@marvell.com> References: <20251004032259.2707-4-gmuthukrishn@marvell.com> Content-Type: text/plain X-BeenThere: test-report@dpdk.org X-Mailman-Version: 2.1.29 Precedence: list List-Id: automatic DPDK test reports List-Unsubscribe: , List-Archive: List-Post: List-Help: List-Subscribe: , Errors-To: test-report-bounces@dpdk.org Test-Label: iol-compile-amd64-testing Test-Status: SUCCESS http://dpdk.org/patch/157276 _Testing PASS_ Submitter: Gowrishankar Muthukrishnan Date: Saturday, October 04 2025 03:22:55 DPDK git baseline: Repo:dpdk Branch: master CommitID:76393b98bf67f94dc6aa23cf5016c32571899261 157274-157276 --> testing pass Upstream job id: Generic-DPDK-Compile-Meson#431542 Test environment and result as below: +---------------------+-------------------------+--------------------+-------------------+----------------------+-------------------+ | Environment | dpdk_llvm_clang_compile | dpdk_meson_compile | dpdk_msvc_compile | dpdk_mingw64_compile | dpdk_compile_spdk | +=====================+=========================+====================+===================+======================+===================+ | Windows Server 2022 | PASS | SKIPPED | PASS | PASS | SKIPPED | +---------------------+-------------------------+--------------------+-------------------+----------------------+-------------------+ | FreeBSD 14.2 | SKIPPED | PASS | SKIPPED | SKIPPED | SKIPPED | +---------------------+-------------------------+--------------------+-------------------+----------------------+-------------------+ | Ubuntu 20.04 | SKIPPED | PASS | SKIPPED | SKIPPED | SKIPPED | +---------------------+-------------------------+--------------------+-------------------+----------------------+-------------------+ | CentOS Stream 9 | SKIPPED | PASS | SKIPPED | SKIPPED | PASS | +---------------------+-------------------------+--------------------+-------------------+----------------------+-------------------+ | Ubuntu 22.04 | SKIPPED | PASS | SKIPPED | SKIPPED | PASS | +---------------------+-------------------------+--------------------+-------------------+----------------------+-------------------+ | CentOS Stream 10 | SKIPPED | PASS | SKIPPED | SKIPPED | SKIPPED | +---------------------+-------------------------+--------------------+-------------------+----------------------+-------------------+ Windows Server 2022 Kernel: 10.0.20348.2031 Compiler: clang 15.0.7, gcc 14.1.0 (MinGW), and MSVC VS 19.39.33521 FreeBSD 14.2 Kernel: 14.2-RELEASE Compiler: clang 18.1.6 Ubuntu 20.04 Kernel: 4.19 Compiler: gcc gcc (Ubuntu 9.4.0-1ubuntu1~20.04.2) 9.4.0 CentOS Stream 9 Kernel: 5.15 Compiler: gcc gcc (GCC) 11.5.0 20240719 (Red Hat 11.5.0-11) Ubuntu 22.04 Kernel: 5.15 Compiler: gcc gcc (Ubuntu 11.4.0-1ubuntu1~22.04) 11.4.0 CentOS Stream 10 Kernel: 5.15 Compiler: gcc gcc (GCC) 14.2.1 20250110 (Red Hat 14.2.1-8) To view detailed results, visit: https://lab.dpdk.org/results/dashboard/patchsets/34215/ UNH-IOL DPDK Community Lab To manage your email subscriptions, visit: https://lab.dpdk.org/results/dashboard/preferences/subscriptions/