From mboxrd@z Thu Jan 1 00:00:00 1970 Return-Path: Received: from mails.dpdk.org (mails.dpdk.org [217.70.189.124]) by inbox.dpdk.org (Postfix) with ESMTP id 28F79488CA for ; Mon, 6 Oct 2025 21:36:24 +0200 (CEST) Received: from mails.dpdk.org (localhost [127.0.0.1]) by mails.dpdk.org (Postfix) with ESMTP id 0D4CE402D1; Mon, 6 Oct 2025 21:36:24 +0200 (CEST) Received: from mail-pf1-f228.google.com (mail-pf1-f228.google.com [209.85.210.228]) by mails.dpdk.org (Postfix) with ESMTP id BBC37402D1 for ; Mon, 6 Oct 2025 21:36:22 +0200 (CEST) Received: by mail-pf1-f228.google.com with SMTP id d2e1a72fcca58-78af9ebe337so3527162b3a.1 for ; Mon, 06 Oct 2025 12:36:22 -0700 (PDT) DKIM-Signature: v=1; a=rsa-sha256; c=relaxed/relaxed; d=iol.unh.edu; s=unh-iol; t=1759779382; x=1760384182; darn=dpdk.org; h=references:in-reply-to:cc:to:from:subject:message-id:date:from:to :cc:subject:date:message-id:reply-to; bh=maw1hT6IhZrk8TY4uq0yI9eQEi5ihXwT1PkPhXZDacw=; b=U7atsg27YYVeSM0aHfcYxD5WzjO1rd2iORxkvkqh2vDbPY/uOCwQvXj9rCHe7Z03Er a4hl0Kx55gFv8wFu/P5VCW00aMR7PtiC/3BlUetUroUp9b5gNHHt8NPIgbhxt3FJ2q6F N1mw5Oo3MlGQ2rY3VNV2mnfKgNUC+sKu1XWC4= X-Google-DKIM-Signature: v=1; a=rsa-sha256; c=relaxed/relaxed; d=1e100.net; s=20230601; t=1759779382; x=1760384182; h=references:in-reply-to:cc:to:from:subject:message-id:date :x-gm-message-state:from:to:cc:subject:date:message-id:reply-to; bh=maw1hT6IhZrk8TY4uq0yI9eQEi5ihXwT1PkPhXZDacw=; b=ujupiuUD9mo+Y4OMq02I1+E8EuMi4XYcjQcgyCM7rUcLYtmWsuXw4uSCk883OCt4Vf NuRpHoPxk8tGsoDM6hX93FL9WBZwC1jDllrvUgrjHgRJxNDcoXz1DgDXa9gCYRWy02h3 WLErvN8b9huvDJf1h1NUpbZHK5i3aYphxb8QCEiK0NLY/xu9zjaK2AiocowkUJPvIwTa RmktJ8ay3awoeBBmGZiC40MFcuaJT0uJQbl9eLlq1yXU7GSb1Ctt1BpRwHHMbTeMu1xI 86REQwQ6YVhF1/yRVPHoe/1tjCJR8cwu7aNofXs4zzgoHLYxLj5DvDayO2nDEA7F8oRi hRDA== X-Gm-Message-State: AOJu0Yy6IE1aYmJ24ZTuzozHLNEO4HAC3QB7GNS4+TF+rF1rRDJb42oE OhP18QN7GQC8JtYJJxwGWQMy9sHDq56znKD2bXIvaLlchci50uoULs8qZ/L/7jOKDkhX1Uc++Iz 6KgrC8XdWveMmBytw4abu27GqFfW76zKqm1et7bx7EtlA X-Gm-Gg: ASbGncvvuJY2Nzvwg6z72HGZcOqeRGLD90ijAiH0r1bupb2IqOA0ht9hdWOW1gBJAkG Uu7IdQ/mOvhpUTT+SBE4KhHM/7kG1BXIuCDZdwS8022a2dGbcmIkSI051SuOc4sVwPM0sB6MuHZ MZbnCVfpfEywO+Op4TzuA+UeoqFnPyIzI/eP/qbKYLjPSEbQWzOv2aETVzThpGjMHoa91YCb1Wc x+QQ8JPLymm/LYrxdQgxfnUyXlWd4iti5x1vCvPfBHOp6f542yIN4rFDJIqM6NXahZwJY0MLWrM ObzGryiE2409Jy5orV6YAe/tAhFsLneUofTQMG1/XgI9f5Se39GMDPZG+I1pH7YSfyGv5SyV8Zl zRA== X-Google-Smtp-Source: AGHT+IGECWiDpk/r3TIVWq3VYykWwZOnptGqlxMkROblceoJXaoGfgQbjde0YnhzEjs9RYr6cDuq8AmX5E13 X-Received: by 2002:a05:6a21:3086:b0:262:c083:bb47 with SMTP id adf61e73a8af0-32b61e57bc6mr18672263637.14.1759779381809; Mon, 06 Oct 2025 12:36:21 -0700 (PDT) Received: from postal.iol.unh.edu (postal.iol.unh.edu. [132.177.123.84]) by smtp-relay.gmail.com with ESMTPS id d2e1a72fcca58-78b01f8d66bsm903169b3a.2.2025.10.06.12.36.21 (version=TLS1_2 cipher=ECDHE-ECDSA-AES128-GCM-SHA256 bits=128/128); Mon, 06 Oct 2025 12:36:21 -0700 (PDT) X-Relaying-Domain: iol.unh.edu Date: Mon, 06 Oct 2025 12:36:21 -0700 (PDT) Message-ID: <68e41a35.050a0220.19ea82.3578SMTPIN_ADDED_MISSING@mx.google.com> Received: from [172.21.0.2] (unknown [172.18.0.240]) by postal.iol.unh.edu (Postfix) with ESMTP id F38DB6050A61; Mon, 6 Oct 2025 15:36:20 -0400 (EDT) Subject: |SUCCESS| pw157274-157276 [PATCH] [v4,3/3] app/test: add ML crypto t From: dpdklab@iol.unh.edu To: Test Report Cc: dpdk-test-reports@iol.unh.edu In-Reply-To: <20251004032259.2707-4-gmuthukrishn@marvell.com> References: <20251004032259.2707-4-gmuthukrishn@marvell.com> Content-Type: text/plain X-BeenThere: test-report@dpdk.org X-Mailman-Version: 2.1.29 Precedence: list List-Id: automatic DPDK test reports List-Unsubscribe: , List-Archive: List-Post: List-Help: List-Subscribe: , Errors-To: test-report-bounces@dpdk.org Test-Label: iol-compile-amd64-testing Test-Status: SUCCESS http://dpdk.org/patch/157276 _Testing PASS_ Submitter: Gowrishankar Muthukrishnan Date: Saturday, October 04 2025 03:22:55 DPDK git baseline: Repo:dpdk Branch: master CommitID:76393b98bf67f94dc6aa23cf5016c32571899261 157274-157276 --> testing pass Upstream job id: Generic-DPDK-Compile-Meson#431544 Test environment and result as below: +---------------------+-------------------------+--------------------+-------------------+----------------------+-------------------+ | Environment | dpdk_llvm_clang_compile | dpdk_meson_compile | dpdk_msvc_compile | dpdk_mingw64_compile | dpdk_compile_spdk | +=====================+=========================+====================+===================+======================+===================+ | Windows Server 2022 | PASS | SKIPPED | PASS | PASS | SKIPPED | +---------------------+-------------------------+--------------------+-------------------+----------------------+-------------------+ | FreeBSD 14.2 | SKIPPED | PASS | SKIPPED | SKIPPED | SKIPPED | +---------------------+-------------------------+--------------------+-------------------+----------------------+-------------------+ | Ubuntu 20.04 | SKIPPED | PASS | SKIPPED | SKIPPED | SKIPPED | +---------------------+-------------------------+--------------------+-------------------+----------------------+-------------------+ | CentOS Stream 9 | SKIPPED | PASS | SKIPPED | SKIPPED | PASS | +---------------------+-------------------------+--------------------+-------------------+----------------------+-------------------+ | Ubuntu 22.04 | SKIPPED | PASS | SKIPPED | SKIPPED | PASS | +---------------------+-------------------------+--------------------+-------------------+----------------------+-------------------+ | CentOS Stream 10 | SKIPPED | PASS | SKIPPED | SKIPPED | SKIPPED | +---------------------+-------------------------+--------------------+-------------------+----------------------+-------------------+ | Debian GNU/Linux 12 | SKIPPED | PASS | SKIPPED | SKIPPED | PASS | +---------------------+-------------------------+--------------------+-------------------+----------------------+-------------------+ Windows Server 2022 Kernel: 10.0.20348.2031 Compiler: clang 15.0.7, gcc 14.1.0 (MinGW), and MSVC VS 19.39.33521 FreeBSD 14.2 Kernel: 14.2-RELEASE Compiler: clang 18.1.6 Ubuntu 20.04 Kernel: 4.19 Compiler: gcc gcc (Ubuntu 9.4.0-1ubuntu1~20.04.2) 9.4.0 CentOS Stream 9 Kernel: 5.15 Compiler: gcc gcc (GCC) 11.5.0 20240719 (Red Hat 11.5.0-11) Ubuntu 22.04 Kernel: 5.15 Compiler: gcc gcc (Ubuntu 11.4.0-1ubuntu1~22.04) 11.4.0 CentOS Stream 10 Kernel: 5.15 Compiler: gcc gcc (GCC) 14.2.1 20250110 (Red Hat 14.2.1-8) Debian GNU/Linux 12 Kernel: 5.15 Compiler: gcc gcc (Debian 12.2.0-14+deb12u1) 12.2.0 To view detailed results, visit: https://lab.dpdk.org/results/dashboard/patchsets/34215/ UNH-IOL DPDK Community Lab To manage your email subscriptions, visit: https://lab.dpdk.org/results/dashboard/preferences/subscriptions/