From mboxrd@z Thu Jan 1 00:00:00 1970 Return-Path: Received: from mails.dpdk.org (mails.dpdk.org [217.70.189.124]) by inbox.dpdk.org (Postfix) with ESMTP id C507046B5E for ; Mon, 6 Oct 2025 22:55:19 +0200 (CEST) Received: from mails.dpdk.org (localhost [127.0.0.1]) by mails.dpdk.org (Postfix) with ESMTP id BE306402E2; Mon, 6 Oct 2025 22:55:19 +0200 (CEST) Received: from mail-pl1-f225.google.com (mail-pl1-f225.google.com [209.85.214.225]) by mails.dpdk.org (Postfix) with ESMTP id E0C63402E2 for ; Mon, 6 Oct 2025 22:55:18 +0200 (CEST) Received: by mail-pl1-f225.google.com with SMTP id d9443c01a7336-26c209802c0so52707485ad.0 for ; Mon, 06 Oct 2025 13:55:18 -0700 (PDT) DKIM-Signature: v=1; a=rsa-sha256; c=relaxed/relaxed; d=iol.unh.edu; s=unh-iol; t=1759784118; x=1760388918; darn=dpdk.org; h=references:in-reply-to:cc:to:from:subject:message-id:date:from:to :cc:subject:date:message-id:reply-to; bh=+Ylwh00LaGZ/Eia+uiTwOdQjHpZ5kafwNJvDp3s9q9s=; b=jaTSSDQcLIvNA9X0dNpZkaP6di/5Ul3/EwE8cZ+gRkFvokJvdcQZ0oNrYTh08LMOj5 nLmFVD9RXzG531wKc3/h8vEUoujgUl6goiCoeoRyCULjkPrkE2pv4nxvOzvIFKuZK2SK 3U8xrTreMLw7Y3qDQsBgbptZvGCqWm/rNVsg4= X-Google-DKIM-Signature: v=1; a=rsa-sha256; c=relaxed/relaxed; d=1e100.net; s=20230601; t=1759784118; x=1760388918; h=references:in-reply-to:cc:to:from:subject:message-id:date :x-gm-message-state:from:to:cc:subject:date:message-id:reply-to; bh=+Ylwh00LaGZ/Eia+uiTwOdQjHpZ5kafwNJvDp3s9q9s=; b=jcsNBwaI0gTXCZCg9dRlEM5TChdwbJQLYsXz8TmZ2Rx6WIhpCFoaplVfwaHVO1FJ2r e5Npch3rulE9GAHVe17r5/5u04TTBzS364SkNgwaEk+Snib8aKXeCoj9/lBNWDoRSZ1V JJGg/cvNKJTzXWHTz6f4M59OO8UbeYzzh1o5+ZEw+ptRiE35ybs0L/iFdL4oY9mqcvFo GMcSHbpY+WOPObwfsTCjGO87afzTm9cb64R6y9MqAyxU0oLNqtyaLhQiKzxw9O7VbQ5J HblnVYw7whQwIdyRN0QPmOnJmgEBQofAir/waJoP+vg3/9ld/eAE+ag5ms39HTafgpgC wzfA== X-Gm-Message-State: AOJu0Yyb0Q32vz8FqOunU18cs35lrDXSzcYqnu6LQCVBmq98QPgomJNm 3OhvPnBlIvwlK1dbTWRQxlE7/oY/u32GFL8NqBNKLekYyNqltVshXNYqLjMUAReO0bZKtlL6zh1 sIoznzbWD28kM+uNZEL8bmyeQuTO8iX0syCevLFd2bFn+8a+4qdLamopqnJ5H X-Gm-Gg: ASbGncv9eogqbeRYF/RIu13o6j8/zLKR2LG2foTfVLytst9mD2L065dM1Mjzt5lTg5q cpo0Xed8CijCpm9Mmth7hZspvw5IcHulp5blkJrqSO7C/6lCp3iSOa7zsivbaFEAfYi6YJXjqEr wgamhGGVbBrCb8Nxq3CZFS7snRgQ2tg7U1zh6a+8bY59H24AeyfEhFhOFtMfm3f/nr/pnOHl37t x3WrZ6t9K5SiU81WQfpBPyCL/P3pHUxtYatIIVIBjw/OrlppBChEJwgve38duCq2vITcniJIYdj cKZF9zdihETiTPpUXsIFU7Rl/kS/o8K7VYrZF5h2V/rvbtvr2B7lXwU= X-Google-Smtp-Source: AGHT+IGuJoExTSfBjINW5Lm3tm8MLZgOEFUi15mXaeKUSosaO66tFaeMhCS2Zp0o07XrfHoTJR5JmsQ60uYt X-Received: by 2002:a17:902:e801:b0:269:ba8b:8476 with SMTP id d9443c01a7336-28e9a6a20efmr177176495ad.56.1759784117975; Mon, 06 Oct 2025 13:55:17 -0700 (PDT) Received: from postal.iol.unh.edu (postal.iol.unh.edu. [2606:4100:3880:1234::84]) by smtp-relay.gmail.com with ESMTPS id d9443c01a7336-28e8d1b2e5asm10771385ad.73.2025.10.06.13.55.17 (version=TLS1_2 cipher=ECDHE-ECDSA-AES128-GCM-SHA256 bits=128/128); Mon, 06 Oct 2025 13:55:17 -0700 (PDT) X-Relaying-Domain: iol.unh.edu Date: Mon, 06 Oct 2025 13:55:17 -0700 (PDT) Message-ID: <68e42cb5.170a0220.369f22.142fSMTPIN_ADDED_MISSING@mx.google.com> Received: from [172.21.0.2] (unknown [172.18.0.240]) by postal.iol.unh.edu (Postfix) with ESMTP id 3BCC6604D420; Mon, 6 Oct 2025 16:55:17 -0400 (EDT) Subject: |SUCCESS| pw157274-157276 [PATCH] [v4,3/3] app/test: add ML crypto t From: dpdklab@iol.unh.edu To: Test Report Cc: dpdk-test-reports@iol.unh.edu In-Reply-To: <20251004032259.2707-4-gmuthukrishn@marvell.com> References: <20251004032259.2707-4-gmuthukrishn@marvell.com> Content-Type: text/plain X-BeenThere: test-report@dpdk.org X-Mailman-Version: 2.1.29 Precedence: list List-Id: automatic DPDK test reports List-Unsubscribe: , List-Archive: List-Post: List-Help: List-Subscribe: , Errors-To: test-report-bounces@dpdk.org Test-Label: iol-compile-amd64-testing Test-Status: SUCCESS http://dpdk.org/patch/157276 _Testing PASS_ Submitter: Gowrishankar Muthukrishnan Date: Saturday, October 04 2025 03:22:55 DPDK git baseline: Repo:dpdk Branch: master CommitID:76393b98bf67f94dc6aa23cf5016c32571899261 157274-157276 --> testing pass Upstream job id: Generic-DPDK-Compile-Meson#431553 Test environment and result as below: +-------------------------------+-------------------------+--------------------+-------------------+----------------------+-------------------+------------------+ | Environment | dpdk_llvm_clang_compile | dpdk_meson_compile | dpdk_msvc_compile | dpdk_mingw64_compile | dpdk_compile_spdk | dpdk_compile_ovs | +===============================+=========================+====================+===================+======================+===================+==================+ | Windows Server 2022 | PASS | SKIPPED | PASS | PASS | SKIPPED | SKIPPED | +-------------------------------+-------------------------+--------------------+-------------------+----------------------+-------------------+------------------+ | FreeBSD 14.2 | SKIPPED | PASS | SKIPPED | SKIPPED | SKIPPED | SKIPPED | +-------------------------------+-------------------------+--------------------+-------------------+----------------------+-------------------+------------------+ | Ubuntu 20.04 | SKIPPED | PASS | SKIPPED | SKIPPED | SKIPPED | SKIPPED | +-------------------------------+-------------------------+--------------------+-------------------+----------------------+-------------------+------------------+ | CentOS Stream 9 | SKIPPED | PASS | SKIPPED | SKIPPED | PASS | SKIPPED | +-------------------------------+-------------------------+--------------------+-------------------+----------------------+-------------------+------------------+ | Ubuntu 22.04 | SKIPPED | PASS | SKIPPED | SKIPPED | PASS | SKIPPED | +-------------------------------+-------------------------+--------------------+-------------------+----------------------+-------------------+------------------+ | CentOS Stream 10 | SKIPPED | PASS | SKIPPED | SKIPPED | SKIPPED | SKIPPED | +-------------------------------+-------------------------+--------------------+-------------------+----------------------+-------------------+------------------+ | Debian GNU/Linux 12 | SKIPPED | PASS | SKIPPED | SKIPPED | PASS | SKIPPED | +-------------------------------+-------------------------+--------------------+-------------------+----------------------+-------------------+------------------+ | Fedora Linux 42 | SKIPPED | PASS | SKIPPED | SKIPPED | PASS | PASS | +-------------------------------+-------------------------+--------------------+-------------------+----------------------+-------------------+------------------+ | openSUSE Leap 15.6 | SKIPPED | PASS | SKIPPED | SKIPPED | SKIPPED | SKIPPED | +-------------------------------+-------------------------+--------------------+-------------------+----------------------+-------------------+------------------+ | Red Hat Enterprise Linux 8.10 | SKIPPED | PASS | SKIPPED | SKIPPED | SKIPPED | SKIPPED | +-------------------------------+-------------------------+--------------------+-------------------+----------------------+-------------------+------------------+ Windows Server 2022 Kernel: 10.0.20348.2031 Compiler: clang 15.0.7, gcc 14.1.0 (MinGW), and MSVC VS 19.39.33521 FreeBSD 14.2 Kernel: 14.2-RELEASE Compiler: clang 18.1.6 Ubuntu 20.04 Kernel: 4.19 Compiler: gcc gcc (Ubuntu 9.4.0-1ubuntu1~20.04.2) 9.4.0 CentOS Stream 9 Kernel: 5.15 Compiler: gcc gcc (GCC) 11.5.0 20240719 (Red Hat 11.5.0-11) Ubuntu 22.04 Kernel: 5.15 Compiler: gcc gcc (Ubuntu 11.4.0-1ubuntu1~22.04) 11.4.0 CentOS Stream 10 Kernel: 5.15 Compiler: gcc gcc (GCC) 14.2.1 20250110 (Red Hat 14.2.1-8) Debian GNU/Linux 12 Kernel: 5.15 Compiler: gcc gcc (Debian 12.2.0-14+deb12u1) 12.2.0 Fedora Linux 42 Kernel: 5.15 Compiler: clang gcc (GCC) 15.2.1 20250808 (Red Hat 15.2.1-1) openSUSE Leap 15.6 Kernel: 5.15 Compiler: gcc gcc (SUSE Linux) 7.5.0 Red Hat Enterprise Linux 8.10 Kernel: 5.15 Compiler: gcc gcc (GCC) 8.5.0 20210514 (Red Hat 8.5.0-22) To view detailed results, visit: https://lab.dpdk.org/results/dashboard/patchsets/34215/ UNH-IOL DPDK Community Lab To manage your email subscriptions, visit: https://lab.dpdk.org/results/dashboard/preferences/subscriptions/