From mboxrd@z Thu Jan 1 00:00:00 1970 Return-Path: Received: from mails.dpdk.org (mails.dpdk.org [217.70.189.124]) by inbox.dpdk.org (Postfix) with ESMTP id 1673A46B5E for ; Mon, 6 Oct 2025 23:06:14 +0200 (CEST) Received: from mails.dpdk.org (localhost [127.0.0.1]) by mails.dpdk.org (Postfix) with ESMTP id EB703402E2; Mon, 6 Oct 2025 23:06:13 +0200 (CEST) Received: from mail-il1-f228.google.com (mail-il1-f228.google.com [209.85.166.228]) by mails.dpdk.org (Postfix) with ESMTP id 96A19402E2 for ; Mon, 6 Oct 2025 23:06:12 +0200 (CEST) Received: by mail-il1-f228.google.com with SMTP id e9e14a558f8ab-42f68a0a89aso8641535ab.1 for ; Mon, 06 Oct 2025 14:06:12 -0700 (PDT) DKIM-Signature: v=1; a=rsa-sha256; c=relaxed/relaxed; d=iol.unh.edu; s=unh-iol; t=1759784772; x=1760389572; darn=dpdk.org; h=references:in-reply-to:cc:to:from:subject:message-id:date:from:to :cc:subject:date:message-id:reply-to; bh=t+8dxk7P+5O95WmWS+Klf7fRxupM1vN2rNWITSQIaM4=; b=IFkJZo3djHWNNQ370isuBpwMHeU7PCB02fE+dhzFLP/lDRbKwSEKkTvA+e4YZXGvkY t7rgsGKVl9QHrgZ4eAzNrsnXolQuiwCSHEoqGFnVpcnwIyoPW9H5PqUJH8pmfBFnpr+L 6HVJfXFiZ4wV6XXgYNWTgz+chCmIZbU7phoMw= X-Google-DKIM-Signature: v=1; a=rsa-sha256; c=relaxed/relaxed; d=1e100.net; s=20230601; t=1759784772; x=1760389572; h=references:in-reply-to:cc:to:from:subject:message-id:date :x-gm-message-state:from:to:cc:subject:date:message-id:reply-to; bh=t+8dxk7P+5O95WmWS+Klf7fRxupM1vN2rNWITSQIaM4=; b=Hys578GhMcIKR67XEY/N+V3p7+5wEZce9xkzp5XYmstnzXhFvhUR5XLOH1fIQjllj6 cCBSbGI/POCUDaCetuRMpdGw1ALU/2VXKJzAPxJLr5OdNnLCc5xwH4aeRjty8Akl3/hR AdLJ1GGKTIwffSbWrKDnlNrZUBwVxb2AxRBaFKfYTDr3P027w05CqaaoWNmQCXdvoTqx FhcMExsf3q6ZyDvbvi0VkTToFXrcAViXf6xhTgeBWHoJUCpGmriRLEkOS7Y8uKI/JlMP s1/4/83dkGdqi9+751Y+af3EGqM53skDlZpiVrmDXTLO5MYrDaoXWvyw7xwqw0TffDYQ nR8A== X-Gm-Message-State: AOJu0Yy2CXYBWsh0tP+kJHxl3WQDEg1owpK4KqL43ctSJSisxVh5NA2R tDhl0uXVj9nB5ywxTU9lBUkDXzaTIeWhP2oHbzcR/XR7tcwpd/1TCFkF8Bc5RzYhH+NXzUwPtmo hAFQo758V+2p21UwlFLqx4ahvYZtMiEL+3xUmgHOq3Xmuypp71YN0aP+XJ9ul X-Gm-Gg: ASbGnctHGWdoyayPyMRJS1julYF818M8PXlV5XYGsyDSBJOZBJVxX2e9nVEKr9g5VQG jUHM0x8l3nQY+fg8PvY7PLouyzJ8mj2OXuSj9TWQYUi5ZBimMXz1ZV3AyrbdoFSA4erEtK0yU5s dp1twRFsV4JvKe1mZRb1mQ7gmjVcQbTdrn0ExomVA9eG+Fb/rM80iGYZ5pnH9W23d1oVbPwYD18 UmBFF+VZDRm+HWD9vsdkTLTQOMuCxEG7TSjkA6bhy3VzyR1uKQBs0K0Z5I8UjOWGZ94xTHOoC2v XQT5Qz838M1VrFp0iTD3sIp2RrOqpIrXow7ytnyzxYpJbTb7m3axJi4= X-Google-Smtp-Source: AGHT+IEM8V68pOSU8eCCrhTUytVMUcc++QccCjvjl1vpOuzJcJqzzGMMYdk04cbZhZ2KEJgw5+88GgH8kv4O X-Received: by 2002:a05:6e02:19c5:b0:428:1858:801d with SMTP id e9e14a558f8ab-42f7c35fd05mr12403405ab.2.1759784771751; Mon, 06 Oct 2025 14:06:11 -0700 (PDT) Received: from postal.iol.unh.edu (postal.iol.unh.edu. [2606:4100:3880:1234::84]) by smtp-relay.gmail.com with ESMTPS id e9e14a558f8ab-42e7b48d597sm8871355ab.28.2025.10.06.14.06.11 (version=TLS1_2 cipher=ECDHE-ECDSA-AES128-GCM-SHA256 bits=128/128); Mon, 06 Oct 2025 14:06:11 -0700 (PDT) X-Relaying-Domain: iol.unh.edu Date: Mon, 06 Oct 2025 14:06:11 -0700 (PDT) Message-ID: <68e42f43.050a0220.1ee69f.f846SMTPIN_ADDED_MISSING@mx.google.com> Received: from [172.21.0.2] (unknown [172.18.0.240]) by postal.iol.unh.edu (Postfix) with ESMTP id 4753C604D420; Mon, 6 Oct 2025 17:06:11 -0400 (EDT) Subject: |SUCCESS| pw157299-157302 [PATCH] [v4,4/4] doc: add doc for dictiona From: dpdklab@iol.unh.edu To: Test Report Cc: dpdk-test-reports@iol.unh.edu, Akhil Goyal In-Reply-To: <20251006200904.2467957-4-svaze@qti.qualcomm.com> References: <20251006200904.2467957-4-svaze@qti.qualcomm.com> Content-Type: text/plain X-BeenThere: test-report@dpdk.org X-Mailman-Version: 2.1.29 Precedence: list List-Id: automatic DPDK test reports List-Unsubscribe: , List-Archive: List-Post: List-Help: List-Subscribe: , Errors-To: test-report-bounces@dpdk.org Test-Label: iol-compile-amd64-testing Test-Status: SUCCESS http://dpdk.org/patch/157302 _Testing PASS_ Submitter: Sameer Vaze Date: Monday, October 06 2025 20:09:04 DPDK git baseline: Repo:dpdk-next-crypto Branch: master CommitID:caa17cb4b057a31ee04067459fe543f7d7ae1079 157299-157302 --> testing pass Upstream job id: Windows-Compile-DPDK-Native#31452 Test environment and result as below: +---------------------+--------------------+-------------------------+-------------------+----------------------+ | Environment | dpdk_meson_compile | dpdk_llvm_clang_compile | dpdk_msvc_compile | dpdk_mingw64_compile | +=====================+====================+=========================+===================+======================+ | Ubuntu 20.04 | PASS | SKIPPED | SKIPPED | SKIPPED | +---------------------+--------------------+-------------------------+-------------------+----------------------+ | FreeBSD 14.2 | PASS | SKIPPED | SKIPPED | SKIPPED | +---------------------+--------------------+-------------------------+-------------------+----------------------+ | Windows Server 2022 | SKIPPED | PASS | PASS | PASS | +---------------------+--------------------+-------------------------+-------------------+----------------------+ Ubuntu 20.04 Kernel: 4.19 Compiler: gcc gcc (Ubuntu 9.4.0-1ubuntu1~20.04.2) 9.4.0 FreeBSD 14.2 Kernel: 14.2-RELEASE Compiler: clang 18.1.6 Windows Server 2022 Kernel: 10.0.20348.2031 Compiler: clang 15.0.7, gcc 14.1.0 (MinGW), and MSVC VS 19.39.33521 To view detailed results, visit: https://lab.dpdk.org/results/dashboard/patchsets/34224/ UNH-IOL DPDK Community Lab To manage your email subscriptions, visit: https://lab.dpdk.org/results/dashboard/preferences/subscriptions/