From mboxrd@z Thu Jan 1 00:00:00 1970 Return-Path: Received: from mails.dpdk.org (mails.dpdk.org [217.70.189.124]) by inbox.dpdk.org (Postfix) with ESMTP id 919E746B5E for ; Mon, 6 Oct 2025 23:11:08 +0200 (CEST) Received: from mails.dpdk.org (localhost [127.0.0.1]) by mails.dpdk.org (Postfix) with ESMTP id 881A8402E2; Mon, 6 Oct 2025 23:11:08 +0200 (CEST) Received: from mail-io1-f99.google.com (mail-io1-f99.google.com [209.85.166.99]) by mails.dpdk.org (Postfix) with ESMTP id 9FCCE402E2 for ; Mon, 6 Oct 2025 23:11:06 +0200 (CEST) Received: by mail-io1-f99.google.com with SMTP id ca18e2360f4ac-91e578e2a61so226255639f.2 for ; Mon, 06 Oct 2025 14:11:06 -0700 (PDT) DKIM-Signature: v=1; a=rsa-sha256; c=relaxed/relaxed; d=iol.unh.edu; s=unh-iol; t=1759785066; x=1760389866; darn=dpdk.org; h=references:in-reply-to:cc:to:from:subject:message-id:date:from:to :cc:subject:date:message-id:reply-to; bh=hC+fdKgUMB86GffXpl5oC8IGsLFkPaemJl78N2yykXg=; b=QyyZv3hT+tN6bkyQdxTEd69kS8zPHo2kW11Ddv7gYfatVUaI/jSu400tikjC9E5rIm m+RCqFOQ7r7eQRqglKYWxzOEi/OgMmazWOsHxLqyzBxsR+rZqgrhLUOUJCSfl22Dbpa9 tzCepkEyLptw2mgNsvyCpw5i18SytG1ZpXo2g= X-Google-DKIM-Signature: v=1; a=rsa-sha256; c=relaxed/relaxed; d=1e100.net; s=20230601; t=1759785066; x=1760389866; h=references:in-reply-to:cc:to:from:subject:message-id:date :x-gm-message-state:from:to:cc:subject:date:message-id:reply-to; bh=hC+fdKgUMB86GffXpl5oC8IGsLFkPaemJl78N2yykXg=; b=DAGTWmkpl8+jfPs4wh4+l2/fsL+fUjjMSWY2axPnTIaiG6N3Q58JZBhSDSsd4SmUvw XS8jet8g1Ep3J4c/2VFde0m3eZ4GlcnXDiIls70UZRcbC6EzdSAyBxu4yqen8NXPUUZR +3Is1tvpxHbnxd3cGh+R1IQd9G8tSRN+laxGHxJEF7qMEXuEK8cu0smXgP+35lq2zXVB nqm+QsrGZsFnC6GXciA09rCWfLwKEiuX+2rzyQKnupCM3AGZf6RKN/EdHXygVaLW66pL Oruo6YsiHFGa1SrQ7BvuSsYfrwGL1I683g648ocDB+pybrg5ZR34srHq9fvoMcQQ4av8 UvIw== X-Gm-Message-State: AOJu0YzupVBpx94Dm45MyI5ob0+2iht5vswBYJaYPygT46daDeADG1vH 5CTFdUFSl+mvMVFgVXE8R0ZfPfSsIvKHa+o/wwQVF9PBMLyqesNclrWhsc1hjtncy3AqpC3UQqt 68/AICTl3akiPEcAoGRCVlSO3DFlykC4wq6Y/zCcCYqXF/afM6OZ3YEsArqT7 X-Gm-Gg: ASbGncurg80Bi62+J8XBgeHo7KYGBiky4UtteQ9HCwNFxplXGiFWTe87LpZYhA4CzRl RlKMGLH1QYMzn5o1N2yP8yIlAXARcv1OoJyc0VwvJoT9IvaFomBVrRrjR4gwzU80+heTd5CX4gF nB91qb6Japy/13DBON28Lf6+2T/P6rrQs40t3d6I3QdHYLNUzhz7A8KQlneFEmBx9XtS3ntEoPq 8z2nfhSGIjhmjraJeuchi4mcZe3dl/4ZPnwHKYM/DVze0DUlOSMjTduBmlMmwUAwYGy72hAsILV DecWNTfRheee4bM2/AQUyw5Vu9/1N9Zq2LTtZeslimEhUhIsKhjNAK8= X-Google-Smtp-Source: AGHT+IF+Rif66KBo4YTyeVkGIgeOdOsFXX2KflMEXopuarqzFdHwfEHdroS3TPOCA7zIxcjxbNugKLOarpM8 X-Received: by 2002:a05:6e02:1889:b0:42e:4c23:5363 with SMTP id e9e14a558f8ab-42e7adb29a1mr197548855ab.29.1759785065819; Mon, 06 Oct 2025 14:11:05 -0700 (PDT) Received: from postal.iol.unh.edu (postal.iol.unh.edu. [2606:4100:3880:1234::84]) by smtp-relay.gmail.com with ESMTPS id 8926c6da1cb9f-57b5eafe2a9sm1075929173.11.2025.10.06.14.11.05 (version=TLS1_2 cipher=ECDHE-ECDSA-AES128-GCM-SHA256 bits=128/128); Mon, 06 Oct 2025 14:11:05 -0700 (PDT) X-Relaying-Domain: iol.unh.edu Date: Mon, 06 Oct 2025 14:11:05 -0700 (PDT) Message-ID: <68e43069.050a0220.1ac9ad.baa5SMTPIN_ADDED_MISSING@mx.google.com> Received: from [172.21.0.2] (unknown [172.18.0.240]) by postal.iol.unh.edu (Postfix) with ESMTP id 5CBC660003E8; Mon, 6 Oct 2025 17:11:05 -0400 (EDT) Subject: |SUCCESS| pw157299-157302 [PATCH] [v4,4/4] doc: add doc for dictiona From: dpdklab@iol.unh.edu To: Test Report Cc: dpdk-test-reports@iol.unh.edu, Akhil Goyal In-Reply-To: <20251006200904.2467957-4-svaze@qti.qualcomm.com> References: <20251006200904.2467957-4-svaze@qti.qualcomm.com> Content-Type: text/plain X-BeenThere: test-report@dpdk.org X-Mailman-Version: 2.1.29 Precedence: list List-Id: automatic DPDK test reports List-Unsubscribe: , List-Archive: List-Post: List-Help: List-Subscribe: , Errors-To: test-report-bounces@dpdk.org Test-Label: iol-unit-amd64-testing Test-Status: SUCCESS http://dpdk.org/patch/157302 _Testing PASS_ Submitter: Sameer Vaze Date: Monday, October 06 2025 20:09:04 DPDK git baseline: Repo:dpdk-next-crypto Branch: master CommitID:caa17cb4b057a31ee04067459fe543f7d7ae1079 157299-157302 --> testing pass Upstream job id: Generic-VM-Unit-Test-DPDK#31621 Test environment and result as below: +-------------------------------+----------------+ | Environment | dpdk_unit_test | +===============================+================+ | Fedora Linux 40 | PASS | +-------------------------------+----------------+ | Fedora Linux 41 | PASS | +-------------------------------+----------------+ | CentOS Stream 9 | PASS | +-------------------------------+----------------+ | Debian GNU/Linux 12 | PASS | +-------------------------------+----------------+ | Fedora Linux 42 | PASS | +-------------------------------+----------------+ | CentOS Stream 10 | PASS | +-------------------------------+----------------+ | Red Hat Enterprise Linux 8.10 | PASS | +-------------------------------+----------------+ | Ubuntu 24.04 | PASS | +-------------------------------+----------------+ | Red Hat Enterprise Linux 9.5 | PASS | +-------------------------------+----------------+ | Ubuntu 22.04 | PASS | +-------------------------------+----------------+ | Windows Server 2022 | PASS | +-------------------------------+----------------+ | Ubuntu 20.04 | PASS | +-------------------------------+----------------+ Fedora Linux 40 Kernel: 5.15 Compiler: clang gcc (GCC) 14.2.1 20240912 (Red Hat 14.2.1-3) Fedora Linux 41 Kernel: 5.15 Compiler: clang gcc (GCC) 14.3.1 20250523 (Red Hat 14.3.1-1) CentOS Stream 9 Kernel: 5.15 Compiler: gcc gcc (GCC) 11.5.0 20240719 (Red Hat 11.5.0-11) Debian GNU/Linux 12 Kernel: 5.15 Compiler: gcc gcc (Debian 12.2.0-14+deb12u1) 12.2.0 Fedora Linux 42 Kernel: 5.15 Compiler: gcc gcc (GCC) 15.2.1 20250808 (Red Hat 15.2.1-1) CentOS Stream 10 Kernel: 5.15 Compiler: gcc gcc (GCC) 14.2.1 20250110 (Red Hat 14.2.1-8) Red Hat Enterprise Linux 8.10 Kernel: 5.15 Compiler: gcc gcc (GCC) 8.5.0 20210514 (Red Hat 8.5.0-22) Ubuntu 24.04 Kernel: 5.15 Compiler: gcc gcc (Ubuntu 13.3.0-6ubuntu2~24.04) 13.3.0 Red Hat Enterprise Linux 9.5 Kernel: 5.15 Compiler: gcc gcc (GCC) 11.5.0 20240719 (Red Hat 11.5.0-2) Ubuntu 22.04 Kernel: 5.15 Compiler: gcc gcc (Ubuntu 11.4.0-1ubuntu1~22.04) 11.4.0 Windows Server 2022 Kernel: 10.0.20348.2031 Compiler: clang 15.0.7, gcc 14.1.0 (MinGW), and MSVC VS 19.39.33521 Ubuntu 20.04 Kernel: 5.15 Compiler: gcc gcc (Ubuntu 9.4.0-1ubuntu1~20.04.2) 9.4.0 To view detailed results, visit: https://lab.dpdk.org/results/dashboard/patchsets/34224/ UNH-IOL DPDK Community Lab To manage your email subscriptions, visit: https://lab.dpdk.org/results/dashboard/preferences/subscriptions/