From mboxrd@z Thu Jan 1 00:00:00 1970 Return-Path: Received: from mails.dpdk.org (mails.dpdk.org [217.70.189.124]) by inbox.dpdk.org (Postfix) with ESMTP id 12F6B46B5E for ; Mon, 6 Oct 2025 23:24:21 +0200 (CEST) Received: from mails.dpdk.org (localhost [127.0.0.1]) by mails.dpdk.org (Postfix) with ESMTP id EAA8F402E2; Mon, 6 Oct 2025 23:24:20 +0200 (CEST) Received: from mail-vs1-f99.google.com (mail-vs1-f99.google.com [209.85.217.99]) by mails.dpdk.org (Postfix) with ESMTP id 31AFD402E2 for ; Mon, 6 Oct 2025 23:24:20 +0200 (CEST) Received: by mail-vs1-f99.google.com with SMTP id ada2fe7eead31-5a7b2a6b13bso4995745137.3 for ; Mon, 06 Oct 2025 14:24:20 -0700 (PDT) DKIM-Signature: v=1; a=rsa-sha256; c=relaxed/relaxed; d=iol.unh.edu; s=unh-iol; t=1759785859; x=1760390659; darn=dpdk.org; h=references:in-reply-to:cc:to:from:subject:message-id:date:from:to :cc:subject:date:message-id:reply-to; bh=eLBNW8bmhPKXHIw/NSNYqf19pc9uYI1y5VuWoKLusXs=; b=ig0UC/RjZvTozVH0S2nNDKODQYOVCEBZOWmSztY8C9SjRGBhrLhD+Iwdj9macyOd7I jDQFuW5szu7+2pJSPzPNb8j9+jP79Q4ihLuBvMouoZoHXxAk9HVFbZ8JuqZ5XPF9HESW uqSqX7XpKoAP4Qmom0F7TgoaUyRfmc9hr64ms= X-Google-DKIM-Signature: v=1; a=rsa-sha256; c=relaxed/relaxed; d=1e100.net; s=20230601; t=1759785859; x=1760390659; h=references:in-reply-to:cc:to:from:subject:message-id:date :x-gm-message-state:from:to:cc:subject:date:message-id:reply-to; bh=eLBNW8bmhPKXHIw/NSNYqf19pc9uYI1y5VuWoKLusXs=; b=YspoaCluPW3Ug6zM25wdiejE/5JWoyCrjn8zF7ZGsxKIx7atQFBzOfCZvfRntRJmc+ 3+wjFbxg7lRRXoNnTGt+PO8+vBVnE4hy9LkVnJnYIDGmSeH7Ppl1mv2t8XZzwfQ3S+TZ wU4VXWcae8uM53yCGN+uAqfdAv2lWlJxPvHohsSGDQgdHqncI+WO6TnchTdRIjpQGc6R RmzYnn1I3tVRnBqcwLNAVXkB05Jf6ZD4W1S3GO0EbLdzaOk3dHJ+EaiSMvu10zNMx1ka mYsrBd4TLueF3IIYr0WxMZEjvvjeTWhEDwh00Sd9hWHcmi/ftPbNj5Beh8gDKcBW/L/9 OHvA== X-Gm-Message-State: AOJu0Yy/xJ8f2MjUTYuJYD3wdw4S1ggc1aR/FeTn2oZ6968wQMqUWGKo 62P+N7JN9Gg781+vUtbDFMfuLItYkjDZSf50o+GVv+VloYxGlHZtHiUNNxmb/qofaDc5DmEDKea v6k8Z27t9gej0KyY8FCYw5+BBApIU2pZcX3jN2WOTVY/Eeu/103IiW7ASHfdN X-Gm-Gg: ASbGncuaBiK9GE/j890ex+61zI8aOdf2KpE6mMq4GoWsrFvLfRXzK1XuxrBXNz+z9FA 1NuOJesoMRxNOje0ogT/Xpk08MvemBmD9vYIhNS3N/2lGPtfl+HN4j003rn6raZ96Ab21Am2ctO oKhTlLXIMXYomgDXAJJ+4QplG9SgrNo1CBsvHNxmwj2g53f9xPDJg1AaUsP+Q+2clivGiljUXFs DYrJIcHd5vdyf99funeB4yQvYyibAFiFS5SoEU03sovQFfeEMhQagRNdmNNndpeOCOMXKg2TpvK KKnqpOTr6gFobpyBjfiscXml7WBSHuGajVtxNRR7w6y2TTAHUulI/Fk= X-Google-Smtp-Source: AGHT+IHpNbOvSR7axfHx4Ghfye8I727w0WJlQFRoQ/wkbluFKD2pmpB1n1iugX8KZarb0yorU71OMpQ2VOCk X-Received: by 2002:a05:6102:3754:b0:515:a84d:45a8 with SMTP id ada2fe7eead31-5d41d11ca0dmr5458691137.20.1759785859528; Mon, 06 Oct 2025 14:24:19 -0700 (PDT) Received: from postal.iol.unh.edu (postal.iol.unh.edu. [2606:4100:3880:1234::84]) by smtp-relay.gmail.com with ESMTPS id 71dfb90a1353d-5523d031ffbsm1439391e0c.5.2025.10.06.14.24.19 (version=TLS1_2 cipher=ECDHE-ECDSA-AES128-GCM-SHA256 bits=128/128); Mon, 06 Oct 2025 14:24:19 -0700 (PDT) X-Relaying-Domain: iol.unh.edu Date: Mon, 06 Oct 2025 14:24:19 -0700 (PDT) Message-ID: <68e43383.050a0220.34a713.e3ecSMTPIN_ADDED_MISSING@mx.google.com> Received: from [172.21.0.3] (unknown [172.18.0.240]) by postal.iol.unh.edu (Postfix) with ESMTP id 14C446051830; Mon, 6 Oct 2025 17:24:19 -0400 (EDT) Subject: |SUCCESS| pw157253-157257 [PATCH] [v3,7/7] ethdev: deprecate queue s From: dpdklab@iol.unh.edu To: Test Report Cc: dpdk-test-reports@iol.unh.edu In-Reply-To: <20251003110201.1541183-8-bruce.richardson@intel.com> References: <20251003110201.1541183-8-bruce.richardson@intel.com> Content-Type: text/plain X-BeenThere: test-report@dpdk.org X-Mailman-Version: 2.1.29 Precedence: list List-Id: automatic DPDK test reports List-Unsubscribe: , List-Archive: List-Post: List-Help: List-Subscribe: , Errors-To: test-report-bounces@dpdk.org Test-Label: iol-compile-arm64-testing Test-Status: SUCCESS http://dpdk.org/patch/157257 _Testing PASS_ Submitter: Bruce Richardson Date: Friday, October 03 2025 11:02:01 DPDK git baseline: Repo:dpdk Branch: master CommitID:76393b98bf67f94dc6aa23cf5016c32571899261 157253-157257 --> testing pass Upstream job id: Generic-DPDK-Compile-Meson#431407 Test environment and result as below: +------------------------------+--------------------+ | Environment | dpdk_meson_compile | +==============================+====================+ | Red Hat Enterprise Linux 9.5 | PASS | +------------------------------+--------------------+ | Ubuntu 20.04 | PASS | +------------------------------+--------------------+ | Debian GNU/Linux 12 | PASS | +------------------------------+--------------------+ | Fedora Linux 42 | PASS | +------------------------------+--------------------+ | Ubuntu 22.04 | PASS | +------------------------------+--------------------+ | Ubuntu 24.04 | PASS | +------------------------------+--------------------+ | CentOS Stream 9 | PASS | +------------------------------+--------------------+ | CentOS Stream 10 | PASS | +------------------------------+--------------------+ Red Hat Enterprise Linux 9.5 Kernel: 5.4 Compiler: gcc gcc (GCC) 11.5.0 20240719 (Red Hat 11.5.0-2) Ubuntu 20.04 Kernel: 5.15 Compiler: aarch64-linux-gnu-gcc gcc (Ubuntu 9.4.0-1ubuntu1~20.04.2) 9.4.0 Debian GNU/Linux 12 Kernel: 5.4 Compiler: gcc gcc (Debian 12.2.0-14+deb12u1) 12.2.0 Fedora Linux 42 Kernel: 5.4 Compiler: gcc gcc (GCC) 15.2.1 20250808 (Red Hat 15.2.1-1) Ubuntu 22.04 Kernel: 5.4 Compiler: gcc gcc (Ubuntu 11.4.0-1ubuntu1~22.04) 11.4.0 Ubuntu 24.04 Kernel: 5.4 Compiler: gcc gcc (Ubuntu 13.3.0-6ubuntu2~24.04) 13.3.0 CentOS Stream 9 Kernel: 5.4 Compiler: gcc gcc (GCC) 11.5.0 20240719 (Red Hat 11.5.0-11) CentOS Stream 10 Kernel: 5.4 Compiler: gcc gcc (GCC) 14.2.1 20250110 (Red Hat 14.2.1-8) To view detailed results, visit: https://lab.dpdk.org/results/dashboard/patchsets/34209/ UNH-IOL DPDK Community Lab To manage your email subscriptions, visit: https://lab.dpdk.org/results/dashboard/preferences/subscriptions/