From mboxrd@z Thu Jan 1 00:00:00 1970 Return-Path: Received: from mails.dpdk.org (mails.dpdk.org [217.70.189.124]) by inbox.dpdk.org (Postfix) with ESMTP id A691A46B5E for ; Mon, 6 Oct 2025 23:30:47 +0200 (CEST) Received: from mails.dpdk.org (localhost [127.0.0.1]) by mails.dpdk.org (Postfix) with ESMTP id 7B344402E2; Mon, 6 Oct 2025 23:30:47 +0200 (CEST) Received: from mail-yx1-f99.google.com (mail-yx1-f99.google.com [74.125.224.99]) by mails.dpdk.org (Postfix) with ESMTP id 092BF402E2 for ; Mon, 6 Oct 2025 23:30:45 +0200 (CEST) Received: by mail-yx1-f99.google.com with SMTP id 956f58d0204a3-63606491e66so4395139d50.2 for ; Mon, 06 Oct 2025 14:30:45 -0700 (PDT) DKIM-Signature: v=1; a=rsa-sha256; c=relaxed/relaxed; d=iol.unh.edu; s=unh-iol; t=1759786245; x=1760391045; darn=dpdk.org; h=references:in-reply-to:cc:to:from:subject:message-id:date:from:to :cc:subject:date:message-id:reply-to; bh=W7Ycm45qPB+YPhgZr2F19HWNYmYVZV8VWuawQpnCHr4=; b=D2tgmzVlGIehbpxuY8OniVRJxpTzDfwX3wkL4RUd/nSJMrvzMVFDBXJNkCzD5vSZ/Q 3lqZve4lSUR+avEuuIUef2D5JBbZGJOQ2UakYvaUpjbwo0u2FTzvOOVnAVqc8/73j76U gU1mOIzPbDuXcEpGx1++McUZwLL21I6RjT8Ls= X-Google-DKIM-Signature: v=1; a=rsa-sha256; c=relaxed/relaxed; d=1e100.net; s=20230601; t=1759786245; x=1760391045; h=references:in-reply-to:cc:to:from:subject:message-id:date :x-gm-message-state:from:to:cc:subject:date:message-id:reply-to; bh=W7Ycm45qPB+YPhgZr2F19HWNYmYVZV8VWuawQpnCHr4=; b=uvACiGTWUqru2N5BbpkMhVHMuPfDAZ3fk0JubnqP2kwtdzVF4tQMvtkDASO97lXdS0 N+zXEkKGfX9RYczYsz9dfsHUAGCMW/n/uI+K9z3acXpoi4Athv9sM4oktnJLC+zOPG0d 8WbD9+53XOs7Rm0jd12Td/XXXkKzxqsFvSSngTbiBOR81vbQC2Fo5KMneN0ZD/XTYcI1 hjh38tZM13B3NO5iw2i6ICKuELU3MHrjHmOCgUSXvCXuOizPNo1TmimU2CJEQbEv0nm4 +e9sS80Rddgd1YV1DfIzrKcFaEkk6ZYYS8KAD5G0ax7EP+JzLAXBHHT81sHJWzeMK4vL oFDA== X-Gm-Message-State: AOJu0YxcYSTTYk63avsjSNEeH1R+Rh5vwR0UwLq36Lbh9euLF8vPpKNG aYwEcA5nHT1+4pAbre2nJWZa61QdhPqWHs5bBHu4JdSkH/Z5Ukjiz5b81d+Qojban8HeE38bURM ma7Wfqr6mCqOUCVcTTCpxsw9VKDNHpkZhfirpMVXu1r8pvhZhHeEIORyNnYpF X-Gm-Gg: ASbGnctTaEp7oAzYBKupgJSdIecYzHsL94tu6d9q614ax8TMC48cLXbC4AwqhTp6+dI bJoYRGODOrmD3bc7eDZgfh9S9NFClp+1cd/h3R5wAZpVpgUDvh7t/IxzS/sBWpG2/+58iHJNXSZ I4cNaJ6w7l1ZONyV686JvziJTzgqH/ToXgewn6K/wolPWNNZb3RdH3qeKBGmFu0eROcL8NnJDYK 0UD05OQ9hTMD8fdc54WIE6THdM+DLNhqnaEMKpIMAoeTAar9GacvGtMuFHH8LmylFFzqtGYrT6D hPLg2jMXYnB9g38p0zXKDn0qZUeVxFc5V4FcrQlp51vn1AAuJmlCMXs= X-Google-Smtp-Source: AGHT+IFcie0+MEUhaKH5+Vp/O7A0nIgELJvgLQZAHjixZB5dAvZ27GTUy2BTZDZLN59mVTw7yiGSbglO44fV X-Received: by 2002:a53:8613:0:b0:636:19c8:278e with SMTP id 956f58d0204a3-63b9a0776e5mr11685358d50.14.1759786245253; Mon, 06 Oct 2025 14:30:45 -0700 (PDT) Received: from postal.iol.unh.edu (postal.iol.unh.edu. [2606:4100:3880:1234::84]) by smtp-relay.gmail.com with ESMTPS id 956f58d0204a3-63b8456e1e1sm919447d50.1.2025.10.06.14.30.45 (version=TLS1_2 cipher=ECDHE-ECDSA-AES128-GCM-SHA256 bits=128/128); Mon, 06 Oct 2025 14:30:45 -0700 (PDT) X-Relaying-Domain: iol.unh.edu Date: Mon, 06 Oct 2025 14:30:45 -0700 (PDT) Message-ID: <68e43505.050a0220.30290c.4b09SMTPIN_ADDED_MISSING@mx.google.com> Received: from [172.21.0.2] (unknown [172.18.0.240]) by postal.iol.unh.edu (Postfix) with ESMTP id D6B1E6051830; Mon, 6 Oct 2025 17:30:44 -0400 (EDT) Subject: |SUCCESS| pw157274-157276 [PATCH] [v4,3/3] app/test: add ML crypto t From: dpdklab@iol.unh.edu To: Test Report Cc: dpdk-test-reports@iol.unh.edu In-Reply-To: <20251004032259.2707-4-gmuthukrishn@marvell.com> References: <20251004032259.2707-4-gmuthukrishn@marvell.com> Content-Type: text/plain X-BeenThere: test-report@dpdk.org X-Mailman-Version: 2.1.29 Precedence: list List-Id: automatic DPDK test reports List-Unsubscribe: , List-Archive: List-Post: List-Help: List-Subscribe: , Errors-To: test-report-bounces@dpdk.org Test-Label: iol-compile-amd64-testing Test-Status: SUCCESS http://dpdk.org/patch/157276 _Testing PASS_ Submitter: Gowrishankar Muthukrishnan Date: Saturday, October 04 2025 03:22:55 DPDK git baseline: Repo:dpdk Branch: master CommitID:76393b98bf67f94dc6aa23cf5016c32571899261 157274-157276 --> testing pass Upstream job id: Generic-DPDK-Compile-Meson#431556 Test environment and result as below: +-------------------------------+-------------------------+--------------------+-------------------+----------------------+-------------------+------------------+ | Environment | dpdk_llvm_clang_compile | dpdk_meson_compile | dpdk_msvc_compile | dpdk_mingw64_compile | dpdk_compile_spdk | dpdk_compile_ovs | +===============================+=========================+====================+===================+======================+===================+==================+ | Windows Server 2022 | PASS | SKIPPED | PASS | PASS | SKIPPED | SKIPPED | +-------------------------------+-------------------------+--------------------+-------------------+----------------------+-------------------+------------------+ | FreeBSD 14.2 | SKIPPED | PASS | SKIPPED | SKIPPED | SKIPPED | SKIPPED | +-------------------------------+-------------------------+--------------------+-------------------+----------------------+-------------------+------------------+ | Ubuntu 20.04 | SKIPPED | PASS | SKIPPED | SKIPPED | SKIPPED | SKIPPED | +-------------------------------+-------------------------+--------------------+-------------------+----------------------+-------------------+------------------+ | CentOS Stream 9 | SKIPPED | PASS | SKIPPED | SKIPPED | PASS | SKIPPED | +-------------------------------+-------------------------+--------------------+-------------------+----------------------+-------------------+------------------+ | Ubuntu 22.04 | SKIPPED | PASS | SKIPPED | SKIPPED | PASS | SKIPPED | +-------------------------------+-------------------------+--------------------+-------------------+----------------------+-------------------+------------------+ | CentOS Stream 10 | SKIPPED | PASS | SKIPPED | SKIPPED | SKIPPED | SKIPPED | +-------------------------------+-------------------------+--------------------+-------------------+----------------------+-------------------+------------------+ | Debian GNU/Linux 12 | SKIPPED | PASS | SKIPPED | SKIPPED | PASS | SKIPPED | +-------------------------------+-------------------------+--------------------+-------------------+----------------------+-------------------+------------------+ | Fedora Linux 42 | SKIPPED | PASS | SKIPPED | SKIPPED | PASS | PASS | +-------------------------------+-------------------------+--------------------+-------------------+----------------------+-------------------+------------------+ | openSUSE Leap 15.6 | SKIPPED | PASS | SKIPPED | SKIPPED | SKIPPED | SKIPPED | +-------------------------------+-------------------------+--------------------+-------------------+----------------------+-------------------+------------------+ | Red Hat Enterprise Linux 8.10 | SKIPPED | PASS | SKIPPED | SKIPPED | SKIPPED | SKIPPED | +-------------------------------+-------------------------+--------------------+-------------------+----------------------+-------------------+------------------+ | Red Hat Enterprise Linux 9.5 | SKIPPED | PASS | SKIPPED | SKIPPED | SKIPPED | SKIPPED | +-------------------------------+-------------------------+--------------------+-------------------+----------------------+-------------------+------------------+ Windows Server 2022 Kernel: 10.0.20348.2031 Compiler: clang 15.0.7, gcc 14.1.0 (MinGW), and MSVC VS 19.39.33521 FreeBSD 14.2 Kernel: 14.2-RELEASE Compiler: clang 18.1.6 Ubuntu 20.04 Kernel: 4.19 Compiler: gcc gcc (Ubuntu 9.4.0-1ubuntu1~20.04.2) 9.4.0 CentOS Stream 9 Kernel: 5.15 Compiler: gcc gcc (GCC) 11.5.0 20240719 (Red Hat 11.5.0-11) Ubuntu 22.04 Kernel: 5.15 Compiler: gcc gcc (Ubuntu 11.4.0-1ubuntu1~22.04) 11.4.0 CentOS Stream 10 Kernel: 5.15 Compiler: gcc gcc (GCC) 14.2.1 20250110 (Red Hat 14.2.1-8) Debian GNU/Linux 12 Kernel: 5.15 Compiler: gcc gcc (Debian 12.2.0-14+deb12u1) 12.2.0 Fedora Linux 42 Kernel: 5.15 Compiler: clang gcc (GCC) 15.2.1 20250808 (Red Hat 15.2.1-1) openSUSE Leap 15.6 Kernel: 5.15 Compiler: gcc gcc (SUSE Linux) 7.5.0 Red Hat Enterprise Linux 8.10 Kernel: 5.15 Compiler: gcc gcc (GCC) 8.5.0 20210514 (Red Hat 8.5.0-22) Red Hat Enterprise Linux 9.5 Kernel: 5.15 Compiler: gcc gcc (GCC) 11.5.0 20240719 (Red Hat 11.5.0-2) To view detailed results, visit: https://lab.dpdk.org/results/dashboard/patchsets/34215/ UNH-IOL DPDK Community Lab To manage your email subscriptions, visit: https://lab.dpdk.org/results/dashboard/preferences/subscriptions/