From mboxrd@z Thu Jan 1 00:00:00 1970 Return-Path: Received: from mails.dpdk.org (mails.dpdk.org [217.70.189.124]) by inbox.dpdk.org (Postfix) with ESMTP id 47A3746B5E for ; Mon, 6 Oct 2025 23:37:00 +0200 (CEST) Received: from mails.dpdk.org (localhost [127.0.0.1]) by mails.dpdk.org (Postfix) with ESMTP id 242ED402E2; Mon, 6 Oct 2025 23:37:00 +0200 (CEST) Received: from mail-qv1-f98.google.com (mail-qv1-f98.google.com [209.85.219.98]) by mails.dpdk.org (Postfix) with ESMTP id DA470402E2 for ; Mon, 6 Oct 2025 23:36:58 +0200 (CEST) Received: by mail-qv1-f98.google.com with SMTP id 6a1803df08f44-80ff41475cdso77130036d6.2 for ; Mon, 06 Oct 2025 14:36:58 -0700 (PDT) DKIM-Signature: v=1; a=rsa-sha256; c=relaxed/relaxed; d=iol.unh.edu; s=unh-iol; t=1759786618; x=1760391418; darn=dpdk.org; h=references:in-reply-to:cc:to:from:subject:message-id:date:from:to :cc:subject:date:message-id:reply-to; bh=wpnow9kNWeSCzyAwJjlnLf3S4e+pnefkUcFfwJtaEZo=; b=FsIbevvnztKadCxTTJS8GBFW9TwqF4HX6/C+8JoDVetmzI0S7E7DAslpKRFs04RUrm pnoFNSVvA252eIWYAqOoipttSjklEWh04d6UpdEjHsYc6g/Ntyp0OUhcUxjkAtwD2zId ZDPJG/pfXhCQOcxw+naceF9uRNH49Kl3T1kJo= X-Google-DKIM-Signature: v=1; a=rsa-sha256; c=relaxed/relaxed; d=1e100.net; s=20230601; t=1759786618; x=1760391418; h=references:in-reply-to:cc:to:from:subject:message-id:date :x-gm-message-state:from:to:cc:subject:date:message-id:reply-to; bh=wpnow9kNWeSCzyAwJjlnLf3S4e+pnefkUcFfwJtaEZo=; b=RbQMUbCgEFxbgpal7bnmZQeVgarAoVXFntPN+pCYGwmJmq3lZiv08+aub9quPV7/3i 2GA5NUF9cZAqhY1c+w95lOaFIRELEcxnke2Yj59UC3ff6JLZ/yKy8G/6rPTOKjlTByUe bjsIoOmTB9iqGzdKVrLhOYvOBvIm/0ljSTsTLqxIKlLxgvsZFu962rrL5Y/BQ9qBgZrb XVTE8QpTVzq6OvQ5LjQGRtIerFPWZY7DlpstvBjRovjAAoqgBTOipQGI+HaZqoHrHhlT yhkw6+zL4xu9ZWek2p6vQlwadtzKp1r9d7LcwUkU3GODH+iOIoeji9XUy44MlSEyobot ITyg== X-Gm-Message-State: AOJu0YzStjrnOJMSAUdjIPvmJerR3hjhfPPXhP79QZSjfO9hvPsr6MKQ qbcehTWT5oCfnztYjbgtEHnYRFihEWaE9ghYvAfi/hLtLVrrRiHE63ibZVb/emdjKBIPsG8HTdC 9TQTXARfPLmEc6bQt7NbA2pYPKlBmrzXDEpVFjyzdEJ+U/jYqPMBnyAYOw3q7 X-Gm-Gg: ASbGncs2/OU4QJ6K+kwY3/pIfBFuJHBlUYxKBn5J0vpYovUFtQNm2bs28dWiX+Ii7M1 LH6EJ60zEAx88E6zgQs0a9WdcDZFK8Fp10yLultlIZDzBGhfg6TEV5qhKLaKHhZlGtxhxjHoRCb +pFnyL/axok6ZUSBcuShQYGHWzuKgS6XF3QBht5IjkR3gFBuI1qqcbO2dtqY2kzRgmSlJ5/ZjeT fH/D9xmRQgnepwoTFRVy+05KDe6gEFpIU7Wnivpjdn/NASmx9c2vRV5oyxwKdMXl01mUJjewY+m IODGwpbm5/D9bYkbdmYXyUYMkPt9xkXat4n6St9aUwNwkRNgP8PwVP4= X-Google-Smtp-Source: AGHT+IHU6HuJTRayIPnrEHhVBzh9IdOqmgyXTyRKbR8Zm9ouZcgbwXzJhI49KgMk0hhIIw4h3/h5kdCNXuP2 X-Received: by 2002:a05:6214:765:b0:7b4:4dea:2a9d with SMTP id 6a1803df08f44-879dc85287amr188977476d6.53.1759786617992; Mon, 06 Oct 2025 14:36:57 -0700 (PDT) Received: from postal.iol.unh.edu (postal.iol.unh.edu. [2606:4100:3880:1234::84]) by smtp-relay.gmail.com with ESMTPS id 6a1803df08f44-878bac6bb31sm11684256d6.7.2025.10.06.14.36.57 (version=TLS1_2 cipher=ECDHE-ECDSA-AES128-GCM-SHA256 bits=128/128); Mon, 06 Oct 2025 14:36:57 -0700 (PDT) X-Relaying-Domain: iol.unh.edu Date: Mon, 06 Oct 2025 14:36:57 -0700 (PDT) Message-ID: <68e43679.050a0220.165df8.fcd0SMTPIN_ADDED_MISSING@mx.google.com> Received: from [172.21.0.2] (unknown [172.18.0.240]) by postal.iol.unh.edu (Postfix) with ESMTP id A7EDC6051830; Mon, 6 Oct 2025 17:36:57 -0400 (EDT) Subject: |SUCCESS| pw157274-157276 [PATCH] [v4,3/3] app/test: add ML crypto t From: dpdklab@iol.unh.edu To: Test Report Cc: dpdk-test-reports@iol.unh.edu In-Reply-To: <20251004032259.2707-4-gmuthukrishn@marvell.com> References: <20251004032259.2707-4-gmuthukrishn@marvell.com> Content-Type: text/plain X-BeenThere: test-report@dpdk.org X-Mailman-Version: 2.1.29 Precedence: list List-Id: automatic DPDK test reports List-Unsubscribe: , List-Archive: List-Post: List-Help: List-Subscribe: , Errors-To: test-report-bounces@dpdk.org Test-Label: iol-compile-amd64-testing Test-Status: SUCCESS http://dpdk.org/patch/157276 _Testing PASS_ Submitter: Gowrishankar Muthukrishnan Date: Saturday, October 04 2025 03:22:55 DPDK git baseline: Repo:dpdk Branch: master CommitID:76393b98bf67f94dc6aa23cf5016c32571899261 157274-157276 --> testing pass Upstream job id: Generic-DPDK-Compile-Meson#431558 Test environment and result as below: +-------------------------------+-------------------------+--------------------+-------------------+----------------------+-------------------+------------------+ | Environment | dpdk_llvm_clang_compile | dpdk_meson_compile | dpdk_msvc_compile | dpdk_mingw64_compile | dpdk_compile_spdk | dpdk_compile_ovs | +===============================+=========================+====================+===================+======================+===================+==================+ | Windows Server 2022 | PASS | SKIPPED | PASS | PASS | SKIPPED | SKIPPED | +-------------------------------+-------------------------+--------------------+-------------------+----------------------+-------------------+------------------+ | FreeBSD 14.2 | SKIPPED | PASS | SKIPPED | SKIPPED | SKIPPED | SKIPPED | +-------------------------------+-------------------------+--------------------+-------------------+----------------------+-------------------+------------------+ | Ubuntu 20.04 | SKIPPED | PASS | SKIPPED | SKIPPED | SKIPPED | SKIPPED | +-------------------------------+-------------------------+--------------------+-------------------+----------------------+-------------------+------------------+ | CentOS Stream 9 | SKIPPED | PASS | SKIPPED | SKIPPED | PASS | SKIPPED | +-------------------------------+-------------------------+--------------------+-------------------+----------------------+-------------------+------------------+ | Ubuntu 22.04 | SKIPPED | PASS | SKIPPED | SKIPPED | PASS | SKIPPED | +-------------------------------+-------------------------+--------------------+-------------------+----------------------+-------------------+------------------+ | CentOS Stream 10 | SKIPPED | PASS | SKIPPED | SKIPPED | SKIPPED | SKIPPED | +-------------------------------+-------------------------+--------------------+-------------------+----------------------+-------------------+------------------+ | Debian GNU/Linux 12 | SKIPPED | PASS | SKIPPED | SKIPPED | PASS | SKIPPED | +-------------------------------+-------------------------+--------------------+-------------------+----------------------+-------------------+------------------+ | Fedora Linux 42 | SKIPPED | PASS | SKIPPED | SKIPPED | PASS | PASS | +-------------------------------+-------------------------+--------------------+-------------------+----------------------+-------------------+------------------+ | openSUSE Leap 15.6 | SKIPPED | PASS | SKIPPED | SKIPPED | SKIPPED | SKIPPED | +-------------------------------+-------------------------+--------------------+-------------------+----------------------+-------------------+------------------+ | Red Hat Enterprise Linux 8.10 | SKIPPED | PASS | SKIPPED | SKIPPED | SKIPPED | SKIPPED | +-------------------------------+-------------------------+--------------------+-------------------+----------------------+-------------------+------------------+ | Red Hat Enterprise Linux 9.5 | SKIPPED | PASS | SKIPPED | SKIPPED | SKIPPED | SKIPPED | +-------------------------------+-------------------------+--------------------+-------------------+----------------------+-------------------+------------------+ Windows Server 2022 Kernel: 10.0.20348.2031 Compiler: clang 15.0.7, gcc 14.1.0 (MinGW), and MSVC VS 19.39.33521 FreeBSD 14.2 Kernel: 14.2-RELEASE Compiler: clang 18.1.6 Ubuntu 20.04 Kernel: 4.19 Compiler: gcc gcc (Ubuntu 9.4.0-1ubuntu1~20.04.2) 9.4.0 CentOS Stream 9 Kernel: 5.15 Compiler: gcc gcc (GCC) 11.5.0 20240719 (Red Hat 11.5.0-11) Ubuntu 22.04 Kernel: 5.15 Compiler: gcc gcc (Ubuntu 11.4.0-1ubuntu1~22.04) 11.4.0 CentOS Stream 10 Kernel: 5.15 Compiler: gcc gcc (GCC) 14.2.1 20250110 (Red Hat 14.2.1-8) Debian GNU/Linux 12 Kernel: 5.15 Compiler: gcc gcc (Debian 12.2.0-14+deb12u1) 12.2.0 Fedora Linux 42 Kernel: 5.15 Compiler: clang gcc (GCC) 15.2.1 20250808 (Red Hat 15.2.1-1) openSUSE Leap 15.6 Kernel: 5.15 Compiler: gcc gcc (SUSE Linux) 7.5.0 Red Hat Enterprise Linux 8.10 Kernel: 5.15 Compiler: gcc gcc (GCC) 8.5.0 20210514 (Red Hat 8.5.0-22) Red Hat Enterprise Linux 9.5 Kernel: 5.15 Compiler: gcc gcc (GCC) 11.5.0 20240719 (Red Hat 11.5.0-2) To view detailed results, visit: https://lab.dpdk.org/results/dashboard/patchsets/34215/ UNH-IOL DPDK Community Lab To manage your email subscriptions, visit: https://lab.dpdk.org/results/dashboard/preferences/subscriptions/