From mboxrd@z Thu Jan 1 00:00:00 1970 Return-Path: Received: from mails.dpdk.org (mails.dpdk.org [217.70.189.124]) by inbox.dpdk.org (Postfix) with ESMTP id F211046B5E for ; Tue, 7 Oct 2025 00:21:30 +0200 (CEST) Received: from mails.dpdk.org (localhost [127.0.0.1]) by mails.dpdk.org (Postfix) with ESMTP id D935A402A3; Tue, 7 Oct 2025 00:21:30 +0200 (CEST) Received: from mail-io1-f99.google.com (mail-io1-f99.google.com [209.85.166.99]) by mails.dpdk.org (Postfix) with ESMTP id 42808402A3 for ; Tue, 7 Oct 2025 00:21:30 +0200 (CEST) Received: by mail-io1-f99.google.com with SMTP id ca18e2360f4ac-8cc0cb783ffso516795839f.2 for ; Mon, 06 Oct 2025 15:21:30 -0700 (PDT) DKIM-Signature: v=1; a=rsa-sha256; c=relaxed/relaxed; d=iol.unh.edu; s=unh-iol; t=1759789289; x=1760394089; darn=dpdk.org; h=references:in-reply-to:cc:to:from:subject:message-id:date:from:to :cc:subject:date:message-id:reply-to; bh=MyKWjfkR/X863G60UsMkQqhstxFpiP5eq1/2tzx0CUA=; b=fO+e2ekxuebXmZ+0PKsNvEqvUrcEYrndfYewOzxxU5ZdniyUHd3fPNzEZYyAHIVHaj XwOCQa4zXGQntlhzwpRi4/84hBK/wnYzKPujkKPQjDu5t1IuVrWu7ItIGTBjXdeqW1AR rcfGsz3j4BAWQfsTp3KWPkkIyJv/32FZGSzsM= X-Google-DKIM-Signature: v=1; a=rsa-sha256; c=relaxed/relaxed; d=1e100.net; s=20230601; t=1759789289; x=1760394089; h=references:in-reply-to:cc:to:from:subject:message-id:date :x-gm-message-state:from:to:cc:subject:date:message-id:reply-to; bh=MyKWjfkR/X863G60UsMkQqhstxFpiP5eq1/2tzx0CUA=; b=OKYQ+oO+S3p2bAfp2upVOO7ZxkJwzcZHZLcBnE3Tn9+90BMlZ46HYxxFaAbJyu3Sqi h7o/hPYFX4gj1xeU8JuVjPW+mL2xo1JIK7VP1DBZYkucI9bKVgZTp7s1Zxhu7mX9pTew 9q1MGGApBkROvd1XNYBPmxfdfeP7e/eW0ASwwWhxYYE265M/AAOmkHC6TFUEkD3jFI3i JGtMvGgBRkXAlMPX5/lrH9PQLv8go0XVmSmDfdfvcQ02SgAIdYdpXPpoHwkABl9bicux 5+EHP27Va3yoMuj9DoDjeMAy7CDn5stlVgUIcE+lzc+Fsz17/Aez0oQ8M4z611YFi+j+ x/AQ== X-Gm-Message-State: AOJu0YzPzddVxmK7X0UpmukNaAQ8hKDO2uenN7dULq9nqWH0oP30NUnj VeFwMXNkWYfWrNDM4n+j9S7rXrgy2AzS0AHIQHhzrgGUShK9tWhgIeD1A3r5MjyWUROqAX3blH8 lP4Jy7HuCaLfGuGcIEzs/zVToc/APQWY3uaYLznyqoPnT X-Gm-Gg: ASbGncvZr7ZM4v0SpyCC8hqZZ2yGgFa0zadFqiAmSaP76MAZdqMPHcP0GMyeFRCThYN W7lRhSHBjneWkBOulPsrRWPmqnBo0CRCEsWExwEhkVF62lCOJrofBuQrUisPYRNkbTW2WKrke9J UPvCkS22Ok2QP41XyQv288ka8OJpTPDRbbPZSnQlGuXVHD14C8XRoEGcaZ6FtgpDeq88chymcZ0 +REDgCdf0ErTjwq9w9uwBjvAxAWNH32Fir3hqCS+cwOeV/y0S7MqooQztDaM2Yo0+7S5oPS8xR6 B8SMxDTOIic4gBKgvFwmE49yUU4bgP007Lh1T7pmppP75DlF1nYIGJzbQ1ZgsfwpuIw7h+2prY6 UmA== X-Google-Smtp-Source: AGHT+IGFB3rskNIXCg11OAmYgoMH7cjSNTRf+BovCy5JNsc+e4wxEFqDOpYPL5ZFIi2p9mD75p7CPxfGOT8T X-Received: by 2002:a05:6e02:3788:b0:42e:7444:b019 with SMTP id e9e14a558f8ab-42e7adfe854mr203815025ab.32.1759789289371; Mon, 06 Oct 2025 15:21:29 -0700 (PDT) Received: from postal.iol.unh.edu (postal.iol.unh.edu. [132.177.123.84]) by smtp-relay.gmail.com with ESMTPS id e9e14a558f8ab-42d8b278028sm11230925ab.24.2025.10.06.15.21.29 (version=TLS1_2 cipher=ECDHE-ECDSA-AES128-GCM-SHA256 bits=128/128); Mon, 06 Oct 2025 15:21:29 -0700 (PDT) X-Relaying-Domain: iol.unh.edu Date: Mon, 06 Oct 2025 15:21:29 -0700 (PDT) Message-ID: <68e440e9.920a0220.405de.e596SMTPIN_ADDED_MISSING@mx.google.com> Received: from [172.21.0.2] (unknown [172.18.0.240]) by postal.iol.unh.edu (Postfix) with ESMTP id D717A6051830; Mon, 6 Oct 2025 18:21:28 -0400 (EDT) Subject: |SUCCESS| pw157283-157293 [PATCH] [11/11] net/enetfec: add software From: dpdklab@iol.unh.edu To: Test Report Cc: dpdk-test-reports@iol.unh.edu, Stephen Hemminger In-Reply-To: <20251006080410.1433284-12-hemant.agrawal@nxp.com> References: <20251006080410.1433284-12-hemant.agrawal@nxp.com> Content-Type: text/plain X-BeenThere: test-report@dpdk.org X-Mailman-Version: 2.1.29 Precedence: list List-Id: automatic DPDK test reports List-Unsubscribe: , List-Archive: List-Post: List-Help: List-Subscribe: , Errors-To: test-report-bounces@dpdk.org Test-Label: iol-unit-arm64-testing Test-Status: SUCCESS http://dpdk.org/patch/157293 _Testing PASS_ Submitter: Hemant Agrawal Date: Monday, October 06 2025 08:04:10 DPDK git baseline: Repo:dpdk-next-net Branch: master CommitID:c04bbd131b2c14b3049bf86d3ef367b34e6fdf1e 157283-157293 --> testing pass Upstream job id: Generic-Unit-Test-DPDK#378797 Test environment and result as below: +------------------------------+----------------+--------------+---------------------------+------------------------------+ | Environment | dpdk_unit_test | lpm_autotest | cryptodev_sw_zuc_autotest | cryptodev_sw_snow3g_autotest | +==============================+================+==============+===========================+==============================+ | Fedora Linux 40 | PASS | SKIPPED | SKIPPED | SKIPPED | +------------------------------+----------------+--------------+---------------------------+------------------------------+ | CentOS Stream 9 | PASS | SKIPPED | SKIPPED | SKIPPED | +------------------------------+----------------+--------------+---------------------------+------------------------------+ | Fedora Linux 42 | PASS | SKIPPED | SKIPPED | SKIPPED | +------------------------------+----------------+--------------+---------------------------+------------------------------+ | Fedora Linux 41 | PASS | SKIPPED | SKIPPED | SKIPPED | +------------------------------+----------------+--------------+---------------------------+------------------------------+ | Debian GNU/Linux 12 | PASS | SKIPPED | SKIPPED | SKIPPED | +------------------------------+----------------+--------------+---------------------------+------------------------------+ | Ubuntu 22.04 | PASS | SKIPPED | SKIPPED | SKIPPED | +------------------------------+----------------+--------------+---------------------------+------------------------------+ | CentOS Stream 10 | PASS | SKIPPED | SKIPPED | SKIPPED | +------------------------------+----------------+--------------+---------------------------+------------------------------+ | Red Hat Enterprise Linux 9.5 | PASS | SKIPPED | SKIPPED | SKIPPED | +------------------------------+----------------+--------------+---------------------------+------------------------------+ | Ubuntu 20.04 | PASS | PASS | SKIPPED | SKIPPED | +------------------------------+----------------+--------------+---------------------------+------------------------------+ | Ubuntu 24.04 | PASS | SKIPPED | SKIPPED | SKIPPED | +------------------------------+----------------+--------------+---------------------------+------------------------------+ | Debian 12 (arm) | SKIPPED | SKIPPED | PASS | PASS | +------------------------------+----------------+--------------+---------------------------+------------------------------+ Fedora Linux 40 Kernel: 5.4 Compiler: gcc gcc (GCC) 14.2.1 20240912 (Red Hat 14.2.1-3) CentOS Stream 9 Kernel: 5.4 Compiler: gcc gcc (GCC) 11.5.0 20240719 (Red Hat 11.5.0-11) Fedora Linux 42 Kernel: 5.4 Compiler: gcc gcc (GCC) 15.2.1 20250808 (Red Hat 15.2.1-1) Fedora Linux 41 Kernel: 5.4 Compiler: gcc gcc (GCC) 14.3.1 20250523 (Red Hat 14.3.1-1) Debian GNU/Linux 12 Kernel: 5.4 Compiler: gcc gcc (Debian 12.2.0-14+deb12u1) 12.2.0 Ubuntu 22.04 Kernel: 5.15 Compiler: gcc gcc (Ubuntu 11.4.0-1ubuntu1~22.04.2) 11.4.0 CentOS Stream 10 Kernel: 5.4 Compiler: gcc gcc (GCC) 14.2.1 20250110 (Red Hat 14.2.1-8) Red Hat Enterprise Linux 9.5 Kernel: 5.4 Compiler: gcc gcc (GCC) 11.5.0 20240719 (Red Hat 11.5.0-2) Ubuntu 20.04 Kernel: 5.4 Compiler: gcc gcc (Ubuntu 9.4.0-1ubuntu1~20.04.2) 9.4.0 Ubuntu 24.04 Kernel: 5.4 Compiler: gcc gcc (Ubuntu 13.3.0-6ubuntu2~24.04) 13.3.0 Debian 12 (arm) Kernel: Depends on container host Compiler: gcc (Debian 12.2.0-14) 12.2.0 To view detailed results, visit: https://lab.dpdk.org/results/dashboard/patchsets/34218/ UNH-IOL DPDK Community Lab To manage your email subscriptions, visit: https://lab.dpdk.org/results/dashboard/preferences/subscriptions/