From mboxrd@z Thu Jan 1 00:00:00 1970 Return-Path: Received: from mails.dpdk.org (mails.dpdk.org [217.70.189.124]) by inbox.dpdk.org (Postfix) with ESMTP id E567746B5E for ; Tue, 7 Oct 2025 00:51:40 +0200 (CEST) Received: from mails.dpdk.org (localhost [127.0.0.1]) by mails.dpdk.org (Postfix) with ESMTP id C71E5402A3; Tue, 7 Oct 2025 00:51:40 +0200 (CEST) Received: from mail-qv1-f97.google.com (mail-qv1-f97.google.com [209.85.219.97]) by mails.dpdk.org (Postfix) with ESMTP id 56F40402A3 for ; Tue, 7 Oct 2025 00:51:39 +0200 (CEST) Received: by mail-qv1-f97.google.com with SMTP id 6a1803df08f44-87499a3cd37so41547176d6.3 for ; Mon, 06 Oct 2025 15:51:39 -0700 (PDT) DKIM-Signature: v=1; a=rsa-sha256; c=relaxed/relaxed; d=iol.unh.edu; s=unh-iol; t=1759791098; x=1760395898; darn=dpdk.org; h=cc:to:from:subject:message-id:date:from:to:cc:subject:date :message-id:reply-to; bh=er1qRQYpF8xj7FRtBjtFWBF3WGu4q6sfD8v/fOP+yO4=; b=Sp+U8nSGjJupxiBy1g5b0942zqmf6m0gZXCr6p3qkXiOpsl81wUHhq3aoHRlxAsYSK iHUcNnla5+zg3QJmHypOVkQSTVIu/7Pls3rOWjwEe1actnel1QzcrU4DYoiuaY5EyyvO JuM4mslq5yawghkhZhne20i3MsHrtQGBG/xZ8= X-Google-DKIM-Signature: v=1; a=rsa-sha256; c=relaxed/relaxed; d=1e100.net; s=20230601; t=1759791098; x=1760395898; h=cc:to:from:subject:message-id:date:x-gm-message-state:from:to:cc :subject:date:message-id:reply-to; bh=er1qRQYpF8xj7FRtBjtFWBF3WGu4q6sfD8v/fOP+yO4=; b=XGkiqZvPD2w1+g/wcEoZJo7Mk2+rAljidRbDS/Q12J4fHmubuYElLUS+OVHq7PYP5v bEPRxJbDIszFUAVP2K1X/W56sQJ1vogzhc+W4UXmaTC5jbxhafdZZirxw3nUtOsLS5mB C7vInb3dq3CXhZIzS9XqoKr5xKxHNTL2hvvsgbH0cFIWezf5rP2IUkzcUu5mf/kFsM2m /x0bH2Mh7Ef4h5rKMpzf1wQu687FjEFXCQJxj7CPG8pDGjeguv9zE3Enn90sQy35+HJ4 6iaLC8QObAzQc1OwfD8MjsAkVRL9zN8hqRqjNgZRk1uT2lmVGT5/PkPVBt5yq3+yOPPd WDZw== X-Gm-Message-State: AOJu0Yy/c9dZWFLY9dda28ICLa/U9zO3ba8x6n41yxvzQ63rA6r0U/3d YvIu2Yq9I1/isrbyxP+5LbZOEKDDM6OHpRJatCdg/fKszKVNJZKuNILiix8l22BF92UzcU1qntv uSA3cUvm5d+x9ivtb/VK5uo9zzX6ZRxXF+pgSn57vSI79vC1KolnA X-Gm-Gg: ASbGncuTmjG2kws1EAE55+q9a1hK+mtWULDZ/Ksel2SSZYif0vugtTP2ctOlNqK06ui M7ut19KyVOearwOPv0POhyW1eXOtMTa7mPWzL2sAausARUyGM+AkFPUMICyP/Fajc1toGbaSvR/ 3Zzin3PShgcC6Ackww2Y6JpbbDSFsOEotR2RpljSsQnjWQeIwvOIhl5OSumdHQcYq4FaXOiw64U TYeRToFNzY//Mm6vBqb/r9QebL95WBkK2cnARa/YbTS9tWqTZRkb/JWxHijN0pEbLWlmp1VK1OC cY5Ozw93UiAia8s2H4lbElhKb0wUBZGk94EB1VffEba0t3uF2H80cOk= X-Google-Smtp-Source: AGHT+IEnEtATELmW5BdESNIjtAagxiZf0/N5KllAQaZ6xFRUVjKOYFQNWrWSjFBQXRCLv0hs50a2H0rOKpSf X-Received: by 2002:a05:6214:21c3:b0:78e:f6cd:46f4 with SMTP id 6a1803df08f44-879dc888809mr198654826d6.58.1759791098496; Mon, 06 Oct 2025 15:51:38 -0700 (PDT) Received: from postal.iol.unh.edu (postal.iol.unh.edu. [2606:4100:3880:1234::84]) by smtp-relay.gmail.com with ESMTPS id 6a1803df08f44-878be04cad5sm11743826d6.29.2025.10.06.15.51.38 (version=TLS1_2 cipher=ECDHE-ECDSA-AES128-GCM-SHA256 bits=128/128); Mon, 06 Oct 2025 15:51:38 -0700 (PDT) X-Relaying-Domain: iol.unh.edu Date: Mon, 06 Oct 2025 15:51:38 -0700 (PDT) Message-ID: <68e447fa.050a0220.107ee1.f471SMTPIN_ADDED_MISSING@mx.google.com> Received: from [172.21.0.2] (unknown [172.18.0.240]) by postal.iol.unh.edu (Postfix) with ESMTP id 3221A60003E8; Mon, 6 Oct 2025 18:51:38 -0400 (EDT) Subject: |SUCCESS| [GIT MASTER] 3b43ce3f4a54468e7ef65760c2fd7b4d6ee6d9fc From: dpdklab@iol.unh.edu To: Test Report Cc: dpdk-test-reports@iol.unh.edu, Xueming Li , Christian Ehrhardt , Kevin Traynor , Luca Boccassi Content-Type: text/plain X-BeenThere: test-report@dpdk.org X-Mailman-Version: 2.1.29 Precedence: list List-Id: automatic DPDK test reports List-Unsubscribe: , List-Archive: List-Post: List-Help: List-Subscribe: , Errors-To: test-report-bounces@dpdk.org _Testing PASS_ Branch: tags/v22.11 3b43ce3f4a54468e7ef65760c2fd7b4d6ee6d9fc --> testing pass Upstream job id: Generic-DPDK-Compile-Meson#431567 Test environment and result as below: +---------------------+--------------------+-------------------------+----------------------+ | Environment | dpdk_meson_compile | dpdk_llvm_clang_compile | dpdk_mingw64_compile | +=====================+====================+=========================+======================+ | Ubuntu 20.04 | PASS | SKIPPED | SKIPPED | +---------------------+--------------------+-------------------------+----------------------+ | FreeBSD 14.2 | PASS | SKIPPED | SKIPPED | +---------------------+--------------------+-------------------------+----------------------+ | CentOS Stream 9 | PASS | SKIPPED | SKIPPED | +---------------------+--------------------+-------------------------+----------------------+ | Windows Server 2022 | SKIPPED | PASS | PASS | +---------------------+--------------------+-------------------------+----------------------+ Ubuntu 20.04 Kernel: 4.19 Compiler: gcc gcc (Ubuntu 9.4.0-1ubuntu1~20.04.2) 9.4.0 FreeBSD 14.2 Kernel: 14.2-RELEASE Compiler: clang 18.1.6 CentOS Stream 9 Kernel: 5.15 Compiler: gcc gcc (GCC) 11.5.0 20240719 (Red Hat 11.5.0-11) Windows Server 2022 Kernel: 10.0.20348.2031 Compiler: clang 15.0.7, gcc 14.1.0 (MinGW), and MSVC VS 19.39.33521 To view detailed results, visit: https://lab.dpdk.org/results/dashboard/tarballs/35105/ UNH-IOL DPDK Community Lab To manage your email subscriptions, visit: https://lab.dpdk.org/results/dashboard/preferences/subscriptions/