From mboxrd@z Thu Jan 1 00:00:00 1970 Return-Path: Received: from mails.dpdk.org (mails.dpdk.org [217.70.189.124]) by inbox.dpdk.org (Postfix) with ESMTP id 4150846B5E for ; Tue, 7 Oct 2025 01:05:59 +0200 (CEST) Received: from mails.dpdk.org (localhost [127.0.0.1]) by mails.dpdk.org (Postfix) with ESMTP id 38364402A3; Tue, 7 Oct 2025 01:05:59 +0200 (CEST) Received: from mail-il1-f228.google.com (mail-il1-f228.google.com [209.85.166.228]) by mails.dpdk.org (Postfix) with ESMTP id 75907402A3 for ; Tue, 7 Oct 2025 01:05:57 +0200 (CEST) Received: by mail-il1-f228.google.com with SMTP id e9e14a558f8ab-42f69f5db55so25982765ab.0 for ; Mon, 06 Oct 2025 16:05:57 -0700 (PDT) DKIM-Signature: v=1; a=rsa-sha256; c=relaxed/relaxed; d=iol.unh.edu; s=unh-iol; t=1759791957; x=1760396757; darn=dpdk.org; h=references:in-reply-to:cc:to:from:subject:message-id:date:from:to :cc:subject:date:message-id:reply-to; bh=kzMJ9oUTCII7t5PjEUdaAd/rpz1qToKWxOFdKPCEW+s=; b=FSWBhw1XnnkfMHHKohY2/+rWwgBBQIfzosRBO3IasCAGleBzij8P8RFDe40hQ80gQs nvEpvoa4vYYl/9ASHODMMk1/FLOqTPuFHfId8P+leqdapI1jMIPWCsC64E71jI8kP/8i yQJnJHlJtSl3COluFTIJId4fq/UJ9sAMGasqU= X-Google-DKIM-Signature: v=1; a=rsa-sha256; c=relaxed/relaxed; d=1e100.net; s=20230601; t=1759791957; x=1760396757; h=references:in-reply-to:cc:to:from:subject:message-id:date :x-gm-message-state:from:to:cc:subject:date:message-id:reply-to; bh=kzMJ9oUTCII7t5PjEUdaAd/rpz1qToKWxOFdKPCEW+s=; b=mLJYOH2TkTrtZjoJBwLZnXphs3yRU7bKvLjH1eVgQzZHfIGvD3Of6Fr8AxJ7NkOp8P 7S5ktRhp0uga9TIJ7GYCqlaEcpsAHymQ+7WVS7uyYcZWe1l4OvtDkZOOxzZWoKgBZErB QsDUwtHAMarDsG1p/DYM77/kjQAeOtl4CJH2FjnpAMncO4DLUK2RBQOkfggnbVP0rUdo qzmrVfmV8NgyK8iNiZ46evy4Io9CunYtiwSzBv5rcOeL/GJhi9Rnb7b/JCsERbd9+Ste T7rfmW3uoKIPYVIuHpa0TqNrtmEsDOtIezqVUSrZqBkThdopaoCqAe8mNC414G/ISkWe pW/A== X-Gm-Message-State: AOJu0YwDMTmhvUQ+oiSxDGvEU8NM5LZqSBgHs3iujfy7vfn3UaldAoHI A4iUQPJkKQPX57D4l/p1b7znZdjeFzGRL6CY+XNxcs1d3svJx7dVooNbAWRIJ+Zd2zTM0uXDXX9 d0h21EFsT9b9U5LSeW68FRgxHRlmtLHRU9E/rBAj2xTF8NaFQZvdUuIO7xVR0 X-Gm-Gg: ASbGncuk7+mkWPjCGhu3zIYtH7lupTGSG+FnAUYpzWXW0TOLLVZyEknJ1H4OUSbsprX zsOOLfYdISaxBahXitu2tZN41t23GhQMU4wjcpNzYzFb84t11Vow36bSzuSNX2P8RFGgBMBYpnl 6HkeQ4GCRitMlfWS1XpVnUdxb8uzCWcrXNfp7LOrv9UA+YlXrOwiQdl1+Ae0EG49z6K36Z3UpiS D1+msXn3BIxQtaYWU2oaP7TWY7ISwLfoQ25JJ/bYmfpYRawMQ8zupXU4+S1JF8nk8L6qJWiuO1f e0nNoWeaagK5/mOjlzDQC7GFZohZziVdQkUWIp2kLLDTAngkko/OklY= X-Google-Smtp-Source: AGHT+IETzwZlT20GbGyO3YmInYSn0YeaEfqEw4JXcWkjvmUCHYviiV880mn3G7cB2uj280rX40C2tCv2wOWa X-Received: by 2002:a92:c241:0:b0:42d:7dea:1e2b with SMTP id e9e14a558f8ab-42e7adaf3d5mr179920925ab.24.1759791956724; Mon, 06 Oct 2025 16:05:56 -0700 (PDT) Received: from postal.iol.unh.edu (postal.iol.unh.edu. [2606:4100:3880:1234::84]) by smtp-relay.gmail.com with ESMTPS id 8926c6da1cb9f-57b5eaa41d7sm1143671173.5.2025.10.06.16.05.56 (version=TLS1_2 cipher=ECDHE-ECDSA-AES128-GCM-SHA256 bits=128/128); Mon, 06 Oct 2025 16:05:56 -0700 (PDT) X-Relaying-Domain: iol.unh.edu Date: Mon, 06 Oct 2025 16:05:56 -0700 (PDT) Message-ID: <68e44b54.050a0220.634b6.e55dSMTPIN_ADDED_MISSING@mx.google.com> Received: from [172.21.0.2] (unknown [172.18.0.240]) by postal.iol.unh.edu (Postfix) with ESMTP id 6410F6051830; Mon, 6 Oct 2025 19:05:56 -0400 (EDT) Subject: |SUCCESS| pw157274-157276 [PATCH] [v4,3/3] app/test: add ML crypto t From: dpdklab@iol.unh.edu To: Test Report Cc: dpdk-test-reports@iol.unh.edu In-Reply-To: <20251004032259.2707-4-gmuthukrishn@marvell.com> References: <20251004032259.2707-4-gmuthukrishn@marvell.com> Content-Type: text/plain X-BeenThere: test-report@dpdk.org X-Mailman-Version: 2.1.29 Precedence: list List-Id: automatic DPDK test reports List-Unsubscribe: , List-Archive: List-Post: List-Help: List-Subscribe: , Errors-To: test-report-bounces@dpdk.org Test-Label: iol-compile-amd64-testing Test-Status: SUCCESS http://dpdk.org/patch/157276 _Testing PASS_ Submitter: Gowrishankar Muthukrishnan Date: Saturday, October 04 2025 03:22:55 DPDK git baseline: Repo:dpdk Branch: master CommitID:76393b98bf67f94dc6aa23cf5016c32571899261 157274-157276 --> testing pass Upstream job id: Generic-DPDK-Compile-Meson#431566 Test environment and result as below: +-------------------------------+-------------------------+--------------------+-------------------+----------------------+-------------------+------------------+ | Environment | dpdk_llvm_clang_compile | dpdk_meson_compile | dpdk_msvc_compile | dpdk_mingw64_compile | dpdk_compile_spdk | dpdk_compile_ovs | +===============================+=========================+====================+===================+======================+===================+==================+ | Windows Server 2022 | PASS | SKIPPED | PASS | PASS | SKIPPED | SKIPPED | +-------------------------------+-------------------------+--------------------+-------------------+----------------------+-------------------+------------------+ | FreeBSD 14.2 | SKIPPED | PASS | SKIPPED | SKIPPED | SKIPPED | SKIPPED | +-------------------------------+-------------------------+--------------------+-------------------+----------------------+-------------------+------------------+ | Ubuntu 20.04 | SKIPPED | PASS | SKIPPED | SKIPPED | SKIPPED | SKIPPED | +-------------------------------+-------------------------+--------------------+-------------------+----------------------+-------------------+------------------+ | CentOS Stream 9 | SKIPPED | PASS | SKIPPED | SKIPPED | PASS | SKIPPED | +-------------------------------+-------------------------+--------------------+-------------------+----------------------+-------------------+------------------+ | Ubuntu 22.04 | SKIPPED | PASS | SKIPPED | SKIPPED | PASS | SKIPPED | +-------------------------------+-------------------------+--------------------+-------------------+----------------------+-------------------+------------------+ | CentOS Stream 10 | SKIPPED | PASS | SKIPPED | SKIPPED | SKIPPED | SKIPPED | +-------------------------------+-------------------------+--------------------+-------------------+----------------------+-------------------+------------------+ | Debian GNU/Linux 12 | SKIPPED | PASS | SKIPPED | SKIPPED | PASS | SKIPPED | +-------------------------------+-------------------------+--------------------+-------------------+----------------------+-------------------+------------------+ | Fedora Linux 42 | SKIPPED | PASS | SKIPPED | SKIPPED | PASS | PASS | +-------------------------------+-------------------------+--------------------+-------------------+----------------------+-------------------+------------------+ | openSUSE Leap 15.6 | SKIPPED | PASS | SKIPPED | SKIPPED | SKIPPED | SKIPPED | +-------------------------------+-------------------------+--------------------+-------------------+----------------------+-------------------+------------------+ | Red Hat Enterprise Linux 8.10 | SKIPPED | PASS | SKIPPED | SKIPPED | SKIPPED | SKIPPED | +-------------------------------+-------------------------+--------------------+-------------------+----------------------+-------------------+------------------+ | Red Hat Enterprise Linux 9.5 | SKIPPED | PASS | SKIPPED | SKIPPED | SKIPPED | SKIPPED | +-------------------------------+-------------------------+--------------------+-------------------+----------------------+-------------------+------------------+ | Ubuntu 24.04 | SKIPPED | PASS | SKIPPED | SKIPPED | PASS | PASS | +-------------------------------+-------------------------+--------------------+-------------------+----------------------+-------------------+------------------+ | Alpine Linux 3.22.0 | SKIPPED | PASS | SKIPPED | SKIPPED | SKIPPED | SKIPPED | +-------------------------------+-------------------------+--------------------+-------------------+----------------------+-------------------+------------------+ Windows Server 2022 Kernel: 10.0.20348.2031 Compiler: clang 15.0.7, gcc 14.1.0 (MinGW), and MSVC VS 19.39.33521 FreeBSD 14.2 Kernel: 14.2-RELEASE Compiler: clang 18.1.6 Ubuntu 20.04 Kernel: 4.19 Compiler: gcc gcc (Ubuntu 9.4.0-1ubuntu1~20.04.2) 9.4.0 CentOS Stream 9 Kernel: 5.15 Compiler: gcc gcc (GCC) 11.5.0 20240719 (Red Hat 11.5.0-11) Ubuntu 22.04 Kernel: 5.15 Compiler: gcc gcc (Ubuntu 11.4.0-1ubuntu1~22.04) 11.4.0 CentOS Stream 10 Kernel: 5.15 Compiler: gcc gcc (GCC) 14.2.1 20250110 (Red Hat 14.2.1-8) Debian GNU/Linux 12 Kernel: 5.15 Compiler: gcc gcc (Debian 12.2.0-14+deb12u1) 12.2.0 Fedora Linux 42 Kernel: 5.15 Compiler: clang gcc (GCC) 15.2.1 20250808 (Red Hat 15.2.1-1) openSUSE Leap 15.6 Kernel: 5.15 Compiler: gcc gcc (SUSE Linux) 7.5.0 Red Hat Enterprise Linux 8.10 Kernel: 5.15 Compiler: gcc gcc (GCC) 8.5.0 20210514 (Red Hat 8.5.0-22) Red Hat Enterprise Linux 9.5 Kernel: 5.15 Compiler: gcc gcc (GCC) 11.5.0 20240719 (Red Hat 11.5.0-2) Ubuntu 24.04 Kernel: 5.15 Compiler: gcc gcc (Ubuntu 13.3.0-6ubuntu2~24.04) 13.3.0 Alpine Linux 3.22.0 Kernel: 5.15 Compiler: gcc gcc (Alpine 14.2.0) 14.2.0 To view detailed results, visit: https://lab.dpdk.org/results/dashboard/patchsets/34215/ UNH-IOL DPDK Community Lab To manage your email subscriptions, visit: https://lab.dpdk.org/results/dashboard/preferences/subscriptions/