From mboxrd@z Thu Jan 1 00:00:00 1970 Return-Path: Received: from mails.dpdk.org (mails.dpdk.org [217.70.189.124]) by inbox.dpdk.org (Postfix) with ESMTP id 01ACD46B5E for ; Tue, 7 Oct 2025 01:23:22 +0200 (CEST) Received: from mails.dpdk.org (localhost [127.0.0.1]) by mails.dpdk.org (Postfix) with ESMTP id EBE8D402A3; Tue, 7 Oct 2025 01:23:21 +0200 (CEST) Received: from mail-il1-f227.google.com (mail-il1-f227.google.com [209.85.166.227]) by mails.dpdk.org (Postfix) with ESMTP id 9B65E402A3 for ; Tue, 7 Oct 2025 01:23:20 +0200 (CEST) Received: by mail-il1-f227.google.com with SMTP id e9e14a558f8ab-42d8ad71a51so65476355ab.1 for ; Mon, 06 Oct 2025 16:23:20 -0700 (PDT) DKIM-Signature: v=1; a=rsa-sha256; c=relaxed/relaxed; d=iol.unh.edu; s=unh-iol; t=1759793000; x=1760397800; darn=dpdk.org; h=cc:to:from:subject:message-id:date:from:to:cc:subject:date :message-id:reply-to; bh=6PSK8KEGrn0Lx1Hch5kqE3+e8vWVLko219gvEluDFac=; b=WrgjwKOMZEYJSGdashg9PN9Q5bpBp5IzvDFLSwQVUhhgMSdEn9D051YlrxuZ7Pwd/+ SPx+2FpTFQQRv7cTAaESQ61OT/zkRGUP5J4hUJnhLIJUvGqGgJ9j/aAv5Oj5+ykWCttL u33y9O6ZuZiCT31p8WxpMkfmmPGU64mo8QI5A= X-Google-DKIM-Signature: v=1; a=rsa-sha256; c=relaxed/relaxed; d=1e100.net; s=20230601; t=1759793000; x=1760397800; h=cc:to:from:subject:message-id:date:x-gm-message-state:from:to:cc :subject:date:message-id:reply-to; bh=6PSK8KEGrn0Lx1Hch5kqE3+e8vWVLko219gvEluDFac=; b=DiQ2whHONSQBu/lsMn+F3Xw2c9y96v2x+iTH/L+cl+8OafMB14rhEGXL3QRD/P3x4C lkKPD+B+ut2mfmTA1Ud6aJSzixJiAOpyltW+pY+IAJdPr1a/Puotq2h+PvZpjgS4p26t S1xpPqRN+1ZzC7sJr6A0Uvixk6fRp1rd9NC8lyf0NDRLPkxYjMwtrbKK5U+92qBGSi0f FrP7RAZciwPul9IkbW29Mq8wBgigcfOuV7vVXwoHndIZMd6aJBR2h26xgxhQ/0Q2A+Hw nh1prs3+6EjnUfmXNy52Ssk1Ahj6AEc5FyqcfRKEHRBXHeB3ojSnLZxPctd7KlJO61T6 azng== X-Gm-Message-State: AOJu0YyLbzgauqtP+cGMQQpg5ptJlg7srctBvHZF0YQ10QtAjsWE1oPM KMhR7gaIQXHJPL0gDI6PKv9Ns1eoHcWoB3NmEkMPws3U526AAlBY60bV7DA8L4RWEUoi+jNEbyi xUBqLw2t89vMqscRYBsNoq4/DmX8ZkhvaZpd8 X-Gm-Gg: ASbGnctu3CdJQd8QrA4dutiH7Ue4fptgrBhGSCRRH84gwOGt/Ee/TZ1xzD4wsjzotvs ECeMaaE9Vsqcg+qDQILPWOqZeyBQvNXX9+YJd9VYbOkF7OL3f44+Leo+8ltxF7VWd1kVhuhYd3f Q96NNEjDOroNgskgs/qQ5SvjEypB6V1K0II0PCChSv5nefpvr+sBVcBzIhMZf0E+0y4Fc3OJKt2 Kbdg/OLOs4RiCpHwAFmdunLXIqnQ/MUZxnDf4J6wNWJXi131jdgDmYwnTaLOP76LnH2F3ZpZPnG a0poM6QqWhOnclCqzru5UmhPAaHDik2sYKIejPwvc+Kz61q3ulQzvHFdFW0YBFpGsL9k7ynJSui BEg== X-Google-Smtp-Source: AGHT+IG8YtYGGF1UjcdwW9CSEduqk1w0Rr7yKBXnOO7uj9Om+E50Os0x2pO3Y6xkDRMS4dUkmwUh6hkqfKyU X-Received: by 2002:a92:c241:0:b0:427:364b:2201 with SMTP id e9e14a558f8ab-42e7adb359bmr206475005ab.30.1759792999902; Mon, 06 Oct 2025 16:23:19 -0700 (PDT) Received: from postal.iol.unh.edu (postal.iol.unh.edu. [132.177.123.84]) by smtp-relay.gmail.com with ESMTPS id 8926c6da1cb9f-57b5eaa412fsm1163768173.2.2025.10.06.16.23.19 (version=TLS1_2 cipher=ECDHE-ECDSA-AES128-GCM-SHA256 bits=128/128); Mon, 06 Oct 2025 16:23:19 -0700 (PDT) X-Relaying-Domain: iol.unh.edu Date: Mon, 06 Oct 2025 16:23:19 -0700 (PDT) Message-ID: <68e44f67.050a0220.cd73c.edaeSMTPIN_ADDED_MISSING@mx.google.com> Received: from [172.21.0.2] (unknown [172.18.0.240]) by postal.iol.unh.edu (Postfix) with ESMTP id 699B96051830; Mon, 6 Oct 2025 19:23:19 -0400 (EDT) Subject: |SUCCESS| [GIT MASTER] 3b43ce3f4a54468e7ef65760c2fd7b4d6ee6d9fc From: dpdklab@iol.unh.edu To: Test Report Cc: dpdk-test-reports@iol.unh.edu, Xueming Li , Christian Ehrhardt , Kevin Traynor , Luca Boccassi Content-Type: text/plain X-BeenThere: test-report@dpdk.org X-Mailman-Version: 2.1.29 Precedence: list List-Id: automatic DPDK test reports List-Unsubscribe: , List-Archive: List-Post: List-Help: List-Subscribe: , Errors-To: test-report-bounces@dpdk.org _Testing PASS_ Branch: tags/v22.11 3b43ce3f4a54468e7ef65760c2fd7b4d6ee6d9fc --> testing pass Upstream job id: Generic-DPDK-Compile-Meson#431574 Test environment and result as below: +-------------------------------+--------------------+-------------------------+----------------------+ | Environment | dpdk_meson_compile | dpdk_llvm_clang_compile | dpdk_mingw64_compile | +===============================+====================+=========================+======================+ | Ubuntu 20.04 | PASS | SKIPPED | SKIPPED | +-------------------------------+--------------------+-------------------------+----------------------+ | FreeBSD 14.2 | PASS | SKIPPED | SKIPPED | +-------------------------------+--------------------+-------------------------+----------------------+ | CentOS Stream 9 | PASS | SKIPPED | SKIPPED | +-------------------------------+--------------------+-------------------------+----------------------+ | CentOS Stream 10 | PASS | SKIPPED | SKIPPED | +-------------------------------+--------------------+-------------------------+----------------------+ | Debian GNU/Linux 12 | PASS | SKIPPED | SKIPPED | +-------------------------------+--------------------+-------------------------+----------------------+ | Fedora Linux 42 | PASS | SKIPPED | SKIPPED | +-------------------------------+--------------------+-------------------------+----------------------+ | openSUSE Leap 15.6 | PASS | SKIPPED | SKIPPED | +-------------------------------+--------------------+-------------------------+----------------------+ | Red Hat Enterprise Linux 8.10 | PASS | SKIPPED | SKIPPED | +-------------------------------+--------------------+-------------------------+----------------------+ | Red Hat Enterprise Linux 9.5 | PASS | SKIPPED | SKIPPED | +-------------------------------+--------------------+-------------------------+----------------------+ | Ubuntu 22.04 | PASS | SKIPPED | SKIPPED | +-------------------------------+--------------------+-------------------------+----------------------+ | Ubuntu 24.04 | PASS | SKIPPED | SKIPPED | +-------------------------------+--------------------+-------------------------+----------------------+ | Windows Server 2022 | SKIPPED | PASS | PASS | +-------------------------------+--------------------+-------------------------+----------------------+ Ubuntu 20.04 Kernel: 4.19 Compiler: gcc gcc (Ubuntu 9.4.0-1ubuntu1~20.04.2) 9.4.0 FreeBSD 14.2 Kernel: 14.2-RELEASE Compiler: clang 18.1.6 CentOS Stream 9 Kernel: 5.15 Compiler: gcc gcc (GCC) 11.5.0 20240719 (Red Hat 11.5.0-11) CentOS Stream 10 Kernel: 5.15 Compiler: gcc gcc (GCC) 14.2.1 20250110 (Red Hat 14.2.1-8) Debian GNU/Linux 12 Kernel: 5.15 Compiler: gcc gcc (Debian 12.2.0-14+deb12u1) 12.2.0 Fedora Linux 42 Kernel: 5.15 Compiler: clang gcc (GCC) 15.2.1 20250808 (Red Hat 15.2.1-1) openSUSE Leap 15.6 Kernel: 5.15 Compiler: gcc gcc (SUSE Linux) 7.5.0 Red Hat Enterprise Linux 8.10 Kernel: 5.15 Compiler: gcc gcc (GCC) 8.5.0 20210514 (Red Hat 8.5.0-22) Red Hat Enterprise Linux 9.5 Kernel: 5.15 Compiler: gcc gcc (GCC) 11.5.0 20240719 (Red Hat 11.5.0-2) Ubuntu 22.04 Kernel: 5.15 Compiler: gcc gcc (Ubuntu 11.4.0-1ubuntu1~22.04) 11.4.0 Ubuntu 24.04 Kernel: 5.15 Compiler: gcc gcc (Ubuntu 13.3.0-6ubuntu2~24.04) 13.3.0 Windows Server 2022 Kernel: 10.0.20348.2031 Compiler: clang 15.0.7, gcc 14.1.0 (MinGW), and MSVC VS 19.39.33521 To view detailed results, visit: https://lab.dpdk.org/results/dashboard/tarballs/35105/ UNH-IOL DPDK Community Lab To manage your email subscriptions, visit: https://lab.dpdk.org/results/dashboard/preferences/subscriptions/