From mboxrd@z Thu Jan 1 00:00:00 1970 Return-Path: Received: from mails.dpdk.org (mails.dpdk.org [217.70.189.124]) by inbox.dpdk.org (Postfix) with ESMTP id B921B48885 for ; Tue, 7 Oct 2025 02:26:23 +0200 (CEST) Received: from mails.dpdk.org (localhost [127.0.0.1]) by mails.dpdk.org (Postfix) with ESMTP id 97BF1402A3; Tue, 7 Oct 2025 02:26:23 +0200 (CEST) Received: from mail-pf1-f226.google.com (mail-pf1-f226.google.com [209.85.210.226]) by mails.dpdk.org (Postfix) with ESMTP id 41E20402A3 for ; Tue, 7 Oct 2025 02:26:22 +0200 (CEST) Received: by mail-pf1-f226.google.com with SMTP id d2e1a72fcca58-781206cce18so4730750b3a.0 for ; Mon, 06 Oct 2025 17:26:22 -0700 (PDT) DKIM-Signature: v=1; a=rsa-sha256; c=relaxed/relaxed; d=iol.unh.edu; s=unh-iol; t=1759796781; x=1760401581; darn=dpdk.org; h=references:in-reply-to:cc:to:from:subject:message-id:date:from:to :cc:subject:date:message-id:reply-to; bh=ol9r59MVV+zBlT6rHn+wTOlrD4/IdMTwsh18FYcES0Q=; b=ZWdoqE21iY7uUQmQmRvhtbH1Xy2cPsDXfCKALtMayn+GquOBY9oQsBo0RJ8GOhFPds it/n8zTD31jrcrbjJzUszWBCe9FxbXZKZJg8ZtoRXhLU4MnjubOj6E9hN+Ok37xlTWDw YpLkCIbg25bo5qD61LZQYUJ20Zz/THOJSp8Rs= X-Google-DKIM-Signature: v=1; a=rsa-sha256; c=relaxed/relaxed; d=1e100.net; s=20230601; t=1759796781; x=1760401581; h=references:in-reply-to:cc:to:from:subject:message-id:date :x-gm-message-state:from:to:cc:subject:date:message-id:reply-to; bh=ol9r59MVV+zBlT6rHn+wTOlrD4/IdMTwsh18FYcES0Q=; b=BXf8UagcvuqWZeCs+Tc4uGPnQL9m/4zOXs56Cp2DVf5Us5ffQRXm6+CQlWrqgdA2mM Il31+58yNLTFVnXQF8/1SJvzAeMk1vNLViTjyeYOKd9pXBNwrxSnDJVzEnJi6DZZKf8/ lttOJ71v0Qlu3QXTM6QzcnBZ0pkCUGcfDvTXqk2oIn7aTAW0u86FOiMILfmGP5tupdXL xamoDpgEzK2+ly6cVn7Mc/yWdwItwW/IdrygiLHsr8pOLjfJWD8jfsGQg9Opqn055Gqd ARtgsjW2tzxwr9eR9XtZgsRN3hk9o/ezLVYivLum+IfThcTprmdO7CwyeY2WbotXq5zi S2eA== X-Gm-Message-State: AOJu0Yy5qIRhPm3sMR0jKOz1KknVR/AGZUCBUz4xB9ARB+vg7nlUTqK0 7wQheSfbXBwoQ5jbKABhYpVd9rC8XdLTKeG16eQ44o8W2ur4vT05XOWk5Jx7TzTU3WiqOKufEj0 Mt10rjmtbD8u9QLufWYvW9LH2/oUgLZhl6Ty98QKb/+AC X-Gm-Gg: ASbGncvReKkAsNa943W56XZK1LIrXMPRqH4UulEfmtMH7X0Xbrm67ev6XAYJi8KGkyf gI1AG+KHh5464eAyZFkPjDMKvbK7hFYCw4plOy1AAgef0sMkWFJa1b24d+kIXL2eMMpDfKK57ed KYomGaTZYmom9lI5R63lhyiI+dLAOWDrel82MXOn2hHk7Z4FCM7OaEO7jNTZ0I9ugZ3hgzMsjx3 ExGZUozkcyXntiBKwQey4DWs/LF9v5bUljvbi2Ex/MeENoftou0etICE8jH7ka9CcdVrId+pnJf 4mMi4dK+eVfkC4+8Pk+NBDXIDhxu2n+YrDlNu+N0Yp+yY11U1CXGi1kQVLkQfWMXsOv+W/JeboC rMw== X-Google-Smtp-Source: AGHT+IHnnY51zIFODig/w/MP89ltpakTPlgqkHKR9Wi3oLe3kIf3hz4iXwsXPzItSoM6gY8SCvzfO4+KG6Rd X-Received: by 2002:a05:6a20:a128:b0:2c9:ad57:8475 with SMTP id adf61e73a8af0-32d96d8d191mr1728365637.1.1759796781264; Mon, 06 Oct 2025 17:26:21 -0700 (PDT) Received: from postal.iol.unh.edu (postal.iol.unh.edu. [132.177.123.84]) by smtp-relay.gmail.com with ESMTPS id 41be03b00d2f7-b62f30231f6sm454843a12.15.2025.10.06.17.26.21 (version=TLS1_2 cipher=ECDHE-ECDSA-AES128-GCM-SHA256 bits=128/128); Mon, 06 Oct 2025 17:26:21 -0700 (PDT) X-Relaying-Domain: iol.unh.edu Date: Mon, 06 Oct 2025 17:26:21 -0700 (PDT) Message-ID: <68e45e2d.050a0220.10ba24.8ad2SMTPIN_ADDED_MISSING@mx.google.com> Received: from [172.21.0.2] (unknown [172.18.0.240]) by postal.iol.unh.edu (Postfix) with ESMTP id D04446051830; Mon, 6 Oct 2025 20:26:19 -0400 (EDT) Subject: |SUCCESS| pw157295 [PATCH] [v5] net/intel: add IDPF PCI class ID sup From: dpdklab@iol.unh.edu To: Test Report Cc: dpdk-test-reports@iol.unh.edu, Bruce Richardson In-Reply-To: <20251001153035.2613183-1-venkatesh.vemula@intel.com> References: <20251001153035.2613183-1-venkatesh.vemula@intel.com> Content-Type: text/plain X-BeenThere: test-report@dpdk.org X-Mailman-Version: 2.1.29 Precedence: list List-Id: automatic DPDK test reports List-Unsubscribe: , List-Archive: List-Post: List-Help: List-Subscribe: , Errors-To: test-report-bounces@dpdk.org Test-Label: iol-unit-arm64-testing Test-Status: SUCCESS http://dpdk.org/patch/157295 _Testing PASS_ Submitter: Vemula Venkatesh Date: Wednesday, October 01 2025 15:30:35 DPDK git baseline: Repo:dpdk-next-net-intel Branch: master CommitID:e7d8cc7ef4df3552575525697079d3c957cfcdaf 157295 --> testing pass Upstream job id: Generic-Unit-Test-DPDK#378820 Test environment and result as below: +------------------------------+----------------+---------------------------+--------------+------------------------------+ | Environment | dpdk_unit_test | cryptodev_sw_zuc_autotest | lpm_autotest | cryptodev_sw_snow3g_autotest | +==============================+================+===========================+==============+==============================+ | Fedora Linux 40 | PASS | SKIPPED | SKIPPED | SKIPPED | +------------------------------+----------------+---------------------------+--------------+------------------------------+ | Red Hat Enterprise Linux 9.5 | PASS | SKIPPED | SKIPPED | SKIPPED | +------------------------------+----------------+---------------------------+--------------+------------------------------+ | Fedora Linux 41 | PASS | SKIPPED | SKIPPED | SKIPPED | +------------------------------+----------------+---------------------------+--------------+------------------------------+ | CentOS Stream 9 | PASS | SKIPPED | SKIPPED | SKIPPED | +------------------------------+----------------+---------------------------+--------------+------------------------------+ | Ubuntu 22.04 | PASS | SKIPPED | SKIPPED | SKIPPED | +------------------------------+----------------+---------------------------+--------------+------------------------------+ | CentOS Stream 10 | PASS | SKIPPED | SKIPPED | SKIPPED | +------------------------------+----------------+---------------------------+--------------+------------------------------+ | Fedora Linux 42 | PASS | SKIPPED | SKIPPED | SKIPPED | +------------------------------+----------------+---------------------------+--------------+------------------------------+ | Debian GNU/Linux 12 | PASS | SKIPPED | SKIPPED | SKIPPED | +------------------------------+----------------+---------------------------+--------------+------------------------------+ | Ubuntu 20.04 | PASS | SKIPPED | PASS | SKIPPED | +------------------------------+----------------+---------------------------+--------------+------------------------------+ | Ubuntu 24.04 | PASS | SKIPPED | SKIPPED | SKIPPED | +------------------------------+----------------+---------------------------+--------------+------------------------------+ | Debian 12 (arm) | SKIPPED | PASS | SKIPPED | PASS | +------------------------------+----------------+---------------------------+--------------+------------------------------+ Fedora Linux 40 Kernel: 5.4 Compiler: clang gcc (GCC) 14.2.1 20240912 (Red Hat 14.2.1-3) Red Hat Enterprise Linux 9.5 Kernel: 5.4 Compiler: gcc gcc (GCC) 11.5.0 20240719 (Red Hat 11.5.0-2) Fedora Linux 41 Kernel: 5.4 Compiler: gcc gcc (GCC) 14.3.1 20250523 (Red Hat 14.3.1-1) CentOS Stream 9 Kernel: 5.4 Compiler: gcc gcc (GCC) 11.5.0 20240719 (Red Hat 11.5.0-11) Ubuntu 22.04 Kernel: 5.15 Compiler: gcc gcc (Ubuntu 11.4.0-1ubuntu1~22.04.2) 11.4.0 CentOS Stream 10 Kernel: 5.4 Compiler: gcc gcc (GCC) 14.2.1 20250110 (Red Hat 14.2.1-8) Fedora Linux 42 Kernel: 5.4 Compiler: clang gcc (GCC) 15.2.1 20250808 (Red Hat 15.2.1-1) Debian GNU/Linux 12 Kernel: 5.4 Compiler: gcc gcc (Debian 12.2.0-14+deb12u1) 12.2.0 Ubuntu 20.04 Kernel: 5.4 Compiler: gcc gcc (Ubuntu 9.4.0-1ubuntu1~20.04.2) 9.4.0 Ubuntu 24.04 Kernel: 5.4 Compiler: gcc gcc (Ubuntu 13.3.0-6ubuntu2~24.04) 13.3.0 Debian 12 (arm) Kernel: Depends on container host Compiler: gcc (Debian 12.2.0-14) 12.2.0 To view detailed results, visit: https://lab.dpdk.org/results/dashboard/patchsets/34220/ UNH-IOL DPDK Community Lab To manage your email subscriptions, visit: https://lab.dpdk.org/results/dashboard/preferences/subscriptions/