From mboxrd@z Thu Jan 1 00:00:00 1970 Return-Path: Received: from mails.dpdk.org (mails.dpdk.org [217.70.189.124]) by inbox.dpdk.org (Postfix) with ESMTP id 9C27848885 for ; Tue, 7 Oct 2025 03:40:05 +0200 (CEST) Received: from mails.dpdk.org (localhost [127.0.0.1]) by mails.dpdk.org (Postfix) with ESMTP id 77EA2402A3; Tue, 7 Oct 2025 03:40:05 +0200 (CEST) Received: from mail-qv1-f100.google.com (mail-qv1-f100.google.com [209.85.219.100]) by mails.dpdk.org (Postfix) with ESMTP id 1B253402A3 for ; Tue, 7 Oct 2025 03:40:04 +0200 (CEST) Received: by mail-qv1-f100.google.com with SMTP id 6a1803df08f44-796d68804a0so69285526d6.3 for ; Mon, 06 Oct 2025 18:40:04 -0700 (PDT) DKIM-Signature: v=1; a=rsa-sha256; c=relaxed/relaxed; d=iol.unh.edu; s=unh-iol; t=1759801203; x=1760406003; darn=dpdk.org; h=cc:to:from:subject:message-id:date:from:to:cc:subject:date :message-id:reply-to; bh=0SSIGzDgfwGxg5qUxmnHI4C2qm6kvSR5+pMMmSmPwtw=; b=KZUMfn+K3EN1fGk2Tq5qRFfuYl60eWmM1wKA1Uy2q8ekXh0zHta845R3xXfEapJolL vm2ugQY0DIg+0Mg1a7sV6GlIBUrUdBnfJ+paxXkU9HGh+M3KYLoAe5J8BMMim1At5wTe ZTJTrOR+J3RpF+z/2H2s8/WL5mSZesLWt8hrA= X-Google-DKIM-Signature: v=1; a=rsa-sha256; c=relaxed/relaxed; d=1e100.net; s=20230601; t=1759801203; x=1760406003; h=cc:to:from:subject:message-id:date:x-gm-message-state:from:to:cc :subject:date:message-id:reply-to; bh=0SSIGzDgfwGxg5qUxmnHI4C2qm6kvSR5+pMMmSmPwtw=; b=AI1QHql4E9ifObxshn7mxQ8ugPa5CbRcy1kIMiZZvLRzSIfabDwZCEvm3FKYlCexui JSeaYnTCbr+uaMiPi1Y27kzSVD9uzeYWVqT8YyI+tKv54l8rAG80yYRd7rdvPAKpDf4O MA5a/1B5Z/Zdh4CoKJvuIdEW7joHpPablZCn2O0zbIrRdP6m8BotkthTNlr82tXmU7X6 0OLqv5jyAMEpA0Irg+0Wg8JyiZZK3pA7/H5MAJlPdDNDsBXf1RbSB6yuigxaep1rJ8bp 2w4JOyWG1M3TKwcr1bw5h19FOzCtviRDJeLVapfU2/tjM6v/dBFV0x0haGJdETbgMDUL SzCQ== X-Gm-Message-State: AOJu0Yw3o/StCuEsREgTekAAGWvdJlg+3nirMLvC6VPosf/gflmVBZVH 4VtVzgp6ZExAVkTJ+1b1Jy+e+MWcg4X+SdwG5WSPv+d4fKHsjh2jyYJAem4v54qfiRN78Qy3Lve Zn+W5d08PYEQroOsjda3XPJbkNmQq4+qKkxqK X-Gm-Gg: ASbGnctzaj3yxedOsw4EBhglUaY1nQ9SOFXT3zD4Ev6jhBUXTktflekrCE3dAsTN80i DiDnmUKC6ux20C4l7MYD/J5OSAhNRbJSnjxN5ND1waa1X8qJvWDiCE+li7Le2g7tAHB/Ob/Zngi +YJ+AZKfIAFLHWuEBiik/KbuUTm1lW2FC575JUXy83XGKuiTls0p9xF/OsKPBwMJHlk8la8WD++ 5qUbopI/WmsxV5GlUyyJPsA/5RVlTCIN87u6p5oUpR+nVwqk5YgZUmnski+fW/fwRqQE16HT7dM KjcTcApudeuoGxSjpfBmfd60ulxc/KH6NixoP2j6q7ntUrEVNtqTyMaCcQ54AcNyAx+HffbytCE dQg== X-Google-Smtp-Source: AGHT+IE7lFydfakD2Mg+6Dm+yZxAtW6DvOCJv6ijWUAqStI53XHzTJhd3R2IOMImi/hut/1BXDchWUqMFQGf X-Received: by 2002:a05:6214:412:b0:73f:a7c8:980b with SMTP id 6a1803df08f44-879dc7771c6mr199799896d6.4.1759801203323; Mon, 06 Oct 2025 18:40:03 -0700 (PDT) Received: from postal.iol.unh.edu (postal.iol.unh.edu. [132.177.123.84]) by smtp-relay.gmail.com with ESMTPS id 6a1803df08f44-878b5adfee6sm12521526d6.0.2025.10.06.18.40.03 (version=TLS1_2 cipher=ECDHE-ECDSA-AES128-GCM-SHA256 bits=128/128); Mon, 06 Oct 2025 18:40:03 -0700 (PDT) X-Relaying-Domain: iol.unh.edu Date: Mon, 06 Oct 2025 18:40:03 -0700 (PDT) Message-ID: <68e46f73.050a0220.3b0b95.a27aSMTPIN_ADDED_MISSING@mx.google.com> Received: from [172.21.0.2] (unknown [172.18.0.240]) by postal.iol.unh.edu (Postfix) with ESMTP id 077AC6051830; Mon, 6 Oct 2025 21:40:03 -0400 (EDT) Subject: |SUCCESS| [GIT MASTER] b287e404643aeab5bb5db084c142789df187844e From: dpdklab@iol.unh.edu To: Test Report Cc: dpdk-test-reports@iol.unh.edu, Xueming Li , Christian Ehrhardt , Kevin Traynor , Luca Boccassi Content-Type: text/plain X-BeenThere: test-report@dpdk.org X-Mailman-Version: 2.1.29 Precedence: list List-Id: automatic DPDK test reports List-Unsubscribe: , List-Archive: List-Post: List-Help: List-Subscribe: , Errors-To: test-report-bounces@dpdk.org _Testing PASS_ Branch: tags/v24.11 b287e404643aeab5bb5db084c142789df187844e --> testing pass Upstream job id: Generic-DPDK-Compile-Meson#431617 Test environment and result as below: +---------------------+--------------------+-------------------+-------------------------+----------------------+-------------------+ | Environment | dpdk_meson_compile | dpdk_msvc_compile | dpdk_llvm_clang_compile | dpdk_mingw64_compile | dpdk_compile_spdk | +=====================+====================+===================+=========================+======================+===================+ | Ubuntu 20.04 | PASS | SKIPPED | SKIPPED | SKIPPED | SKIPPED | +---------------------+--------------------+-------------------+-------------------------+----------------------+-------------------+ | FreeBSD 14.2 | PASS | SKIPPED | SKIPPED | SKIPPED | SKIPPED | +---------------------+--------------------+-------------------+-------------------------+----------------------+-------------------+ | Ubuntu 22.04 | PASS | SKIPPED | SKIPPED | SKIPPED | PASS | +---------------------+--------------------+-------------------+-------------------------+----------------------+-------------------+ | CentOS Stream 9 | PASS | SKIPPED | SKIPPED | SKIPPED | PASS | +---------------------+--------------------+-------------------+-------------------------+----------------------+-------------------+ | Windows Server 2022 | SKIPPED | PASS | PASS | PASS | SKIPPED | +---------------------+--------------------+-------------------+-------------------------+----------------------+-------------------+ Ubuntu 20.04 Kernel: 4.19 Compiler: gcc gcc (Ubuntu 9.4.0-1ubuntu1~20.04.2) 9.4.0 FreeBSD 14.2 Kernel: 14.2-RELEASE Compiler: clang 18.1.6 Ubuntu 22.04 Kernel: 5.15 Compiler: gcc gcc (Ubuntu 11.4.0-1ubuntu1~22.04) 11.4.0 CentOS Stream 9 Kernel: 5.15 Compiler: gcc gcc (GCC) 11.5.0 20240719 (Red Hat 11.5.0-11) Windows Server 2022 Kernel: 10.0.20348.2031 Compiler: clang 15.0.7, gcc 14.1.0 (MinGW), and MSVC VS 19.39.33521 To view detailed results, visit: https://lab.dpdk.org/results/dashboard/tarballs/35107/ UNH-IOL DPDK Community Lab To manage your email subscriptions, visit: https://lab.dpdk.org/results/dashboard/preferences/subscriptions/