From mboxrd@z Thu Jan 1 00:00:00 1970 Return-Path: Received: from mails.dpdk.org (mails.dpdk.org [217.70.189.124]) by inbox.dpdk.org (Postfix) with ESMTP id A328048885 for ; Tue, 7 Oct 2025 03:50:02 +0200 (CEST) Received: from mails.dpdk.org (localhost [127.0.0.1]) by mails.dpdk.org (Postfix) with ESMTP id 872F2402A3; Tue, 7 Oct 2025 03:50:02 +0200 (CEST) Received: from mail-il1-f228.google.com (mail-il1-f228.google.com [209.85.166.228]) by mails.dpdk.org (Postfix) with ESMTP id 09F73402A3 for ; Tue, 7 Oct 2025 03:50:01 +0200 (CEST) Received: by mail-il1-f228.google.com with SMTP id e9e14a558f8ab-42f05cbc3d1so18112455ab.0 for ; Mon, 06 Oct 2025 18:50:00 -0700 (PDT) DKIM-Signature: v=1; a=rsa-sha256; c=relaxed/relaxed; d=iol.unh.edu; s=unh-iol; t=1759801800; x=1760406600; darn=dpdk.org; h=cc:to:from:subject:message-id:date:from:to:cc:subject:date :message-id:reply-to; bh=J+6RcIA6koBKW2RrqsgzZNyM4F7sBSQFJMWE+1d6BNE=; b=IjjxvP9Dkqi4FZSqQYpKCRHnSnpOjikYTJRnYV60CXnZHgPEYJEuUKVoRT8MshpHkD aICIGy8SmVVjQjGPq7Y0wul7O3ZNbJpcqKFf3vndGyt9/o4IDpeavz1wk9pa8bG0z4Ir dV3JAwFIOpGns9blW+r8CB4cOxp78ZYsTS9FM= X-Google-DKIM-Signature: v=1; a=rsa-sha256; c=relaxed/relaxed; d=1e100.net; s=20230601; t=1759801800; x=1760406600; h=cc:to:from:subject:message-id:date:x-gm-message-state:from:to:cc :subject:date:message-id:reply-to; bh=J+6RcIA6koBKW2RrqsgzZNyM4F7sBSQFJMWE+1d6BNE=; b=L2fJYmSLPuiCuc2WSoJMZc6KRbkODtLjAildq/nn4G/sDh867ek8Tbl4PRb9k3dhBR 9uUboiuHW83sgrP3malG9tQ2dISHu1dv5ik64+Ti3aXa43FSrq2w6vLdMzWuIg/1zf2T LmhaVKhqtxu2UPFp/Q/JjvzDhtG/iosdQZj3QPW5jfrur++7XZhnkuVGdqdwkv2s/FV9 +aMjqeNbUWrzpcNXbsEP00aT5y+YzS5VPBIZ/K335dkTX+3Dwq6+PfMI3b9MKriGuunA OefrK/pDBpdY9hgzgkFgdj7kiQ4TvZgXN8Y+VWTjkxMcG+BEmTPGUxfWM8xIy0V0DLjB bmiQ== X-Gm-Message-State: AOJu0YzWRUlWt2IaxqVRC4dLpJXH0MVTJwDnsDlEPzMMxAZy9PDogtIA rYO78BOHdfMxzmifYSEgc+RqdQ1R9jiqAQoikyDEZuApiqaHO5i2/QMDHSo0+TdSYaYiT7Oikbm +CbRGzsNkekmJAVYpZ6FdaRJo3mQqJfVvuVrrCJgdY9NgHGgKwBuA X-Gm-Gg: ASbGncvobfo3SXzmMmWVhdnhIoxKZZWdXWdHUcuCVO4H/BczLmc5gAMlFmeFhKEc9GF aWCTr/EO96a5bDy1dfjRkh6uybFyIWpaJ9KiwSmsdORLYesW7v4oxQPzsXzoPgAIpPT0rqERCRx 5/bMiblVnzHI3Ns0E2A/XRvPlC3Mjpf2nRNx82UkeitimMN/qZlInsCyk0QR/fokD5mUbCDGQ7A /psdqwBqPAAqHmbcO0UM2ygaVQEDUWhvKbNhwJUEaYndwpnXtcEIpUjSeprGguH3aFJdHjD2iYt 5agwP7s9AcquFOZ+j2sOoNLECd0bqjpsOyEnz9qfBNd3RkZ7lPm9vkg= X-Google-Smtp-Source: AGHT+IHF5TwQPrrwQ+pNhjBj7Rps18dnJ1rYOrlUUR7LN9nv6dMS3FzvbfDgMPH0LHVrL/A2FX6Rchm37qsv X-Received: by 2002:a05:6e02:228e:b0:423:f113:749d with SMTP id e9e14a558f8ab-42f7c374337mr20514625ab.4.1759801800155; Mon, 06 Oct 2025 18:50:00 -0700 (PDT) Received: from postal.iol.unh.edu (postal.iol.unh.edu. [2606:4100:3880:1234::84]) by smtp-relay.gmail.com with ESMTPS id e9e14a558f8ab-42f63b32b46sm6818625ab.20.2025.10.06.18.50.00 (version=TLS1_2 cipher=ECDHE-ECDSA-AES128-GCM-SHA256 bits=128/128); Mon, 06 Oct 2025 18:50:00 -0700 (PDT) X-Relaying-Domain: iol.unh.edu Date: Mon, 06 Oct 2025 18:50:00 -0700 (PDT) Message-ID: <68e471c8.050a0220.19b59.9575SMTPIN_ADDED_MISSING@mx.google.com> Received: from [172.21.0.2] (unknown [172.18.0.240]) by postal.iol.unh.edu (Postfix) with ESMTP id BFFBB6051830; Mon, 6 Oct 2025 21:49:59 -0400 (EDT) Subject: |SUCCESS| [GIT MASTER] b287e404643aeab5bb5db084c142789df187844e From: dpdklab@iol.unh.edu To: Test Report Cc: dpdk-test-reports@iol.unh.edu, Xueming Li , Christian Ehrhardt , Kevin Traynor , Luca Boccassi Content-Type: text/plain X-BeenThere: test-report@dpdk.org X-Mailman-Version: 2.1.29 Precedence: list List-Id: automatic DPDK test reports List-Unsubscribe: , List-Archive: List-Post: List-Help: List-Subscribe: , Errors-To: test-report-bounces@dpdk.org _Testing PASS_ Branch: tags/v24.11 b287e404643aeab5bb5db084c142789df187844e --> testing pass Upstream job id: Generic-DPDK-Compile-Meson#431619 Test environment and result as below: +---------------------+--------------------+-------------------+-------------------------+----------------------+-------------------+ | Environment | dpdk_meson_compile | dpdk_msvc_compile | dpdk_llvm_clang_compile | dpdk_mingw64_compile | dpdk_compile_spdk | +=====================+====================+===================+=========================+======================+===================+ | Ubuntu 20.04 | PASS | SKIPPED | SKIPPED | SKIPPED | SKIPPED | +---------------------+--------------------+-------------------+-------------------------+----------------------+-------------------+ | FreeBSD 14.2 | PASS | SKIPPED | SKIPPED | SKIPPED | SKIPPED | +---------------------+--------------------+-------------------+-------------------------+----------------------+-------------------+ | Ubuntu 22.04 | PASS | SKIPPED | SKIPPED | SKIPPED | PASS | +---------------------+--------------------+-------------------+-------------------------+----------------------+-------------------+ | CentOS Stream 9 | PASS | SKIPPED | SKIPPED | SKIPPED | PASS | +---------------------+--------------------+-------------------+-------------------------+----------------------+-------------------+ | CentOS Stream 10 | PASS | SKIPPED | SKIPPED | SKIPPED | SKIPPED | +---------------------+--------------------+-------------------+-------------------------+----------------------+-------------------+ | Windows Server 2022 | SKIPPED | PASS | PASS | PASS | SKIPPED | +---------------------+--------------------+-------------------+-------------------------+----------------------+-------------------+ Ubuntu 20.04 Kernel: 4.19 Compiler: gcc gcc (Ubuntu 9.4.0-1ubuntu1~20.04.2) 9.4.0 FreeBSD 14.2 Kernel: 14.2-RELEASE Compiler: clang 18.1.6 Ubuntu 22.04 Kernel: 5.15 Compiler: gcc gcc (Ubuntu 11.4.0-1ubuntu1~22.04) 11.4.0 CentOS Stream 9 Kernel: 5.15 Compiler: gcc gcc (GCC) 11.5.0 20240719 (Red Hat 11.5.0-11) CentOS Stream 10 Kernel: 5.15 Compiler: gcc gcc (GCC) 14.2.1 20250110 (Red Hat 14.2.1-8) Windows Server 2022 Kernel: 10.0.20348.2031 Compiler: clang 15.0.7, gcc 14.1.0 (MinGW), and MSVC VS 19.39.33521 To view detailed results, visit: https://lab.dpdk.org/results/dashboard/tarballs/35107/ UNH-IOL DPDK Community Lab To manage your email subscriptions, visit: https://lab.dpdk.org/results/dashboard/preferences/subscriptions/