From mboxrd@z Thu Jan 1 00:00:00 1970 Return-Path: Received: from mails.dpdk.org (mails.dpdk.org [217.70.189.124]) by inbox.dpdk.org (Postfix) with ESMTP id 5293C488CB for ; Tue, 7 Oct 2025 04:40:51 +0200 (CEST) Received: from mails.dpdk.org (localhost [127.0.0.1]) by mails.dpdk.org (Postfix) with ESMTP id 3542A4027F; Tue, 7 Oct 2025 04:40:51 +0200 (CEST) Received: from mail-oa1-f98.google.com (mail-oa1-f98.google.com [209.85.160.98]) by mails.dpdk.org (Postfix) with ESMTP id A77684027F for ; Tue, 7 Oct 2025 04:40:50 +0200 (CEST) Received: by mail-oa1-f98.google.com with SMTP id 586e51a60fabf-30cce534a91so1896349fac.0 for ; Mon, 06 Oct 2025 19:40:50 -0700 (PDT) DKIM-Signature: v=1; a=rsa-sha256; c=relaxed/relaxed; d=iol.unh.edu; s=unh-iol; t=1759804850; x=1760409650; darn=dpdk.org; h=cc:to:from:subject:message-id:date:from:to:cc:subject:date :message-id:reply-to; bh=9awtdK8Rv96TviQYix6g1jLCbNpQo75850h0qMhOJek=; b=ET7o3qPR42x4Ol36Isv3kF2qGkKU2J4F3+RXRlxAiblpEvakyY7NlnuVW8LpaQZWt3 Q3Ff9BXxiOJBCqYXBYc0qE/0AZkxzV3d/ObwJmx+7tUC8S54NjbJr/IMWxT3QqCDYfm9 p5VnxoAMn/dMvE1DdeKVsNbhjspVMq9ABWDwg= X-Google-DKIM-Signature: v=1; a=rsa-sha256; c=relaxed/relaxed; d=1e100.net; s=20230601; t=1759804850; x=1760409650; h=cc:to:from:subject:message-id:date:x-gm-message-state:from:to:cc :subject:date:message-id:reply-to; bh=9awtdK8Rv96TviQYix6g1jLCbNpQo75850h0qMhOJek=; b=u283Nt4lmr9F8Qg1/uFb5Aw/f2IJR5gFhFyruWzwsuy5Vv4GSCRdN2z4CBrb+Xn4Ze iKOgAy7GcZYBBjDQi3LtO6byFRjAg5PsmuEM7V5EP7eeBdrSsMk4qcoBQPK4dPTPMu0t 6y6SEr1NSfS9YEXVV7n5/LCV1RGSwo3k7um/ejBBN+/rYfcpYt6Vath1Sr1TVz3ws2PS bo7vCrltmFX0c7Ehty0wPWu86WbeW1CPlzhG/fHARbRbMJN9kHUtNcqHglAyTtOrQq6V KLg+/3n+Rs5JGlWacvhsvS2OGhysB4qnCpQMN8WKI1RA7SDL1dCqT9kJS77DqFHtjx8u DMLg== X-Gm-Message-State: AOJu0YzlvhN2WZwnYHDFt/iK3OIWm77NlPpQCC26doYZeT8pq8imPZFu 87z2vxrenboy4UbBTjz2LHbjN7fkDbd3ZChR/eWPVPKi4z65bDwS6q5OCqRgbnI+g6XYZuInzKO fPHSViGcapWxCC0ndLA7AglO81Xq1td25jhu3cAezgzaG9V2zGeqe X-Gm-Gg: ASbGncul6AeC5Qn9K9peEqVA9sIG0ht8CnNm1jnT1TJfzBll+89xiwcVSBiw/R/b2Lj /y0ytfRR8LTqu23nGRaQhw2pHbMtuZoJMZ3NoRKIaTKTunCCvLj9JZtqOFzzSgv2xJRuOFXkXEY RnXizgYqJqfxcfUgzetMLtrEDsvf3SMrpuHIuwmGe+jvssW6GsyJox5xG6FKQF81Cyx0zgAHtpJ UxKrdodT7xtZq/OPl8ptD50Gko93pD/VKy6nn+xXKs3ZEi4IsK6+CUjGtrQ1MawrK1xQ9NJ4umH uiR1J3OUi4nB1OpzLjvzRiWc4CTGUMQqXHWsDUmXLu+MpHk7fYiLgzQ= X-Google-Smtp-Source: AGHT+IEmlfwuH+5RyvPeQqEyCM6dI1BpAVTlPWo97MgCZj86l+nUpDoK5m3yqGkZORTTUJ/vitLk6/O5EGFJ X-Received: by 2002:a05:6870:a11e:b0:372:abfa:f274 with SMTP id 586e51a60fabf-3b104759d60mr7987844fac.44.1759804849773; Mon, 06 Oct 2025 19:40:49 -0700 (PDT) Received: from postal.iol.unh.edu (postal.iol.unh.edu. [2606:4100:3880:1234::84]) by smtp-relay.gmail.com with ESMTPS id 586e51a60fabf-3b1d1000eaasm959005fac.14.2025.10.06.19.40.49 (version=TLS1_2 cipher=ECDHE-ECDSA-AES128-GCM-SHA256 bits=128/128); Mon, 06 Oct 2025 19:40:49 -0700 (PDT) X-Relaying-Domain: iol.unh.edu Date: Mon, 06 Oct 2025 19:40:49 -0700 (PDT) Message-ID: <68e47db1.050a0220.251a54.2a76SMTPIN_ADDED_MISSING@mx.google.com> Received: from [172.21.0.2] (unknown [172.18.0.240]) by postal.iol.unh.edu (Postfix) with ESMTP id E34746051830; Mon, 6 Oct 2025 22:40:48 -0400 (EDT) Subject: |SUCCESS| [GIT MASTER] b287e404643aeab5bb5db084c142789df187844e From: dpdklab@iol.unh.edu To: Test Report Cc: dpdk-test-reports@iol.unh.edu, Xueming Li , Christian Ehrhardt , Kevin Traynor , Luca Boccassi Content-Type: text/plain X-BeenThere: test-report@dpdk.org X-Mailman-Version: 2.1.29 Precedence: list List-Id: automatic DPDK test reports List-Unsubscribe: , List-Archive: List-Post: List-Help: List-Subscribe: , Errors-To: test-report-bounces@dpdk.org _Testing PASS_ Branch: tags/v24.11 b287e404643aeab5bb5db084c142789df187844e --> testing pass Upstream job id: Generic-DPDK-Compile-Meson#431621 Test environment and result as below: +---------------------+--------------------+-------------------+-------------------------+----------------------+-------------------+------------------+ | Environment | dpdk_meson_compile | dpdk_msvc_compile | dpdk_llvm_clang_compile | dpdk_mingw64_compile | dpdk_compile_spdk | dpdk_compile_ovs | +=====================+====================+===================+=========================+======================+===================+==================+ | Ubuntu 20.04 | PASS | SKIPPED | SKIPPED | SKIPPED | SKIPPED | SKIPPED | +---------------------+--------------------+-------------------+-------------------------+----------------------+-------------------+------------------+ | FreeBSD 14.2 | PASS | SKIPPED | SKIPPED | SKIPPED | SKIPPED | SKIPPED | +---------------------+--------------------+-------------------+-------------------------+----------------------+-------------------+------------------+ | Ubuntu 22.04 | PASS | SKIPPED | SKIPPED | SKIPPED | PASS | SKIPPED | +---------------------+--------------------+-------------------+-------------------------+----------------------+-------------------+------------------+ | CentOS Stream 9 | PASS | SKIPPED | SKIPPED | SKIPPED | PASS | SKIPPED | +---------------------+--------------------+-------------------+-------------------------+----------------------+-------------------+------------------+ | CentOS Stream 10 | PASS | SKIPPED | SKIPPED | SKIPPED | SKIPPED | SKIPPED | +---------------------+--------------------+-------------------+-------------------------+----------------------+-------------------+------------------+ | Debian GNU/Linux 12 | PASS | SKIPPED | SKIPPED | SKIPPED | PASS | SKIPPED | +---------------------+--------------------+-------------------+-------------------------+----------------------+-------------------+------------------+ | Fedora Linux 42 | PASS | SKIPPED | SKIPPED | SKIPPED | PASS | PASS | +---------------------+--------------------+-------------------+-------------------------+----------------------+-------------------+------------------+ | Windows Server 2022 | SKIPPED | PASS | PASS | PASS | SKIPPED | SKIPPED | +---------------------+--------------------+-------------------+-------------------------+----------------------+-------------------+------------------+ Ubuntu 20.04 Kernel: 4.19 Compiler: gcc gcc (Ubuntu 9.4.0-1ubuntu1~20.04.2) 9.4.0 FreeBSD 14.2 Kernel: 14.2-RELEASE Compiler: clang 18.1.6 Ubuntu 22.04 Kernel: 5.15 Compiler: gcc gcc (Ubuntu 11.4.0-1ubuntu1~22.04) 11.4.0 CentOS Stream 9 Kernel: 5.15 Compiler: gcc gcc (GCC) 11.5.0 20240719 (Red Hat 11.5.0-11) CentOS Stream 10 Kernel: 5.15 Compiler: gcc gcc (GCC) 14.2.1 20250110 (Red Hat 14.2.1-8) Debian GNU/Linux 12 Kernel: 5.15 Compiler: gcc gcc (Debian 12.2.0-14+deb12u1) 12.2.0 Fedora Linux 42 Kernel: 5.15 Compiler: clang gcc (GCC) 15.2.1 20250808 (Red Hat 15.2.1-1) Windows Server 2022 Kernel: 10.0.20348.2031 Compiler: clang 15.0.7, gcc 14.1.0 (MinGW), and MSVC VS 19.39.33521 To view detailed results, visit: https://lab.dpdk.org/results/dashboard/tarballs/35107/ UNH-IOL DPDK Community Lab To manage your email subscriptions, visit: https://lab.dpdk.org/results/dashboard/preferences/subscriptions/