From mboxrd@z Thu Jan 1 00:00:00 1970 Return-Path: Received: from mails.dpdk.org (mails.dpdk.org [217.70.189.124]) by inbox.dpdk.org (Postfix) with ESMTP id 34BFA488CB for ; Tue, 7 Oct 2025 05:23:58 +0200 (CEST) Received: from mails.dpdk.org (localhost [127.0.0.1]) by mails.dpdk.org (Postfix) with ESMTP id 091E24027F; Tue, 7 Oct 2025 05:23:58 +0200 (CEST) Received: from mail-pl1-f226.google.com (mail-pl1-f226.google.com [209.85.214.226]) by mails.dpdk.org (Postfix) with ESMTP id 45B764027F for ; Tue, 7 Oct 2025 05:23:57 +0200 (CEST) Received: by mail-pl1-f226.google.com with SMTP id d9443c01a7336-27edcbcd158so74173845ad.3 for ; Mon, 06 Oct 2025 20:23:57 -0700 (PDT) DKIM-Signature: v=1; a=rsa-sha256; c=relaxed/relaxed; d=iol.unh.edu; s=unh-iol; t=1759807436; x=1760412236; darn=dpdk.org; h=references:in-reply-to:cc:to:from:subject:message-id:date:from:to :cc:subject:date:message-id:reply-to; bh=O0Q8yK2UPBBxVWxG3V9mOHbRUvaFHiIhaWXFVJz/Dnc=; b=jwCWXYkIa23ATN32e+BgbEULrtm05cnvzMiVYBo3vWA+xqFRMziyfHrMOm9YmWc2t+ P44hhhHTONBR4+TB+W9zgH3Zy/ymWpMmXQuG66iQ7AyH8jTZVezvuVbiaA+KpbTskucL Ro6eB5LG4AhOyN0JdpqTWUzB0+ai49vffcs2w= X-Google-DKIM-Signature: v=1; a=rsa-sha256; c=relaxed/relaxed; d=1e100.net; s=20230601; t=1759807436; x=1760412236; h=references:in-reply-to:cc:to:from:subject:message-id:date :x-gm-message-state:from:to:cc:subject:date:message-id:reply-to; bh=O0Q8yK2UPBBxVWxG3V9mOHbRUvaFHiIhaWXFVJz/Dnc=; b=uVqp6KmZNtr+TAnU97AMsvyiiS/2U/24AQCGrJQ/deuD007Zeaxg0XURwthgnE0eXP zxz7C5zQlhzKGyBSL27FjHb/L+GxLfA0ZXR6z4vHcLwCJT326tmLCPVVCEzsAWWVDAxx hUN5RBEd7lMSkBfyIS2vJ6TYvDaF2XfNV2m7RvCP+ivnNn7cRxfSwA5h/r/tU9gHyog5 Pos3Knx1dzSFRoE69aebaURsIAjML+Y7EyH4MUk6lF2qxwnXBWoUP34Uatxz4HAbUTzp vztxI2hQUaRfZ39bpRu4jUZ4X+VHa66QOxSH/ksdv3ZjTkp4vPrFF+Q5eMiNuy6sRdbd QAWA== X-Gm-Message-State: AOJu0YzV8Vag8C12o0mX9sJXRhYL9uimZ9t7dVGGVNjWYM5C+asT6z+d 3LBxsKHlAwMfZQGNG1adBzAMA5hHmDO0EMDwsN+P3RI5WUHdyZ0ZGrPJfddd9O6cq6cONQTQr8C c5iFqsHZlzAB/BaiAs/lrykl4DvRT7g/7RIgtq5l2ZKft X-Gm-Gg: ASbGncuPc0B5G0FL+oCBwHEqHxw91F2iVfc9YGc+2i4HkDaGk3aC6r3yOsQXrDwD2zl gOZa96f2CeJQ+z4rzeFwzNNtvBATW3+8l6iZbyoHqJfg9jVBmTx2eJ24TNEBw29tNMd0L/ke30u EQ1KhU4HhVp0MMCs9V+zavNeSdALSorrT5EyipZCPe1fuxlNkbhN0ou9DKOr8+HrMzBuZPDOxge iHoOc0SkqCy6VxVCwMwjuwZFK+/PTyyOiG3urQJQ5fskU2gN0IiIIwKaPIcimtUZfwDFIOOzknM 2SzfG2Mk11uVd1g0lpgY8uvz03Ub/flfz/xdJZj9sIrJQdAGTnWk4O32rxf75zu+XJDmiueRghZ dSA== X-Google-Smtp-Source: AGHT+IE+HEmi3WCEEhYZhSI7yrtyi6bdBRirnOHP9gOQtDG8aPLGuWOYKCeywTbohRYVm+SGJBomplM/JSlc X-Received: by 2002:a17:903:124a:b0:246:80b1:8c87 with SMTP id d9443c01a7336-28e9a61b73cmr171289705ad.43.1759807436297; Mon, 06 Oct 2025 20:23:56 -0700 (PDT) Received: from postal.iol.unh.edu (postal.iol.unh.edu. [132.177.123.84]) by smtp-relay.gmail.com with ESMTPS id d9443c01a7336-28e8d119f53sm12173365ad.25.2025.10.06.20.23.56 (version=TLS1_2 cipher=ECDHE-ECDSA-AES128-GCM-SHA256 bits=128/128); Mon, 06 Oct 2025 20:23:56 -0700 (PDT) X-Relaying-Domain: iol.unh.edu Date: Mon, 06 Oct 2025 20:23:56 -0700 (PDT) Message-ID: <68e487cc.170a0220.262bd3.3840SMTPIN_ADDED_MISSING@mx.google.com> Received: from [172.21.0.3] (unknown [172.18.0.240]) by postal.iol.unh.edu (Postfix) with ESMTP id 79A6560003E8; Mon, 6 Oct 2025 23:23:55 -0400 (EDT) Subject: |SUCCESS| pw157296 [PATCH] examples/l3fwd-power: fix telemetry comma From: dpdklab@iol.unh.edu To: Test Report Cc: dpdk-test-reports@iol.unh.edu In-Reply-To: <20251006101058.191495-1-sivaprasad.tummala@amd.com> References: <20251006101058.191495-1-sivaprasad.tummala@amd.com> Content-Type: text/plain X-BeenThere: test-report@dpdk.org X-Mailman-Version: 2.1.29 Precedence: list List-Id: automatic DPDK test reports List-Unsubscribe: , List-Archive: List-Post: List-Help: List-Subscribe: , Errors-To: test-report-bounces@dpdk.org Test-Label: iol-unit-arm64-testing Test-Status: SUCCESS http://dpdk.org/patch/157296 _Testing PASS_ Submitter: Sivaprasad Tummala Date: Monday, October 06 2025 10:10:58 DPDK git baseline: Repo:dpdk Branch: master CommitID:2b403dd8fb37d0ba13723e44ffc7ee2c2795f838 157296 --> testing pass Upstream job id: Generic-Unit-Test-DPDK#378844 Test environment and result as below: +------------------------------+---------------------------+------------------------------+--------------+----------------+ | Environment | cryptodev_sw_zuc_autotest | cryptodev_sw_snow3g_autotest | lpm_autotest | dpdk_unit_test | +==============================+===========================+==============================+==============+================+ | Debian 12 (arm) | PASS | PASS | SKIPPED | SKIPPED | +------------------------------+---------------------------+------------------------------+--------------+----------------+ | Ubuntu 20.04 | SKIPPED | SKIPPED | PASS | PASS | +------------------------------+---------------------------+------------------------------+--------------+----------------+ | CentOS Stream 9 | SKIPPED | SKIPPED | SKIPPED | PASS | +------------------------------+---------------------------+------------------------------+--------------+----------------+ | CentOS Stream 10 | SKIPPED | SKIPPED | SKIPPED | PASS | +------------------------------+---------------------------+------------------------------+--------------+----------------+ | Debian GNU/Linux 12 | SKIPPED | SKIPPED | SKIPPED | PASS | +------------------------------+---------------------------+------------------------------+--------------+----------------+ | Fedora Linux 40 | SKIPPED | SKIPPED | SKIPPED | PASS | +------------------------------+---------------------------+------------------------------+--------------+----------------+ | Fedora Linux 42 | SKIPPED | SKIPPED | SKIPPED | PASS | +------------------------------+---------------------------+------------------------------+--------------+----------------+ | Fedora Linux 41 | SKIPPED | SKIPPED | SKIPPED | PASS | +------------------------------+---------------------------+------------------------------+--------------+----------------+ | Red Hat Enterprise Linux 9.5 | SKIPPED | SKIPPED | SKIPPED | PASS | +------------------------------+---------------------------+------------------------------+--------------+----------------+ | Ubuntu 22.04 | SKIPPED | SKIPPED | SKIPPED | PASS | +------------------------------+---------------------------+------------------------------+--------------+----------------+ | Ubuntu 24.04 | SKIPPED | SKIPPED | SKIPPED | PASS | +------------------------------+---------------------------+------------------------------+--------------+----------------+ Debian 12 (arm) Kernel: Depends on container host Compiler: gcc (Debian 12.2.0-14) 12.2.0 Ubuntu 20.04 Kernel: 5.4 Compiler: gcc gcc (Ubuntu 9.4.0-1ubuntu1~20.04.2) 9.4.0 CentOS Stream 9 Kernel: 5.4 Compiler: gcc gcc (GCC) 11.5.0 20240719 (Red Hat 11.5.0-11) CentOS Stream 10 Kernel: 5.4 Compiler: gcc gcc (GCC) 14.2.1 20250110 (Red Hat 14.2.1-8) Debian GNU/Linux 12 Kernel: 5.4 Compiler: gcc gcc (Debian 12.2.0-14+deb12u1) 12.2.0 Fedora Linux 40 Kernel: 5.4 Compiler: gcc gcc (GCC) 14.2.1 20240912 (Red Hat 14.2.1-3) Fedora Linux 42 Kernel: 5.4 Compiler: clang gcc (GCC) 15.2.1 20250808 (Red Hat 15.2.1-1) Fedora Linux 41 Kernel: 5.4 Compiler: clang gcc (GCC) 14.3.1 20250523 (Red Hat 14.3.1-1) Red Hat Enterprise Linux 9.5 Kernel: 5.4 Compiler: gcc gcc (GCC) 11.5.0 20240719 (Red Hat 11.5.0-2) Ubuntu 22.04 Kernel: 5.4 Compiler: gcc gcc (Ubuntu 11.4.0-1ubuntu1~22.04) 11.4.0 Ubuntu 24.04 Kernel: 5.4 Compiler: gcc gcc (Ubuntu 13.3.0-6ubuntu2~24.04) 13.3.0 To view detailed results, visit: https://lab.dpdk.org/results/dashboard/patchsets/34221/ UNH-IOL DPDK Community Lab To manage your email subscriptions, visit: https://lab.dpdk.org/results/dashboard/preferences/subscriptions/