From mboxrd@z Thu Jan 1 00:00:00 1970 Return-Path: Received: from mails.dpdk.org (mails.dpdk.org [217.70.189.124]) by inbox.dpdk.org (Postfix) with ESMTP id 38B92488CB for ; Tue, 7 Oct 2025 05:25:03 +0200 (CEST) Received: from mails.dpdk.org (localhost [127.0.0.1]) by mails.dpdk.org (Postfix) with ESMTP id 2FD844027F; Tue, 7 Oct 2025 05:25:03 +0200 (CEST) Received: from mail-yw1-f226.google.com (mail-yw1-f226.google.com [209.85.128.226]) by mails.dpdk.org (Postfix) with ESMTP id 175F04027F for ; Tue, 7 Oct 2025 05:25:02 +0200 (CEST) Received: by mail-yw1-f226.google.com with SMTP id 00721157ae682-73b4e3d0756so63244317b3.3 for ; Mon, 06 Oct 2025 20:25:02 -0700 (PDT) DKIM-Signature: v=1; a=rsa-sha256; c=relaxed/relaxed; d=iol.unh.edu; s=unh-iol; t=1759807501; x=1760412301; darn=dpdk.org; h=cc:to:from:subject:message-id:date:from:to:cc:subject:date :message-id:reply-to; bh=YifWhGE+sf8iOTt32zphe1s6/W/lwSYH6ap16As9qiI=; b=P5A/gDM15Uq0Qram9lP090Odr6oH4jJIFSa4diKg/pGnHP56vT4BofGXBWWpAoAjVy iSO5e7uSoBI45Szah5AlFDZVbInRGrav23Jopbbh8PHwaBoQzRdeOKkYKGUXqxAbs8ZC leu1Ar0YlMHiZhVmWcSq9xZ5DOg1orqvxEZm0= X-Google-DKIM-Signature: v=1; a=rsa-sha256; c=relaxed/relaxed; d=1e100.net; s=20230601; t=1759807501; x=1760412301; h=cc:to:from:subject:message-id:date:x-gm-message-state:from:to:cc :subject:date:message-id:reply-to; bh=YifWhGE+sf8iOTt32zphe1s6/W/lwSYH6ap16As9qiI=; b=GpXVrPcvrPRz1hzySaeX/pIQwQTl6KrLK7hNH8+EWZcyWTWMA+GFyliJ/sYWKWiRTP TZqR9e9ECgyjhC4dBAFgvTLB3bmlD5QVE82HYdHw8Q5k6PrQqRE15MR9+TP1MvxfI/r9 cI69dfV6QEMdOEtEKI2H3Fb3Fnk5jQD5A8Uy608/RBjhSVdRP1+S1PgVzA3VpTDP26IS I8ZyK2kE5pUnvo2OgOyk5TCErVKJA0qGkTGbXnr+ON7ujeqf1ameouJfkIsptwhMJfPR W+cjKHq/Ox8uEo4xXfza6Vh+PlrnbPIzdIYqePy2khWk8OufaimhPZ0QsFyPNaDxiWFw 1z+A== X-Gm-Message-State: AOJu0YzJpY4uuY3+hx/iZn/coC6m7YV2Jg77BZRisAhpZtJKf0zhAgKX D5YtBtDvOeVyE52f+7rwbh9P6i81JAuyRiKPkglo32eqAagPN+i2OOXE5F5EvXxTp4352cWO+89 M7aPR5NtUXisQ9bVWG6TwdFfKySk2/FgVapxQaCBKubemwuh/j17E X-Gm-Gg: ASbGnctgGJyvTvP22nDO8oFpOhxo28NbILSahLTyGx5Y6CnT7TVzxZOZxyXtBhnF7ee Ivhx5qtAcp9h42ATKi4bBM75lTy/qoGGZmb+dX/9EXRlC1Bi/kIP7OoK9DujygIOHXnV7qh/39T QZxuQpOmjiN1iol1i0sOQ5xbVmaFncPcX8c57SXDdvcdszsH0U0EIxJ1tEyT2rchWSnVyDU7ldQ 71PJz3sNnArLFakMjWgMIlcISPmRqq4AHEaRXOMif33xmN0tfa8ueOTXAlxzHE+3vgCo/iE1Kkf 2fTqoOG+zaqy+IEvGNqaQLOvglnCSgg+p40dvPAH8+PI5qTZUOif8NE= X-Google-Smtp-Source: AGHT+IHnGQ9fEXgxi2vZbeoz3yb8NcyQe91LcxbNs/TLSaoa7KUtHdks4kJjanveQDJMR6Z8ybxYDWUBqeDy X-Received: by 2002:a05:690c:3690:b0:76c:1926:8029 with SMTP id 00721157ae682-77f945489e9mr175561047b3.54.1759807501387; Mon, 06 Oct 2025 20:25:01 -0700 (PDT) Received: from postal.iol.unh.edu (postal.iol.unh.edu. [2606:4100:3880:1234::84]) by smtp-relay.gmail.com with ESMTPS id 00721157ae682-77fa2b09699sm5501817b3.6.2025.10.06.20.25.01 (version=TLS1_2 cipher=ECDHE-ECDSA-AES128-GCM-SHA256 bits=128/128); Mon, 06 Oct 2025 20:25:01 -0700 (PDT) X-Relaying-Domain: iol.unh.edu Date: Mon, 06 Oct 2025 20:25:01 -0700 (PDT) Message-ID: <68e4880d.050a0220.13ce37.d02fSMTPIN_ADDED_MISSING@mx.google.com> Received: from [172.21.0.3] (unknown [172.18.0.240]) by postal.iol.unh.edu (Postfix) with ESMTP id C868C6051830; Mon, 6 Oct 2025 23:25:00 -0400 (EDT) Subject: |SUCCESS| [GIT MASTER] b287e404643aeab5bb5db084c142789df187844e From: dpdklab@iol.unh.edu To: Test Report Cc: dpdk-test-reports@iol.unh.edu, Xueming Li , Christian Ehrhardt , Kevin Traynor , Luca Boccassi Content-Type: text/plain X-BeenThere: test-report@dpdk.org X-Mailman-Version: 2.1.29 Precedence: list List-Id: automatic DPDK test reports List-Unsubscribe: , List-Archive: List-Post: List-Help: List-Subscribe: , Errors-To: test-report-bounces@dpdk.org _Testing PASS_ Branch: tags/v24.11 b287e404643aeab5bb5db084c142789df187844e --> testing pass Upstream job id: Generic-DPDK-Compile-Meson#431627 Test environment and result as below: +-------------------------------+--------------------+-------------------+-------------------------+----------------------+-------------------+------------------+ | Environment | dpdk_meson_compile | dpdk_msvc_compile | dpdk_llvm_clang_compile | dpdk_mingw64_compile | dpdk_compile_spdk | dpdk_compile_ovs | +===============================+====================+===================+=========================+======================+===================+==================+ | Ubuntu 20.04 | PASS | SKIPPED | SKIPPED | SKIPPED | SKIPPED | SKIPPED | +-------------------------------+--------------------+-------------------+-------------------------+----------------------+-------------------+------------------+ | FreeBSD 14.2 | PASS | SKIPPED | SKIPPED | SKIPPED | SKIPPED | SKIPPED | +-------------------------------+--------------------+-------------------+-------------------------+----------------------+-------------------+------------------+ | Ubuntu 22.04 | PASS | SKIPPED | SKIPPED | SKIPPED | PASS | SKIPPED | +-------------------------------+--------------------+-------------------+-------------------------+----------------------+-------------------+------------------+ | CentOS Stream 9 | PASS | SKIPPED | SKIPPED | SKIPPED | PASS | SKIPPED | +-------------------------------+--------------------+-------------------+-------------------------+----------------------+-------------------+------------------+ | CentOS Stream 10 | PASS | SKIPPED | SKIPPED | SKIPPED | SKIPPED | SKIPPED | +-------------------------------+--------------------+-------------------+-------------------------+----------------------+-------------------+------------------+ | Debian GNU/Linux 12 | PASS | SKIPPED | SKIPPED | SKIPPED | PASS | SKIPPED | +-------------------------------+--------------------+-------------------+-------------------------+----------------------+-------------------+------------------+ | Fedora Linux 42 | PASS | SKIPPED | SKIPPED | SKIPPED | PASS | PASS | +-------------------------------+--------------------+-------------------+-------------------------+----------------------+-------------------+------------------+ | openSUSE Leap 15.6 | PASS | SKIPPED | SKIPPED | SKIPPED | SKIPPED | SKIPPED | +-------------------------------+--------------------+-------------------+-------------------------+----------------------+-------------------+------------------+ | Red Hat Enterprise Linux 8.10 | PASS | SKIPPED | SKIPPED | SKIPPED | SKIPPED | SKIPPED | +-------------------------------+--------------------+-------------------+-------------------------+----------------------+-------------------+------------------+ | Windows Server 2022 | SKIPPED | PASS | PASS | PASS | SKIPPED | SKIPPED | +-------------------------------+--------------------+-------------------+-------------------------+----------------------+-------------------+------------------+ Ubuntu 20.04 Kernel: 4.19 Compiler: gcc gcc (Ubuntu 9.4.0-1ubuntu1~20.04.2) 9.4.0 FreeBSD 14.2 Kernel: 14.2-RELEASE Compiler: clang 18.1.6 Ubuntu 22.04 Kernel: 5.15 Compiler: gcc gcc (Ubuntu 11.4.0-1ubuntu1~22.04) 11.4.0 CentOS Stream 9 Kernel: 5.15 Compiler: gcc gcc (GCC) 11.5.0 20240719 (Red Hat 11.5.0-11) CentOS Stream 10 Kernel: 5.15 Compiler: gcc gcc (GCC) 14.2.1 20250110 (Red Hat 14.2.1-8) Debian GNU/Linux 12 Kernel: 5.15 Compiler: gcc gcc (Debian 12.2.0-14+deb12u1) 12.2.0 Fedora Linux 42 Kernel: 5.15 Compiler: clang gcc (GCC) 15.2.1 20250808 (Red Hat 15.2.1-1) openSUSE Leap 15.6 Kernel: 5.15 Compiler: gcc gcc (SUSE Linux) 7.5.0 Red Hat Enterprise Linux 8.10 Kernel: 5.15 Compiler: gcc gcc (GCC) 8.5.0 20210514 (Red Hat 8.5.0-22) Windows Server 2022 Kernel: 10.0.20348.2031 Compiler: clang 15.0.7, gcc 14.1.0 (MinGW), and MSVC VS 19.39.33521 To view detailed results, visit: https://lab.dpdk.org/results/dashboard/tarballs/35107/ UNH-IOL DPDK Community Lab To manage your email subscriptions, visit: https://lab.dpdk.org/results/dashboard/preferences/subscriptions/