From mboxrd@z Thu Jan 1 00:00:00 1970 Return-Path: Received: from mails.dpdk.org (mails.dpdk.org [217.70.189.124]) by inbox.dpdk.org (Postfix) with ESMTP id 9E128488CB for ; Tue, 7 Oct 2025 05:28:05 +0200 (CEST) Received: from mails.dpdk.org (localhost [127.0.0.1]) by mails.dpdk.org (Postfix) with ESMTP id 78C8E4027F; Tue, 7 Oct 2025 05:28:05 +0200 (CEST) Received: from mail-il1-f228.google.com (mail-il1-f228.google.com [209.85.166.228]) by mails.dpdk.org (Postfix) with ESMTP id CD7C14027F for ; Tue, 7 Oct 2025 05:28:03 +0200 (CEST) Received: by mail-il1-f228.google.com with SMTP id e9e14a558f8ab-42f67e91ae7so30140535ab.0 for ; Mon, 06 Oct 2025 20:28:03 -0700 (PDT) DKIM-Signature: v=1; a=rsa-sha256; c=relaxed/relaxed; d=iol.unh.edu; s=unh-iol; t=1759807683; x=1760412483; darn=dpdk.org; h=cc:to:from:subject:message-id:date:from:to:cc:subject:date :message-id:reply-to; bh=IWeVmdQLYyH96TzawrXW6v81EIN/m9KY6CP7zpWAnFA=; b=YAdbDCTfPhbcwpH4apozlU4fGR/z+fCwxZMirInfVxtqossbLLUnj9TPby73QVajOn 7UOSGngf3w5reCavDmTuTFhEpxCJeuySbw8w5Ot481zMzkL0HSRdjYnj71VP0m0Ye4tU WLoY/uIkx+HvnLx1TWCLdQJekAuzeY0r1xV/g= X-Google-DKIM-Signature: v=1; a=rsa-sha256; c=relaxed/relaxed; d=1e100.net; s=20230601; t=1759807683; x=1760412483; h=cc:to:from:subject:message-id:date:x-gm-message-state:from:to:cc :subject:date:message-id:reply-to; bh=IWeVmdQLYyH96TzawrXW6v81EIN/m9KY6CP7zpWAnFA=; b=ojNcjvIxnZ6tDpn6VUtcHzikGGNSdY+TJl6GtHv4Zzxc7hWuzEhpFKurEhVcvLqCNW 9oqZlzr+teKbroL0KmcqP4ozTuAX4h5sX4oo0uDBhXnDAXeJen+Z9CdAYlQIxdtZtYAJ fCSz2Ts/F8Rkqhwo8d3BBj37MVqg5YnEbSOp635ALcmA3B62pS68W6HFUmIc8+KqRl1k yZ/GwPPL9xRLWOSAx4Y4Tju9T6WHW1625ML26cdl+CMzk2TPMe19AmnCD5Rvv6efjLU0 YhUrT9TFsqBvXGu2Wor30nQ8bfOxtv+Iufx/Rw1fgPvM4CxvUoRO3c32PZCYHbSARYqh rCPw== X-Gm-Message-State: AOJu0YyW9TrHAVkqQQxiMxQDL5bPVl9Tsf3c8bXhuYtU530f4w1tkTVj MzZFXiG2SBJFYxu7EsgjtKcxWPdHcdo23de5fPrm4KIaI2OvoHuCgJ5pbO0+fvHbVtjM6ZoLiuT uBhitnfu74x/wBIqaPimGbeCeAh8zNlGv+m+F X-Gm-Gg: ASbGnct+Y4GaMbZbE4yymsaOg1payr2s+r3kLPHbIJFa4sZ1/YeaGm03/z/Nh5gAoee 5WXW+u70ruILbzYU+uLbGl2euuFx7oE9JIU/9fvgAMcsmwqhIeHrCmcAERXIYsfGbOVu280ET9x Fm/t3hFqRouFJzDMDwNobGVzW6QgToje8Os8SimpmxZemzgajRuPa68VIRLnSpDVm3xCsGr7M+c ldKXucKnH5sZsSL8T6FXZf9l/L2vA3Q1J/BzxEYxuDhMkaOAzR33q8UCyezLlxqXkCeGVWrKGmg qOO805OL7heVZiaXHxE7eFxvORT3Tq8kBNihRKJIWpH1kbspYYpf7p6kx6q1MDeO+jqZ7WVbVl1 Qug== X-Google-Smtp-Source: AGHT+IG3SNtoguwIZAedg3GEfkPpGBqfLfDHlifF+Gh13MzeeZRkYhclAI6cu2n8KfDGiUvk4NeWTeaEF4mY X-Received: by 2002:a05:6e02:3e02:b0:42d:5d48:acb9 with SMTP id e9e14a558f8ab-42e7ad0501dmr180476165ab.7.1759807683025; Mon, 06 Oct 2025 20:28:03 -0700 (PDT) Received: from postal.iol.unh.edu (postal.iol.unh.edu. [132.177.123.84]) by smtp-relay.gmail.com with ESMTPS id e9e14a558f8ab-42d8b28fac2sm11416815ab.32.2025.10.06.20.28.02 (version=TLS1_2 cipher=ECDHE-ECDSA-AES128-GCM-SHA256 bits=128/128); Mon, 06 Oct 2025 20:28:03 -0700 (PDT) X-Relaying-Domain: iol.unh.edu Date: Mon, 06 Oct 2025 20:28:03 -0700 (PDT) Message-ID: <68e488c3.050a0220.75f52.ea1aSMTPIN_ADDED_MISSING@mx.google.com> Received: from [172.21.0.2] (unknown [172.18.0.240]) by postal.iol.unh.edu (Postfix) with ESMTP id 407DF6051830; Mon, 6 Oct 2025 23:28:02 -0400 (EDT) Subject: |SUCCESS| [GIT MASTER] b287e404643aeab5bb5db084c142789df187844e From: dpdklab@iol.unh.edu To: Test Report Cc: dpdk-test-reports@iol.unh.edu, Xueming Li , Christian Ehrhardt , Kevin Traynor , Luca Boccassi Content-Type: text/plain X-BeenThere: test-report@dpdk.org X-Mailman-Version: 2.1.29 Precedence: list List-Id: automatic DPDK test reports List-Unsubscribe: , List-Archive: List-Post: List-Help: List-Subscribe: , Errors-To: test-report-bounces@dpdk.org _Testing PASS_ Branch: tags/v24.11 b287e404643aeab5bb5db084c142789df187844e --> testing pass Upstream job id: Generic-DPDK-Compile-Meson#431629 Test environment and result as below: +-------------------------------+--------------------+-------------------+-------------------------+----------------------+-------------------+------------------+ | Environment | dpdk_meson_compile | dpdk_msvc_compile | dpdk_llvm_clang_compile | dpdk_mingw64_compile | dpdk_compile_spdk | dpdk_compile_ovs | +===============================+====================+===================+=========================+======================+===================+==================+ | Ubuntu 20.04 | PASS | SKIPPED | SKIPPED | SKIPPED | SKIPPED | SKIPPED | +-------------------------------+--------------------+-------------------+-------------------------+----------------------+-------------------+------------------+ | FreeBSD 14.2 | PASS | SKIPPED | SKIPPED | SKIPPED | SKIPPED | SKIPPED | +-------------------------------+--------------------+-------------------+-------------------------+----------------------+-------------------+------------------+ | Ubuntu 22.04 | PASS | SKIPPED | SKIPPED | SKIPPED | PASS | SKIPPED | +-------------------------------+--------------------+-------------------+-------------------------+----------------------+-------------------+------------------+ | CentOS Stream 9 | PASS | SKIPPED | SKIPPED | SKIPPED | PASS | SKIPPED | +-------------------------------+--------------------+-------------------+-------------------------+----------------------+-------------------+------------------+ | CentOS Stream 10 | PASS | SKIPPED | SKIPPED | SKIPPED | SKIPPED | SKIPPED | +-------------------------------+--------------------+-------------------+-------------------------+----------------------+-------------------+------------------+ | Debian GNU/Linux 12 | PASS | SKIPPED | SKIPPED | SKIPPED | PASS | SKIPPED | +-------------------------------+--------------------+-------------------+-------------------------+----------------------+-------------------+------------------+ | Fedora Linux 42 | PASS | SKIPPED | SKIPPED | SKIPPED | PASS | PASS | +-------------------------------+--------------------+-------------------+-------------------------+----------------------+-------------------+------------------+ | openSUSE Leap 15.6 | PASS | SKIPPED | SKIPPED | SKIPPED | SKIPPED | SKIPPED | +-------------------------------+--------------------+-------------------+-------------------------+----------------------+-------------------+------------------+ | Red Hat Enterprise Linux 8.10 | PASS | SKIPPED | SKIPPED | SKIPPED | SKIPPED | SKIPPED | +-------------------------------+--------------------+-------------------+-------------------------+----------------------+-------------------+------------------+ | Red Hat Enterprise Linux 9.5 | PASS | SKIPPED | SKIPPED | SKIPPED | SKIPPED | SKIPPED | +-------------------------------+--------------------+-------------------+-------------------------+----------------------+-------------------+------------------+ | Windows Server 2022 | SKIPPED | PASS | PASS | PASS | SKIPPED | SKIPPED | +-------------------------------+--------------------+-------------------+-------------------------+----------------------+-------------------+------------------+ Ubuntu 20.04 Kernel: 4.19 Compiler: gcc gcc (Ubuntu 9.4.0-1ubuntu1~20.04.2) 9.4.0 FreeBSD 14.2 Kernel: 14.2-RELEASE Compiler: clang 18.1.6 Ubuntu 22.04 Kernel: 5.15 Compiler: gcc gcc (Ubuntu 11.4.0-1ubuntu1~22.04) 11.4.0 CentOS Stream 9 Kernel: 5.15 Compiler: gcc gcc (GCC) 11.5.0 20240719 (Red Hat 11.5.0-11) CentOS Stream 10 Kernel: 5.15 Compiler: gcc gcc (GCC) 14.2.1 20250110 (Red Hat 14.2.1-8) Debian GNU/Linux 12 Kernel: 5.15 Compiler: gcc gcc (Debian 12.2.0-14+deb12u1) 12.2.0 Fedora Linux 42 Kernel: 5.15 Compiler: clang gcc (GCC) 15.2.1 20250808 (Red Hat 15.2.1-1) openSUSE Leap 15.6 Kernel: 5.15 Compiler: gcc gcc (SUSE Linux) 7.5.0 Red Hat Enterprise Linux 8.10 Kernel: 5.15 Compiler: gcc gcc (GCC) 8.5.0 20210514 (Red Hat 8.5.0-22) Red Hat Enterprise Linux 9.5 Kernel: 5.15 Compiler: gcc gcc (GCC) 11.5.0 20240719 (Red Hat 11.5.0-2) Windows Server 2022 Kernel: 10.0.20348.2031 Compiler: clang 15.0.7, gcc 14.1.0 (MinGW), and MSVC VS 19.39.33521 To view detailed results, visit: https://lab.dpdk.org/results/dashboard/tarballs/35107/ UNH-IOL DPDK Community Lab To manage your email subscriptions, visit: https://lab.dpdk.org/results/dashboard/preferences/subscriptions/