From mboxrd@z Thu Jan 1 00:00:00 1970 Return-Path: Received: from mails.dpdk.org (mails.dpdk.org [217.70.189.124]) by inbox.dpdk.org (Postfix) with ESMTP id D1AEB488CC for ; Tue, 7 Oct 2025 06:22:25 +0200 (CEST) Received: from mails.dpdk.org (localhost [127.0.0.1]) by mails.dpdk.org (Postfix) with ESMTP id C71D84027F; Tue, 7 Oct 2025 06:22:25 +0200 (CEST) Received: from mail-yw1-f227.google.com (mail-yw1-f227.google.com [209.85.128.227]) by mails.dpdk.org (Postfix) with ESMTP id A0C7E4027F for ; Tue, 7 Oct 2025 06:22:24 +0200 (CEST) Received: by mail-yw1-f227.google.com with SMTP id 00721157ae682-71d71bcab69so58946557b3.0 for ; Mon, 06 Oct 2025 21:22:24 -0700 (PDT) DKIM-Signature: v=1; a=rsa-sha256; c=relaxed/relaxed; d=iol.unh.edu; s=unh-iol; t=1759810944; x=1760415744; darn=dpdk.org; h=cc:to:from:subject:message-id:date:from:to:cc:subject:date :message-id:reply-to; bh=ua31+Exs4ztwzukWBzKvJNBRrjjxjc1YopVa6EDk2M8=; b=bcj6r6IYN8t5UGXilp2PyZkw2iPAGefiROZoLAZx8iZTfuNTV8vN3glDbunby7/DXi 6Bx1yxScmETa/S2KFxFRc5UCbPZW+GPI+Q/Le4UQIoJac1npfmKrSaMy7iUqwItQZiP5 Rr3yybDfT+Elb7FSLR+Kfo9QtKJa2B2sOW5x4= X-Google-DKIM-Signature: v=1; a=rsa-sha256; c=relaxed/relaxed; d=1e100.net; s=20230601; t=1759810944; x=1760415744; h=cc:to:from:subject:message-id:date:x-gm-message-state:from:to:cc :subject:date:message-id:reply-to; bh=ua31+Exs4ztwzukWBzKvJNBRrjjxjc1YopVa6EDk2M8=; b=c29DTwu4NDt6v2SpOpCGEzOnRQz1K60dYEDKbRtuBv+BgeZptBa6zzBsEp5davcDZS nByBWNjTPwIF+EcuEHK3oZ3XgB8KQYQMMLicXXPpOkUmEZdKR2LV1THd1fon7fZtMzK1 CQBMUQbiQAJpzboX3CePdWYMVHr5HJoLJbgymQv919iFIm58iURzSAGQsyWTMCbcvpcN 1rCUoa6+TZDGiYESgJUmpv5FuYpIWt+Z7rExU6YMY0Mdp2VcrrCFUK6Pm660JTmmv4Tz uYOVcLcXJq2SQhywPeaXF8KJJ3UPqUZQiqd4sTnNMmd/gHFUFkoFRILcPrzlAYTXhXW/ VWsw== X-Gm-Message-State: AOJu0YzIqKGCWLKtnw6Ag8tE+ENrvGgVTVRqYow4tlM6lbSruuqsZOiQ 7tUlXcloYga/Afvpzs/nzkb7uBkWN+8Y9T4RUwI3FEInMXDY+VmRfvKNvnr1pUdH8puBrzP735J cwwDmoGyZgr5U3FnfJGylP3mueJA3I0sNfrm2 X-Gm-Gg: ASbGncv2ApaiTp+z8TUKvLqR8kOnhFmrErlQA6jvcmDXTL8LRkcC5Kzlgvd1IYEKtyp gjvr6KWgB9eviIdyvpruDXIJpc6phLczGLkS15E9c30zBiNk+fLFGDpELjzM/M1BkAwTOlp00Qf 7nRGBtHpfSBErkuER1E2nXkdKVdakdw9N6O4VMpoYhtjhuEVps7+8dsGcBxuzSZnqoQT9tr640E fkaQqXbNlxJ5jKT2OWJgs+OqynkMjtSTmacnejXIOLtXn3x5xAiFHKLQFB9O9oFQH9dQYlQubEa HMqc5NQuBtXJBmsfl+0PJ2ngHLbvXNgQnSwDrnxeRFjZqGaKlIuCQmBp5d5f/PwnxMZo7Y2pPRt sFA== X-Google-Smtp-Source: AGHT+IHS4Dx+if5q2k4raatD0InjBUunrUQQnuOIgizLAHZA2BhMsX+LuR818wiSppe5T9dgyYfzo2fkg73H X-Received: by 2002:a53:ca4c:0:b0:633:c22b:f0b2 with SMTP id 956f58d0204a3-63b9a07295amr11621401d50.7.1759810943979; Mon, 06 Oct 2025 21:22:23 -0700 (PDT) Received: from postal.iol.unh.edu (postal.iol.unh.edu. [132.177.123.84]) by smtp-relay.gmail.com with ESMTPS id 956f58d0204a3-63b845a116bsm869540d50.6.2025.10.06.21.22.23 (version=TLS1_2 cipher=ECDHE-ECDSA-AES128-GCM-SHA256 bits=128/128); Mon, 06 Oct 2025 21:22:23 -0700 (PDT) X-Relaying-Domain: iol.unh.edu Date: Mon, 06 Oct 2025 21:22:23 -0700 (PDT) Message-ID: <68e4957f.530a0220.b5b4.ee0eSMTPIN_ADDED_MISSING@mx.google.com> Received: from [172.21.0.3] (unknown [172.18.0.240]) by postal.iol.unh.edu (Postfix) with ESMTP id 5A86D6051830; Tue, 7 Oct 2025 00:22:23 -0400 (EDT) Subject: |SUCCESS| [GIT MASTER] b287e404643aeab5bb5db084c142789df187844e From: dpdklab@iol.unh.edu To: Test Report Cc: dpdk-test-reports@iol.unh.edu, Xueming Li , Christian Ehrhardt , Kevin Traynor , Luca Boccassi Content-Type: text/plain X-BeenThere: test-report@dpdk.org X-Mailman-Version: 2.1.29 Precedence: list List-Id: automatic DPDK test reports List-Unsubscribe: , List-Archive: List-Post: List-Help: List-Subscribe: , Errors-To: test-report-bounces@dpdk.org _Testing PASS_ Branch: tags/v24.11 b287e404643aeab5bb5db084c142789df187844e --> testing pass Upstream job id: Windows-Compile-DPDK-Native#31454 Test environment and result as below: +---------------------+--------------------+-------------------------+-------------------+----------------------+ | Environment | dpdk_meson_compile | dpdk_llvm_clang_compile | dpdk_msvc_compile | dpdk_mingw64_compile | +=====================+====================+=========================+===================+======================+ | Ubuntu 20.04 | PASS | SKIPPED | SKIPPED | SKIPPED | +---------------------+--------------------+-------------------------+-------------------+----------------------+ | FreeBSD 14.2 | PASS | SKIPPED | SKIPPED | SKIPPED | +---------------------+--------------------+-------------------------+-------------------+----------------------+ | Windows Server 2022 | SKIPPED | PASS | PASS | PASS | +---------------------+--------------------+-------------------------+-------------------+----------------------+ Ubuntu 20.04 Kernel: 4.19 Compiler: gcc gcc (Ubuntu 9.4.0-1ubuntu1~20.04.2) 9.4.0 FreeBSD 14.2 Kernel: 14.2-RELEASE Compiler: clang 18.1.6 Windows Server 2022 Kernel: 10.0.20348.2031 Compiler: clang 15.0.7, gcc 14.1.0 (MinGW), and MSVC VS 19.39.33521 To view detailed results, visit: https://lab.dpdk.org/results/dashboard/tarballs/35126/ UNH-IOL DPDK Community Lab To manage your email subscriptions, visit: https://lab.dpdk.org/results/dashboard/preferences/subscriptions/