From mboxrd@z Thu Jan 1 00:00:00 1970 Return-Path: Received: from mails.dpdk.org (mails.dpdk.org [217.70.189.124]) by inbox.dpdk.org (Postfix) with ESMTP id EE739488CC for ; Tue, 7 Oct 2025 06:23:21 +0200 (CEST) Received: from mails.dpdk.org (localhost [127.0.0.1]) by mails.dpdk.org (Postfix) with ESMTP id E84FF4027F; Tue, 7 Oct 2025 06:23:21 +0200 (CEST) Received: from mail-io1-f98.google.com (mail-io1-f98.google.com [209.85.166.98]) by mails.dpdk.org (Postfix) with ESMTP id 6C53F4027F for ; Tue, 7 Oct 2025 06:23:20 +0200 (CEST) Received: by mail-io1-f98.google.com with SMTP id ca18e2360f4ac-91f6ccdbfc8so320866939f.1 for ; Mon, 06 Oct 2025 21:23:20 -0700 (PDT) DKIM-Signature: v=1; a=rsa-sha256; c=relaxed/relaxed; d=iol.unh.edu; s=unh-iol; t=1759811000; x=1760415800; darn=dpdk.org; h=cc:to:from:subject:message-id:date:from:to:cc:subject:date :message-id:reply-to; bh=6NcLppOjDETsfjCQzXJux1xBSfxTZGVXo1HrPKyBbRs=; b=KzVvrJcQhcZjwwKXlnY7CG8AmLeHLc3M9CmSzjRFRJiujZUnhHmBEC/09V6iNw5gOt L1+aJC7PxhWzwB0YYpItKTNNtBWfKc4/k19RloPEjTaXdC1ICI2P511c8GBZVwHRODrY rYwK36JIuvVe2yhsOTmSpfFScVa2FAuhK3AcI= X-Google-DKIM-Signature: v=1; a=rsa-sha256; c=relaxed/relaxed; d=1e100.net; s=20230601; t=1759811000; x=1760415800; h=cc:to:from:subject:message-id:date:x-gm-message-state:from:to:cc :subject:date:message-id:reply-to; bh=6NcLppOjDETsfjCQzXJux1xBSfxTZGVXo1HrPKyBbRs=; b=IifHaybgGq8t9kZcL4OzyYt3KKo2MBMqp7HDdRFCCMBvQM/m276hi3CXV0VTqBMKhd TX79SfxXF1YfjAh8j0U0M5cRsh9HvWQz378idbzByX6KGx2pN0rxNqrhyHgtGhjjXnQp 7cnP7ggjX2rkbQcS/0KTO+PU+3F4jy1tCB8R8uxOg12lgAyKuc6wzhvuoIbSCtQEAroW 3W4x449zHem8TIoU1rWHUQLvKC3XACayLKtWpGdYu7BwUC4HsrpQInEesu/b34d43BI1 Bd7WdQ90BTuX3aTh7x1LnigRl2MQvvmNidkiOYBdyFOaZQglLv/S7r3JQNCuCQQu1lQN tzxQ== X-Gm-Message-State: AOJu0YyjK12MkcpCr218MhNFdwXJQJyDyMt4l+ISQ7jzXO60JjQIJXj/ jYmq5JQlS7WqGqw7/qeqdwTG0JYhCwjsM3ZYesdfD9AkRNmK5iQTETC486jQGy+1MwrATtriOeZ xP504PN2dczmAyk5NZraPRRxq5tqTboUFEmZPf9yKP9tXgKTr3vvW X-Gm-Gg: ASbGncsSHBbGHjGW4r6HH5Qp1SLOQhhcrzULnxGyCNxEUuKU6MjgqAh7Qi2J61OEZ6S ORk9txgniR/+8YnPEWaQHAQwnmk2Bxk2VSV5n244K4bxnrXIR8Lc6kghNkk1TBQtfGcrdE2hRxg USPZA8lU4/IYPRS68CEW0U/jLxjbjJTQmeAiElmQIR60v0vUeBgoFk9iaxCCo3e4s0ObEOnWlea HBbAYCltgFJTnWcDL7Jf7wIDN56+rIGTX5A+D2zNJHGkl1uG7osJROevvIMm6pqK5tLzRBA5X0m ftqyntmM2pOoTAebqcsqzKhyh7EnCoL7VDpyLWNRC8JZjZaBmVQu0Os= X-Google-Smtp-Source: AGHT+IFZzwmEPHnZRFC9JrYcNdm7d7uv1O+jpfr5TXkeUtae1vmPBpFkYayH5pOpsCe1IGbYAvcNs7STCDTv X-Received: by 2002:a05:6602:6d85:b0:92b:b798:dfc9 with SMTP id ca18e2360f4ac-93b96ab67d5mr2096693839f.15.1759810999686; Mon, 06 Oct 2025 21:23:19 -0700 (PDT) Received: from postal.iol.unh.edu (postal.iol.unh.edu. [2606:4100:3880:1234::84]) by smtp-relay.gmail.com with ESMTPS id ca18e2360f4ac-93a7d538e5dsm59836039f.2.2025.10.06.21.23.19 (version=TLS1_2 cipher=ECDHE-ECDSA-AES128-GCM-SHA256 bits=128/128); Mon, 06 Oct 2025 21:23:19 -0700 (PDT) X-Relaying-Domain: iol.unh.edu Date: Mon, 06 Oct 2025 21:23:19 -0700 (PDT) Message-ID: <68e495b7.050a0220.353f96.1b36SMTPIN_ADDED_MISSING@mx.google.com> Received: from [172.21.0.5] (unknown [172.18.0.240]) by postal.iol.unh.edu (Postfix) with ESMTP id 0EB6D6051830; Tue, 7 Oct 2025 00:23:19 -0400 (EDT) Subject: |SUCCESS| [GIT MASTER] 62f583c49bf67dd4d6733ece14e55fe6839e66d1 From: dpdklab@iol.unh.edu To: Test Report Cc: dpdk-test-reports@iol.unh.edu, Xueming Li , Christian Ehrhardt , Kevin Traynor , Luca Boccassi Content-Type: text/plain X-BeenThere: test-report@dpdk.org X-Mailman-Version: 2.1.29 Precedence: list List-Id: automatic DPDK test reports List-Unsubscribe: , List-Archive: List-Post: List-Help: List-Subscribe: , Errors-To: test-report-bounces@dpdk.org _Testing PASS_ Branch: tags/v23.11 62f583c49bf67dd4d6733ece14e55fe6839e66d1 --> testing pass Upstream job id: Generic-VM-DPDK-Compile-Meson#38823 Test environment and result as below: +---------------------+--------------------+-------------------+ | Environment | dpdk_meson_compile | dpdk_msvc_compile | +=====================+====================+===================+ | Ubuntu 20.04 | PASS | SKIPPED | +---------------------+--------------------+-------------------+ | FreeBSD 14.2 | PASS | SKIPPED | +---------------------+--------------------+-------------------+ | Windows Server 2022 | SKIPPED | PASS | +---------------------+--------------------+-------------------+ Ubuntu 20.04 Kernel: 4.19 Compiler: gcc gcc (Ubuntu 9.4.0-1ubuntu1~20.04.2) 9.4.0 FreeBSD 14.2 Kernel: 14.2-RELEASE Compiler: clang 18.1.6 Windows Server 2022 Kernel: 10.0.20348.2031 Compiler: clang 15.0.7, gcc 14.1.0 (MinGW), and MSVC VS 19.39.33521 To view detailed results, visit: https://lab.dpdk.org/results/dashboard/tarballs/35125/ UNH-IOL DPDK Community Lab To manage your email subscriptions, visit: https://lab.dpdk.org/results/dashboard/preferences/subscriptions/