From mboxrd@z Thu Jan 1 00:00:00 1970 Return-Path: Received: from mails.dpdk.org (mails.dpdk.org [217.70.189.124]) by inbox.dpdk.org (Postfix) with ESMTP id 64CB0488CC for ; Tue, 7 Oct 2025 06:26:32 +0200 (CEST) Received: from mails.dpdk.org (localhost [127.0.0.1]) by mails.dpdk.org (Postfix) with ESMTP id 4B7E04027F; Tue, 7 Oct 2025 06:26:32 +0200 (CEST) Received: from mail-il1-f225.google.com (mail-il1-f225.google.com [209.85.166.225]) by mails.dpdk.org (Postfix) with ESMTP id 022B04027F for ; Tue, 7 Oct 2025 06:26:31 +0200 (CEST) Received: by mail-il1-f225.google.com with SMTP id e9e14a558f8ab-42d8bf52325so29800135ab.3 for ; Mon, 06 Oct 2025 21:26:31 -0700 (PDT) DKIM-Signature: v=1; a=rsa-sha256; c=relaxed/relaxed; d=iol.unh.edu; s=unh-iol; t=1759811191; x=1760415991; darn=dpdk.org; h=cc:to:from:subject:message-id:date:from:to:cc:subject:date :message-id:reply-to; bh=zhpEeqxz4RQLC6hDPTpVz0NA1gWGaFSXevsAgoCrlfc=; b=YM4YnqpXGJb9/fSoNCCD7VI+8EsCtjDk4llM/kazfsdRY4n5yH183dLlsJ2/UfEUng 0a6WhTURLso/q+dtz5BJ1nw7huUXbMl84xCgBbgFs6esFmMlCZFrR5gJBAxrV5OEWpTO mwO+hNl92p/YSo/m5CJJEXrbrHV7gmQmVFFsk= X-Google-DKIM-Signature: v=1; a=rsa-sha256; c=relaxed/relaxed; d=1e100.net; s=20230601; t=1759811191; x=1760415991; h=cc:to:from:subject:message-id:date:x-gm-message-state:from:to:cc :subject:date:message-id:reply-to; bh=zhpEeqxz4RQLC6hDPTpVz0NA1gWGaFSXevsAgoCrlfc=; b=vxBWppoQ1cWGCJN8bYDImBOObzvPr36ljfBvhM8CcYAU16qe3K6ec+nOw5/fOU4qx8 v7soZp9iNQOshvALC3TznANe08FvqdcGxsQfH6mZfV13aoglz/k8/LwMg46TOIWy6qsX mCb4YcHu6NwZzuLO6GhZ4hNnJJ9Ezr5kIzgHkQ8DMksqsdGF8O439XQOhRXZBXUoGjJy uhD+khzgaEkPiWAb+8ymvD1vWf0OuEK0SUrw7IYUahkgFw7JewNbXWz69WkxtoeR0ls/ h+ny68mBGb7VGF69oNmgR03dETzIwYqrIVk1gnpJJPlp9WDI9o/VizHO1yEp5XoVAIzX W40w== X-Gm-Message-State: AOJu0YwMaqT40o9tR0vfgrC5g4G3SWQJulkzzppkx5n47uApXO2zQrZF i5Kh0WY2y8nQ/zJwswGry3zudz8ztADI9ylUZlTsS1KFOkWM/4FRnazRcDyi73UToPrisIJI+xf 0gh3dP+Y4huIgWF3devIgBbIX11OjiIY9BWhDvm4psRZU3qPuxOYp X-Gm-Gg: ASbGncsyZ9PL65lEsG4JJHzK7EtNaH9iiQSVWCAsB1Kax2WKz/ZeJlwI8TdGHO8dofK 33A4T1JVH76ezq29iyDRY9WzRCAQnCyu+/8Z7LX+3HknfU394IymFL/cdAJDTA4yOvmG6xmv+rT tIIuzVtkTM7IyJIyIYDtRXfVWoNrm9YA572nZYmzIAGjhWC1N8iWRotyIuoQnrNfsiulXsui0YW NxiU/nq9C9ceDM/739LjMaMo73BF3V9GwIYJTQ5cTnyieyYaZHys98iQhyhnl6usHJgOecJa02U XxCBkwwJIKCKMuqEAx7EeKjXd2ec+J5YKcOtgFFGOpAkKhYXx2NTG9E= X-Google-Smtp-Source: AGHT+IFvdOnO28rUVk/37xyBfryOU37EzzwX29EXqmVr4fWKdQZeNSo9UV4ePNcf7rpl1qZ1C93DBegdUFtN X-Received: by 2002:a05:6e02:2163:b0:429:792a:a8b1 with SMTP id e9e14a558f8ab-42e7ad613b5mr196433845ab.15.1759811190304; Mon, 06 Oct 2025 21:26:30 -0700 (PDT) Received: from postal.iol.unh.edu (postal.iol.unh.edu. [2606:4100:3880:1234::84]) by smtp-relay.gmail.com with ESMTPS id e9e14a558f8ab-42d8b28fac2sm11503025ab.32.2025.10.06.21.26.30 (version=TLS1_2 cipher=ECDHE-ECDSA-AES128-GCM-SHA256 bits=128/128); Mon, 06 Oct 2025 21:26:30 -0700 (PDT) X-Relaying-Domain: iol.unh.edu Date: Mon, 06 Oct 2025 21:26:30 -0700 (PDT) Message-ID: <68e49676.050a0220.75f52.f266SMTPIN_ADDED_MISSING@mx.google.com> Received: from [172.21.0.4] (unknown [172.18.0.240]) by postal.iol.unh.edu (Postfix) with ESMTP id C9A6A6051830; Tue, 7 Oct 2025 00:26:29 -0400 (EDT) Subject: |SUCCESS| [GIT MASTER] 3b43ce3f4a54468e7ef65760c2fd7b4d6ee6d9fc From: dpdklab@iol.unh.edu To: Test Report Cc: dpdk-test-reports@iol.unh.edu, Xueming Li , Christian Ehrhardt , Kevin Traynor , Luca Boccassi Content-Type: text/plain X-BeenThere: test-report@dpdk.org X-Mailman-Version: 2.1.29 Precedence: list List-Id: automatic DPDK test reports List-Unsubscribe: , List-Archive: List-Post: List-Help: List-Subscribe: , Errors-To: test-report-bounces@dpdk.org _Testing PASS_ Branch: tags/v22.11 3b43ce3f4a54468e7ef65760c2fd7b4d6ee6d9fc --> testing pass Upstream job id: Windows-Compile-DPDK-Native#31455 Test environment and result as below: +---------------------+--------------------+-------------------------+ | Environment | dpdk_meson_compile | dpdk_llvm_clang_compile | +=====================+====================+=========================+ | Ubuntu 20.04 | PASS | SKIPPED | +---------------------+--------------------+-------------------------+ | FreeBSD 14.2 | PASS | SKIPPED | +---------------------+--------------------+-------------------------+ | Windows Server 2022 | SKIPPED | PASS | +---------------------+--------------------+-------------------------+ Ubuntu 20.04 Kernel: 4.19 Compiler: gcc gcc (Ubuntu 9.4.0-1ubuntu1~20.04.2) 9.4.0 FreeBSD 14.2 Kernel: 14.2-RELEASE Compiler: clang 18.1.6 Windows Server 2022 Kernel: 10.0.20348.2031 Compiler: clang 15.0.7, gcc 14.1.0 (MinGW), and MSVC VS 19.39.33521 To view detailed results, visit: https://lab.dpdk.org/results/dashboard/tarballs/35124/ UNH-IOL DPDK Community Lab To manage your email subscriptions, visit: https://lab.dpdk.org/results/dashboard/preferences/subscriptions/