From mboxrd@z Thu Jan 1 00:00:00 1970 Return-Path: Received: from mails.dpdk.org (mails.dpdk.org [217.70.189.124]) by inbox.dpdk.org (Postfix) with ESMTP id 80A4E488CC for ; Tue, 7 Oct 2025 06:27:17 +0200 (CEST) Received: from mails.dpdk.org (localhost [127.0.0.1]) by mails.dpdk.org (Postfix) with ESMTP id 7B8484027F; Tue, 7 Oct 2025 06:27:17 +0200 (CEST) Received: from mail-pg1-f227.google.com (mail-pg1-f227.google.com [209.85.215.227]) by mails.dpdk.org (Postfix) with ESMTP id D7FBD4027F for ; Tue, 7 Oct 2025 06:27:16 +0200 (CEST) Received: by mail-pg1-f227.google.com with SMTP id 41be03b00d2f7-b57d93ae3b0so3914123a12.1 for ; Mon, 06 Oct 2025 21:27:16 -0700 (PDT) DKIM-Signature: v=1; a=rsa-sha256; c=relaxed/relaxed; d=iol.unh.edu; s=unh-iol; t=1759811236; x=1760416036; darn=dpdk.org; h=references:in-reply-to:cc:to:from:subject:message-id:date:from:to :cc:subject:date:message-id:reply-to; bh=bmbZmvmJhAIN03g+PaNAw9qt4iXu6+tLPVcJ5ctIglo=; b=hUnf+l1gL7MGFhFyNnHfvu+/F5N4uZzv6WNhBOKvEEa2/UqqVvJj5bV0USHuakbTAe 2riMlo4DDFwcTvIupRPv7Misa6OjGmCEcLY63DPMFtWPFxcgE4gLpmovloV2UiyO4zAX eCKv8kc/duILdlxmDAlUKa6smnSwufH1Tj1Io= X-Google-DKIM-Signature: v=1; a=rsa-sha256; c=relaxed/relaxed; d=1e100.net; s=20230601; t=1759811236; x=1760416036; h=references:in-reply-to:cc:to:from:subject:message-id:date :x-gm-message-state:from:to:cc:subject:date:message-id:reply-to; bh=bmbZmvmJhAIN03g+PaNAw9qt4iXu6+tLPVcJ5ctIglo=; b=NbVpapG3/m5Qutbyx2YtzILqj705LzynUQf+rpSoEbIqFWX+lzuIpJCj3W2dKj6Dlu /U6bsXW2/fm9HhzmxnQKIMOkvqY7Lw8cZcwq7CnTzS4320Ivw7w/wLuUt3pk2h7Hl9Eu cqIqy1T5G+St23ypbtH2b5YqEW6K6isMBefBgdPcNFizIZSlBWrv0c05WZVtk77qIn7h lUKZzTSkZZyQb8+qZ+JX8zUKiRV+fBtRBz5osW0EKGDF7VXAzQuSRV2qQ6LjG7k3QcSi qozcKYqc5YSS9Zlki3Xbu+q5yFpHpw76FDWdEoJrMcz0rUQePY6y4Aea/+OYzUda4j2N W4Dg== X-Gm-Message-State: AOJu0Yy3uUhxe00uk1muAuXVc3wG++C5F/38ulOhp/HmTI83srOq/3yx CyAt2G7B6oWruyTRQZeyb6rNTl7R1pWx4nz6F6RQ/sy6EWi4G6vqcqsjmrrytZm8V2a9JUm0+Dz UD+PEUTvEBfDfBWIIGaJ5gNeLd7Y1iKurPJYGXH2mzjY6EqiUHSzyV1bQBsPk X-Gm-Gg: ASbGncvZ7SFw6BwKcDfFMSiUYaCbRwI1bU/Qn8gk/RvPRidb/rNRNqDW4I5jErb/nCb KPQlZdbmgGBzvh8J6euSk5IaECm8T/172UeI/nUe2k8dczhbbxGhsaqGH6HCtdJlHcEJCKjBW4P l3XjFzFTgpI5UAqrDArxYJMHBPruZLXUHu1H56TTr+vr4oghp/Ou5+KQan6ezpHwOBj4ZYRdNxs BHLbqIYv1Abs1kc9/fS/BQhZMBhU1JE7LFVJWyANxujyLlswPzMwxNH/d8eb0hHo89UW9jJNtMX aY8UyAIMs3SnViL514CCYdotqKJumOZ8DCF+Ub163KpoR82icsyBCXY= X-Google-Smtp-Source: AGHT+IH6Xio9dUH/cvYhKxczNMQJuVA8ZAHWCuzAsvIEzcD+pYkF1wPkiyGQZ39KrEYY6DaRnF4hFi7sgHnn X-Received: by 2002:a17:903:acd:b0:273:31fb:a872 with SMTP id d9443c01a7336-28e9a543d51mr209860705ad.6.1759811235846; Mon, 06 Oct 2025 21:27:15 -0700 (PDT) Received: from postal.iol.unh.edu (postal.iol.unh.edu. [2606:4100:3880:1234::84]) by smtp-relay.gmail.com with ESMTPS id d9443c01a7336-28e8d119a30sm11479505ad.22.2025.10.06.21.27.15 (version=TLS1_2 cipher=ECDHE-ECDSA-AES128-GCM-SHA256 bits=128/128); Mon, 06 Oct 2025 21:27:15 -0700 (PDT) X-Relaying-Domain: iol.unh.edu Date: Mon, 06 Oct 2025 21:27:15 -0700 (PDT) Message-ID: <68e496a3.170a0220.3c7842.579dSMTPIN_ADDED_MISSING@mx.google.com> Received: from [172.21.0.3] (unknown [172.18.0.240]) by postal.iol.unh.edu (Postfix) with ESMTP id 1E1A16051830; Tue, 7 Oct 2025 00:27:15 -0400 (EDT) Subject: |SUCCESS| pw157297 [PATCH] net/intel/e1000: reduce the optimization From: dpdklab@iol.unh.edu To: Test Report Cc: dpdk-test-reports@iol.unh.edu, Bruce Richardson In-Reply-To: <20251006124506.388456-1-thierry.herbelot@6wind.com> References: <20251006124506.388456-1-thierry.herbelot@6wind.com> Content-Type: text/plain X-BeenThere: test-report@dpdk.org X-Mailman-Version: 2.1.29 Precedence: list List-Id: automatic DPDK test reports List-Unsubscribe: , List-Archive: List-Post: List-Help: List-Subscribe: , Errors-To: test-report-bounces@dpdk.org Test-Label: iol-unit-arm64-testing Test-Status: SUCCESS http://dpdk.org/patch/157297 _Testing PASS_ Submitter: Thierry Herbelot Date: Monday, October 06 2025 12:45:06 DPDK git baseline: Repo:dpdk-next-net-intel Branch: master CommitID:e7d8cc7ef4df3552575525697079d3c957cfcdaf 157297 --> testing pass Upstream job id: Generic-Unit-Test-DPDK#378887 Test environment and result as below: +------------------------------+----------------+------------------------------+---------------------------+--------------+ | Environment | dpdk_unit_test | cryptodev_sw_snow3g_autotest | cryptodev_sw_zuc_autotest | lpm_autotest | +==============================+================+==============================+===========================+==============+ | Fedora Linux 41 | PASS | SKIPPED | SKIPPED | SKIPPED | +------------------------------+----------------+------------------------------+---------------------------+--------------+ | CentOS Stream 9 | PASS | SKIPPED | SKIPPED | SKIPPED | +------------------------------+----------------+------------------------------+---------------------------+--------------+ | Fedora Linux 40 | PASS | SKIPPED | SKIPPED | SKIPPED | +------------------------------+----------------+------------------------------+---------------------------+--------------+ | Debian GNU/Linux 12 | PASS | SKIPPED | SKIPPED | SKIPPED | +------------------------------+----------------+------------------------------+---------------------------+--------------+ | Fedora Linux 42 | PASS | SKIPPED | SKIPPED | SKIPPED | +------------------------------+----------------+------------------------------+---------------------------+--------------+ | Ubuntu 22.04 | PASS | SKIPPED | SKIPPED | SKIPPED | +------------------------------+----------------+------------------------------+---------------------------+--------------+ | Ubuntu 20.04 | PASS | SKIPPED | SKIPPED | PASS | +------------------------------+----------------+------------------------------+---------------------------+--------------+ | CentOS Stream 10 | PASS | SKIPPED | SKIPPED | SKIPPED | +------------------------------+----------------+------------------------------+---------------------------+--------------+ | Red Hat Enterprise Linux 9.5 | PASS | SKIPPED | SKIPPED | SKIPPED | +------------------------------+----------------+------------------------------+---------------------------+--------------+ | Ubuntu 24.04 | PASS | SKIPPED | SKIPPED | SKIPPED | +------------------------------+----------------+------------------------------+---------------------------+--------------+ | Debian 12 (arm) | SKIPPED | PASS | PASS | SKIPPED | +------------------------------+----------------+------------------------------+---------------------------+--------------+ Fedora Linux 41 Kernel: 5.4 Compiler: clang gcc (GCC) 14.3.1 20250523 (Red Hat 14.3.1-1) CentOS Stream 9 Kernel: 5.4 Compiler: gcc gcc (GCC) 11.5.0 20240719 (Red Hat 11.5.0-11) Fedora Linux 40 Kernel: 5.4 Compiler: clang gcc (GCC) 14.2.1 20240912 (Red Hat 14.2.1-3) Debian GNU/Linux 12 Kernel: 5.4 Compiler: gcc gcc (Debian 12.2.0-14+deb12u1) 12.2.0 Fedora Linux 42 Kernel: 5.4 Compiler: gcc gcc (GCC) 15.2.1 20250808 (Red Hat 15.2.1-1) Ubuntu 22.04 Kernel: 5.15 Compiler: gcc gcc (Ubuntu 11.4.0-1ubuntu1~22.04.2) 11.4.0 Ubuntu 20.04 Kernel: 5.4 Compiler: gcc gcc (Ubuntu 9.4.0-1ubuntu1~20.04.2) 9.4.0 CentOS Stream 10 Kernel: 5.4 Compiler: gcc gcc (GCC) 14.2.1 20250110 (Red Hat 14.2.1-8) Red Hat Enterprise Linux 9.5 Kernel: 5.4 Compiler: gcc gcc (GCC) 11.5.0 20240719 (Red Hat 11.5.0-2) Ubuntu 24.04 Kernel: 5.4 Compiler: gcc gcc (Ubuntu 13.3.0-6ubuntu2~24.04) 13.3.0 Debian 12 (arm) Kernel: Depends on container host Compiler: gcc (Debian 12.2.0-14) 12.2.0 To view detailed results, visit: https://lab.dpdk.org/results/dashboard/patchsets/34222/ UNH-IOL DPDK Community Lab To manage your email subscriptions, visit: https://lab.dpdk.org/results/dashboard/preferences/subscriptions/