From mboxrd@z Thu Jan 1 00:00:00 1970 Return-Path: Received: from mails.dpdk.org (mails.dpdk.org [217.70.189.124]) by inbox.dpdk.org (Postfix) with ESMTP id A8A51488CC for ; Tue, 7 Oct 2025 06:28:38 +0200 (CEST) Received: from mails.dpdk.org (localhost [127.0.0.1]) by mails.dpdk.org (Postfix) with ESMTP id 9DC4B4027F; Tue, 7 Oct 2025 06:28:38 +0200 (CEST) Received: from mail-pf1-f226.google.com (mail-pf1-f226.google.com [209.85.210.226]) by mails.dpdk.org (Postfix) with ESMTP id D96624027F for ; Tue, 7 Oct 2025 06:28:37 +0200 (CEST) Received: by mail-pf1-f226.google.com with SMTP id d2e1a72fcca58-782023ca359so5459281b3a.2 for ; Mon, 06 Oct 2025 21:28:37 -0700 (PDT) DKIM-Signature: v=1; a=rsa-sha256; c=relaxed/relaxed; d=iol.unh.edu; s=unh-iol; t=1759811317; x=1760416117; darn=dpdk.org; h=cc:to:from:subject:message-id:date:from:to:cc:subject:date :message-id:reply-to; bh=nSzk6eGG5lKs/llMMGznIUJADpid541XeQ5XlWhYoYI=; b=atJOSz/QO5GW9Qlhh395XyxTsDQB0i/S1FZaeYN5CTbV07Ht3yGnpOjC7P9GgsNCuG 11YqcQeZwg4tjMuFQdq/Hl5cYnSrQuzQ1H5D7BqumoYS/DQamPlZ6Vc0tXyql1uK+sGe Rpb9kiw/b9UVv7DOPQ3IyfcrWdMycH0edwn9Q= X-Google-DKIM-Signature: v=1; a=rsa-sha256; c=relaxed/relaxed; d=1e100.net; s=20230601; t=1759811317; x=1760416117; h=cc:to:from:subject:message-id:date:x-gm-message-state:from:to:cc :subject:date:message-id:reply-to; bh=nSzk6eGG5lKs/llMMGznIUJADpid541XeQ5XlWhYoYI=; b=ek9KDLyiDgt/ItG10pOsdc8PHNCWN2AEOG8xxIcPFCU1IW+DvVjjxZjV/qM3Fze6AQ qLpVZsDUq+RZeaE8lchfhkeghf1lD1Od+yfyFuusroIiIWXGvNXHYB0OGcdmQh3152xj aoyNiRpzQ5tdJFVTXNahdFBMi3s9SAfbuFSmPOSgP1b7CqN4xzcukzE7I3ifL5xN7f17 T70RuIbtxls48QqiDTjvnLYSr3x7UOhYI7lR/XJV5Am/RMxPCCVI5dfl7LaG/8hatVGx yVkFRY4IM5j5vY8u+nCFI38KEEIxj8oBglQSzKUxWK2zv4GlfLQZcxUWSB4ud2dqZ2Uy pvvg== X-Gm-Message-State: AOJu0Yxz7KzctHfE84cBig9g0z5Dxihzh4ggyYRZcF+bLy9oZxeszvL+ RNLhvT8S3ig2d6uxFFuh9o6abjXpJAygBFqMI08lu1a2GjK8G8NynNUahePgonnO/0RNHC4DTbz 1ty0SIe1L/eP7RQ/YE8HGToXx15IpfzMY4TAF X-Gm-Gg: ASbGncuXjZTAhT5p/34nTR2cgrcqwbyFauYNTEWLhRwcm3AVu9DIff7dzLlSYn8Y/0f RS4o/1F1QMdveUKrJNiT/7xCEtCuR8SqreSqCN002oxB4R3CvHHhiTeXzpUudcpmwqhvSdevj8q Ex2er/+2nAKR35k0DntRyrooFc+viFht8Kyd8Yt1CUC70NqCjB5zSe2v0sSs8C/7T+jTvooOgke 0LXQzW9N0x7bhRNbuVoJ6UuuDg5PgLM+1elsunXFYSZuwK72cmEso1VhJadSLxKKUw5fpaorPCE 7H9jLB/oyctMXCEZks2k1MJ8sGIjstT/byN7b8ExqF/oKd/N5Wz5OP0VZqEueRfFRy/xKkAyROg c0A== X-Google-Smtp-Source: AGHT+IGwWDtiCW5PN7YcLitzCciWjUnoIo2gC7L3sRveLoebPinP9rW2gg6KmY0LIiaFfP8z35hk0Rdcvfj6 X-Received: by 2002:a05:6a00:23d5:b0:782:5ca1:e1c with SMTP id d2e1a72fcca58-78c98cb698fmr17924523b3a.21.1759811316915; Mon, 06 Oct 2025 21:28:36 -0700 (PDT) Received: from postal.iol.unh.edu (postal.iol.unh.edu. [132.177.123.84]) by smtp-relay.gmail.com with ESMTPS id d2e1a72fcca58-78b0204cdd2sm943257b3a.13.2025.10.06.21.28.36 (version=TLS1_2 cipher=ECDHE-ECDSA-AES128-GCM-SHA256 bits=128/128); Mon, 06 Oct 2025 21:28:36 -0700 (PDT) X-Relaying-Domain: iol.unh.edu Date: Mon, 06 Oct 2025 21:28:36 -0700 (PDT) Message-ID: <68e496f4.050a0220.245412.45e5SMTPIN_ADDED_MISSING@mx.google.com> Received: from [172.21.0.3] (unknown [172.18.0.240]) by postal.iol.unh.edu (Postfix) with ESMTP id 3046B6051830; Tue, 7 Oct 2025 00:28:36 -0400 (EDT) Subject: |SUCCESS| [GIT MASTER] 3b43ce3f4a54468e7ef65760c2fd7b4d6ee6d9fc From: dpdklab@iol.unh.edu To: Test Report Cc: dpdk-test-reports@iol.unh.edu, Xueming Li , Christian Ehrhardt , Kevin Traynor , Luca Boccassi Content-Type: text/plain X-BeenThere: test-report@dpdk.org X-Mailman-Version: 2.1.29 Precedence: list List-Id: automatic DPDK test reports List-Unsubscribe: , List-Archive: List-Post: List-Help: List-Subscribe: , Errors-To: test-report-bounces@dpdk.org _Testing PASS_ Branch: tags/v22.11 3b43ce3f4a54468e7ef65760c2fd7b4d6ee6d9fc --> testing pass Upstream job id: Windows-Compile-DPDK-Native#31456 Test environment and result as below: +---------------------+--------------------+-------------------------+----------------------+ | Environment | dpdk_meson_compile | dpdk_llvm_clang_compile | dpdk_mingw64_compile | +=====================+====================+=========================+======================+ | Ubuntu 20.04 | PASS | SKIPPED | SKIPPED | +---------------------+--------------------+-------------------------+----------------------+ | FreeBSD 14.2 | PASS | SKIPPED | SKIPPED | +---------------------+--------------------+-------------------------+----------------------+ | Windows Server 2022 | SKIPPED | PASS | PASS | +---------------------+--------------------+-------------------------+----------------------+ Ubuntu 20.04 Kernel: 4.19 Compiler: gcc gcc (Ubuntu 9.4.0-1ubuntu1~20.04.2) 9.4.0 FreeBSD 14.2 Kernel: 14.2-RELEASE Compiler: clang 18.1.6 Windows Server 2022 Kernel: 10.0.20348.2031 Compiler: clang 15.0.7, gcc 14.1.0 (MinGW), and MSVC VS 19.39.33521 To view detailed results, visit: https://lab.dpdk.org/results/dashboard/tarballs/35124/ UNH-IOL DPDK Community Lab To manage your email subscriptions, visit: https://lab.dpdk.org/results/dashboard/preferences/subscriptions/