From mboxrd@z Thu Jan 1 00:00:00 1970 Return-Path: Received: from mails.dpdk.org (mails.dpdk.org [217.70.189.124]) by inbox.dpdk.org (Postfix) with ESMTP id 66EF1488CC for ; Tue, 7 Oct 2025 07:02:15 +0200 (CEST) Received: from mails.dpdk.org (localhost [127.0.0.1]) by mails.dpdk.org (Postfix) with ESMTP id 599804027F; Tue, 7 Oct 2025 07:02:15 +0200 (CEST) Received: from mail-pl1-f228.google.com (mail-pl1-f228.google.com [209.85.214.228]) by mails.dpdk.org (Postfix) with ESMTP id 715044027F for ; Tue, 7 Oct 2025 07:02:14 +0200 (CEST) Received: by mail-pl1-f228.google.com with SMTP id d9443c01a7336-27ee41e074dso62806615ad.1 for ; Mon, 06 Oct 2025 22:02:14 -0700 (PDT) DKIM-Signature: v=1; a=rsa-sha256; c=relaxed/relaxed; d=iol.unh.edu; s=unh-iol; t=1759813333; x=1760418133; darn=dpdk.org; h=references:in-reply-to:cc:to:from:subject:message-id:date:from:to :cc:subject:date:message-id:reply-to; bh=Mr+5w3bo8NHj1roc6qlkl4YYeB2EbwlbGixWaiJl/aE=; b=Ol+6YsjAv+jaV6cO2b0/bSW9/nJYonbKiLjPwWgq3g+aCgQoN+zHP3mkvRtEzgjobQ MlnN1sNH6s6nU/kCoPDGl7AmtQERV9MOzPMMNOd1IQOi8hXI8Ww7dEh3rAONsBImkheo HMgvafh8PdODN3a14l1EpAAf9NnPHuCqNP5Hk= X-Google-DKIM-Signature: v=1; a=rsa-sha256; c=relaxed/relaxed; d=1e100.net; s=20230601; t=1759813333; x=1760418133; h=references:in-reply-to:cc:to:from:subject:message-id:date :x-gm-message-state:from:to:cc:subject:date:message-id:reply-to; bh=Mr+5w3bo8NHj1roc6qlkl4YYeB2EbwlbGixWaiJl/aE=; b=qsJSyKP52RFQSR+IjPvY5bCYQnmdYDv7Pbr1rygZLw9KcQCHSRyhK4kM1bi+TbyeEe EFRAcVldS349rDBB8dYENqAVn/8sVYor0v9d6YHTm7z1UxUGlThC7Jsmw8AqgxOb+a9P lCHyTyx3NiR9qXFvatTUF3UacSJNJPRGBFqyV8O22pO7JiwevY1+VjROoJU+RP5eoATt a2eq1Z1TlE8DlG0HpLTuLIJSbxijZUgkUzlN3tuKXFMzhF04CMP122i8oBMElWaNZClF 8cCkIUtSfJJETxRzfkZKgdA35adOKs6c+4zh8sr/l4qf/2OhFJGmkn8CmkPQ/kIcz2Fi 25rg== X-Gm-Message-State: AOJu0YxkIDh0TvrdgrdcgFjkR4outBVJigaJHw3iwaDP02HYDwXox+8J GfyhaglxYLgh6a0S3IF8+RCC/MswjPqJ6dymRBmKLVlv7i1e2JKKxaVdcNRsLMdi4hNeTkQhAZO YbHtVON7GIJQ1EmkyJsKf5F3ycGa3Aqp1MCcpM7ELUXL4 X-Gm-Gg: ASbGnctibwvOmYH9WwqTnNeaxyFGFCiukZ3EdwGz9b7x2ajROUp4yS0Mlykrgs1mMcp PxQBN5NRUwnqi+JtFah2Xa3WuViVISuEhHqgw0NsWClxGYUR4Xe6QH35PDsKHJUTHAoGP7s6P+J hPARHa0qvHZ9SpeUQmzeHPqvGa3sKFDSeiZNn3EMty61VSKgMHETMmSShIGdbxL6/Ge7ty77ICp 81GBAMf+/UMHfc/+vIBxS5o/nFrjpYRTKEU+aUjHSsG7RE26UXiTWB7NGa47BDQrW8k+SPomi9F v4BYwdXWt7zIUD8VUaOl8WJOKVITVzQdn2c3nr7A5CSBdK6QjKd8FeooM+Novjfy+0QwJQDtmlp 8KQ== X-Google-Smtp-Source: AGHT+IF8XMjXi+7/8igDMESO13QkM8kJeipIxRmzdj02oJbsnfI7NCemwgU5tIWSuCD4Rxbhi0I9Y7YUqrsO X-Received: by 2002:a17:902:c94f:b0:27d:6777:2833 with SMTP id d9443c01a7336-28e9a648456mr196463945ad.47.1759813333424; Mon, 06 Oct 2025 22:02:13 -0700 (PDT) Received: from postal.iol.unh.edu (postal.iol.unh.edu. [132.177.123.84]) by smtp-relay.gmail.com with ESMTPS id d9443c01a7336-28e8d107a94sm10731615ad.13.2025.10.06.22.02.13 (version=TLS1_2 cipher=ECDHE-ECDSA-AES128-GCM-SHA256 bits=128/128); Mon, 06 Oct 2025 22:02:13 -0700 (PDT) X-Relaying-Domain: iol.unh.edu Date: Mon, 06 Oct 2025 22:02:13 -0700 (PDT) Message-ID: <68e49ed5.170a0220.7993b.bda7SMTPIN_ADDED_MISSING@mx.google.com> Received: from [172.21.0.2] (unknown [172.18.0.240]) by postal.iol.unh.edu (Postfix) with ESMTP id 9DA566051830; Tue, 7 Oct 2025 01:02:12 -0400 (EDT) Subject: |SUCCESS| pw157303 [PATCH] net/idpf: correct the enum constant name From: dpdklab@iol.unh.edu To: Test Report Cc: dpdk-test-reports@iol.unh.edu, Bruce Richardson In-Reply-To: <20251007040436.2924355-1-shaiq.wani@intel.com> References: <20251007040436.2924355-1-shaiq.wani@intel.com> Content-Type: text/plain X-BeenThere: test-report@dpdk.org X-Mailman-Version: 2.1.29 Precedence: list List-Id: automatic DPDK test reports List-Unsubscribe: , List-Archive: List-Post: List-Help: List-Subscribe: , Errors-To: test-report-bounces@dpdk.org Test-Label: iol-compile-amd64-testing Test-Status: SUCCESS http://dpdk.org/patch/157303 _Testing PASS_ Submitter: Shaiq Wani Date: Tuesday, October 07 2025 04:04:36 DPDK git baseline: Repo:dpdk-next-net-intel Branch: master CommitID:e7d8cc7ef4df3552575525697079d3c957cfcdaf 157303 --> testing pass Upstream job id: Windows-Compile-DPDK-Native#31459 Test environment and result as below: +---------------------+-------------------+--------------------+-------------------------+ | Environment | dpdk_msvc_compile | dpdk_meson_compile | dpdk_llvm_clang_compile | +=====================+===================+====================+=========================+ | Windows Server 2022 | PASS | SKIPPED | PASS | +---------------------+-------------------+--------------------+-------------------------+ | FreeBSD 14.2 | SKIPPED | PASS | SKIPPED | +---------------------+-------------------+--------------------+-------------------------+ | Ubuntu 20.04 | SKIPPED | PASS | SKIPPED | +---------------------+-------------------+--------------------+-------------------------+ Windows Server 2022 Kernel: 10.0.20348.2031 Compiler: clang 15.0.7, gcc 14.1.0 (MinGW), and MSVC VS 19.39.33521 FreeBSD 14.2 Kernel: 14.2-RELEASE Compiler: clang 18.1.6 Ubuntu 20.04 Kernel: 4.19 Compiler: gcc gcc (Ubuntu 9.4.0-1ubuntu1~20.04.2) 9.4.0 To view detailed results, visit: https://lab.dpdk.org/results/dashboard/patchsets/34225/ UNH-IOL DPDK Community Lab To manage your email subscriptions, visit: https://lab.dpdk.org/results/dashboard/preferences/subscriptions/