From mboxrd@z Thu Jan 1 00:00:00 1970 Return-Path: Received: from mails.dpdk.org (mails.dpdk.org [217.70.189.124]) by inbox.dpdk.org (Postfix) with ESMTP id E1A28488CC for ; Tue, 7 Oct 2025 07:03:57 +0200 (CEST) Received: from mails.dpdk.org (localhost [127.0.0.1]) by mails.dpdk.org (Postfix) with ESMTP id D46054027F; Tue, 7 Oct 2025 07:03:57 +0200 (CEST) Received: from mail-qv1-f100.google.com (mail-qv1-f100.google.com [209.85.219.100]) by mails.dpdk.org (Postfix) with ESMTP id 60F314027F for ; Tue, 7 Oct 2025 07:03:56 +0200 (CEST) Received: by mail-qv1-f100.google.com with SMTP id 6a1803df08f44-81fdd5d7b59so66042966d6.3 for ; Mon, 06 Oct 2025 22:03:56 -0700 (PDT) DKIM-Signature: v=1; a=rsa-sha256; c=relaxed/relaxed; d=iol.unh.edu; s=unh-iol; t=1759813436; x=1760418236; darn=dpdk.org; h=references:in-reply-to:cc:to:from:subject:message-id:date:from:to :cc:subject:date:message-id:reply-to; bh=F2j0Swn3pSx3/QTK4VAR7JTK/ypb+dkhR0Mu7T8veto=; b=Q7G8a5MoLVS5xytmFkBYteRu1aC+bTLJmcS655Jo20uOM6N+ZVcZjAXQFuSc2VIt6j QNCfFgkJIoHGIt7bWl0bgi5vID670ne9ObVg13WVaBj7Betf3WUkTz464kBQkL6Xt1Gm APUjhmQWM46H9qXNdN7aIk4tBDND0OvksE7l8= X-Google-DKIM-Signature: v=1; a=rsa-sha256; c=relaxed/relaxed; d=1e100.net; s=20230601; t=1759813436; x=1760418236; h=references:in-reply-to:cc:to:from:subject:message-id:date :x-gm-message-state:from:to:cc:subject:date:message-id:reply-to; bh=F2j0Swn3pSx3/QTK4VAR7JTK/ypb+dkhR0Mu7T8veto=; b=OFU53sMkZWq+7eyZXrlUIBfldNO7EbH2DE2U/i5vmRyAKDQkXwc5JbHBYr9PQZFfkV kdkFzj1bWpNOn4ijyz0sR9K9+2Kh78ET38WidtmZiLcKYKgxdEAVK2QLDSMibb/Y1/vn 5M8v6X7Gx1godwrjMb4D9x6rGOa7kNqUd1g7M0EiKpXrLPkNfMVbv6K3AJeC10p3RzSf uM/9Rs9Zm/UFhiNfiiLLb0vnvo/js9Ucknqur49+YPsJhy/QARy8fnXWYFktsB+blJad Ns+4XNO5HphgB9BYQZv0NuSU7pzWA1p2cihAWiwTyJ+SFafcxsBW8HUUshs+S6cHs02x mdYA== X-Gm-Message-State: AOJu0YxnnYbVXpDlFMRjvIZKRAfY05Zs39dTORK5SspAGgQFA84YJB/h /a9rYlPxXtJ2AO3ffBfHngx+S8+CzuDN1qbYRKtaESfjN3UlgfSeCBD1ezBdiheV0cG/Vfxxd78 AvQgnUAcME5k6QFguqmxfWSXJ1q7ywywtxy7fD8wUYWR0 X-Gm-Gg: ASbGncudnLVdnJQ+aPt8JLlpDxB/krcFvhwwgWEwaBMi5jooAs7yADCuz1SchT4wNvs jJZnmxPZIZo6Ueg+l017IiNju8mamdOmoAeD0QTvaZP8bmNounowh/IILuJkEP70lLNOQjqnf8g yEmnBnxR0qd7+/QAS6ekKMog2mQQO2FBgkoIQuM6EwRzISWoRTbJxHHsZa9CctzLI3F2tlAqefm m8E99acXBB+OV3cXDmB2tWmy/5p05qdWzdWqXbp0MENeiSbScILC5sGt1MUu0mYS6diIWOpXP8l F0x6B6GTZyxeFkEg1jr1CqQTfbtd+3ixIOD6VnZbSMGHwVNpOB0AGny9QEU6UPZERS44GOTK6hZ GrQ== X-Google-Smtp-Source: AGHT+IGnumGja3VludqI6F/6EZQwBZUQZPLkM8SHEcY5PD78eqfs0p1+rRoEo5Ia9W3YGQVjPl4CSRhTTsr5 X-Received: by 2002:a05:6214:2501:b0:78f:261e:7cc1 with SMTP id 6a1803df08f44-879dc7a61famr217951006d6.21.1759813435670; Mon, 06 Oct 2025 22:03:55 -0700 (PDT) Received: from postal.iol.unh.edu (postal.iol.unh.edu. [132.177.123.84]) by smtp-relay.gmail.com with ESMTPS id 6a1803df08f44-878bb82908csm12122366d6.15.2025.10.06.22.03.55 (version=TLS1_2 cipher=ECDHE-ECDSA-AES128-GCM-SHA256 bits=128/128); Mon, 06 Oct 2025 22:03:55 -0700 (PDT) X-Relaying-Domain: iol.unh.edu Date: Mon, 06 Oct 2025 22:03:55 -0700 (PDT) Message-ID: <68e49f3b.d40a0220.1f7802.937dSMTPIN_ADDED_MISSING@mx.google.com> Received: from [172.21.0.2] (unknown [172.18.0.240]) by postal.iol.unh.edu (Postfix) with ESMTP id 680856051830; Tue, 7 Oct 2025 01:03:55 -0400 (EDT) Subject: |SUCCESS| pw157303 [PATCH] net/idpf: correct the enum constant name From: dpdklab@iol.unh.edu To: Test Report Cc: dpdk-test-reports@iol.unh.edu, Bruce Richardson In-Reply-To: <20251007040436.2924355-1-shaiq.wani@intel.com> References: <20251007040436.2924355-1-shaiq.wani@intel.com> Content-Type: text/plain X-BeenThere: test-report@dpdk.org X-Mailman-Version: 2.1.29 Precedence: list List-Id: automatic DPDK test reports List-Unsubscribe: , List-Archive: List-Post: List-Help: List-Subscribe: , Errors-To: test-report-bounces@dpdk.org Test-Label: iol-compile-amd64-testing Test-Status: SUCCESS http://dpdk.org/patch/157303 _Testing PASS_ Submitter: Shaiq Wani Date: Tuesday, October 07 2025 04:04:36 DPDK git baseline: Repo:dpdk-next-net-intel Branch: master CommitID:e7d8cc7ef4df3552575525697079d3c957cfcdaf 157303 --> testing pass Upstream job id: Windows-Compile-DPDK-Native#31460 Test environment and result as below: +---------------------+-------------------+--------------------+-------------------------+----------------------+ | Environment | dpdk_msvc_compile | dpdk_meson_compile | dpdk_llvm_clang_compile | dpdk_mingw64_compile | +=====================+===================+====================+=========================+======================+ | Windows Server 2022 | PASS | SKIPPED | PASS | PASS | +---------------------+-------------------+--------------------+-------------------------+----------------------+ | FreeBSD 14.2 | SKIPPED | PASS | SKIPPED | SKIPPED | +---------------------+-------------------+--------------------+-------------------------+----------------------+ | Ubuntu 20.04 | SKIPPED | PASS | SKIPPED | SKIPPED | +---------------------+-------------------+--------------------+-------------------------+----------------------+ Windows Server 2022 Kernel: 10.0.20348.2031 Compiler: clang 15.0.7, gcc 14.1.0 (MinGW), and MSVC VS 19.39.33521 FreeBSD 14.2 Kernel: 14.2-RELEASE Compiler: clang 18.1.6 Ubuntu 20.04 Kernel: 4.19 Compiler: gcc gcc (Ubuntu 9.4.0-1ubuntu1~20.04.2) 9.4.0 To view detailed results, visit: https://lab.dpdk.org/results/dashboard/patchsets/34225/ UNH-IOL DPDK Community Lab To manage your email subscriptions, visit: https://lab.dpdk.org/results/dashboard/preferences/subscriptions/