From mboxrd@z Thu Jan 1 00:00:00 1970 Return-Path: Received: from mails.dpdk.org (mails.dpdk.org [217.70.189.124]) by inbox.dpdk.org (Postfix) with ESMTP id 2C126488CE for ; Tue, 7 Oct 2025 08:03:15 +0200 (CEST) Received: from mails.dpdk.org (localhost [127.0.0.1]) by mails.dpdk.org (Postfix) with ESMTP id 21CA54027F; Tue, 7 Oct 2025 08:03:15 +0200 (CEST) Received: from mail-qk1-f226.google.com (mail-qk1-f226.google.com [209.85.222.226]) by mails.dpdk.org (Postfix) with ESMTP id B73B84027F for ; Tue, 7 Oct 2025 08:03:13 +0200 (CEST) Received: by mail-qk1-f226.google.com with SMTP id af79cd13be357-8608f72582eso272625385a.2 for ; Mon, 06 Oct 2025 23:03:13 -0700 (PDT) DKIM-Signature: v=1; a=rsa-sha256; c=relaxed/relaxed; d=iol.unh.edu; s=unh-iol; t=1759816993; x=1760421793; darn=dpdk.org; h=references:in-reply-to:cc:to:from:subject:message-id:date:from:to :cc:subject:date:message-id:reply-to; bh=g8IZjrtBvTsfpl5KSKRluv1drkvCnc+xzLKmTuiKfJI=; b=ZWSWF2yCrFlB1pQTioAlqXyndLflPFgoB0LC10JrbjpJga6J6lMz2uWKsHXVz6K+oV Zk9Jxi1VXor7wfUoqD2TmbaQL1KoHSAal39if8ZX7V04xhbNwNum4Z2rT3qUf795TCOB Gyne3+zkTced2HJ22glbcmW3lirIj6AXWLqyc= X-Google-DKIM-Signature: v=1; a=rsa-sha256; c=relaxed/relaxed; d=1e100.net; s=20230601; t=1759816993; x=1760421793; h=references:in-reply-to:cc:to:from:subject:message-id:date :x-gm-message-state:from:to:cc:subject:date:message-id:reply-to; bh=g8IZjrtBvTsfpl5KSKRluv1drkvCnc+xzLKmTuiKfJI=; b=Is8CBOE4zt3ESBt5I7SkFWyAa2OxST0qm18m198ulnfJeM0ynL0KjhpzRbOJJv3N6V aXU/BgNmwnfQyL9QdRxoa4JQNj9zS2UaYphUrazAuxRuwW9uDQz12kVFBclCP1577412 fUiRCy6cmGU0G0rAPbK4dqOl0y0ow2IuG545ieFIeL9rLsbRhiIpvU31/2oqp3ORxsCO nmJn+v59vFqFfIuQ6PDtjYx9W4HzgYOwS32TOuZAliXNGRmt209jXjhSNtNYlCFSzJzK Q9jZ3AAriCu6tLZmt+VazSr/opx2Ecvweip41KYveS8LaJF4xAxOsOB7g/BceA3k1ccB Pd6w== X-Gm-Message-State: AOJu0YzkLA8F8qg5ZnpwlUsjZ6R4yE4ui6hL4961PrDUl3LTuAsy1KAj 1czu5r92dP5KlF2Dt168VxgxxhwuZ4iQ+G/M+nxYMeA8PS5oj6yM2TQr6hHWoz5kT3qS9sPf9tr +J+FrfRKdgNHZueAvtvVylcFo9/P0sR5ZMRZFOdPbD1NP X-Gm-Gg: ASbGncukiNI/L5YfFk0iS2ff6QAlSUpz/WelF/0Rm/g+kob+gsnOCbMF7DY6RB2cCKT txOs2V6WZj6OwmUrlRhbe6gQc1GnioNSAW3fU7Ufqv7jVTdHtRiAJEeBAwNzuimFs3+fl6T9KoB jZwRYvW2azR1HoAmy5C9M6XjIfmYywUH5un527AKiDeu+anD+xPbRU4NqAC0hJkfBs8s2Ek88GZ egPxWh28n4wZDO9ZGVjc9nQMt72CvImRXX+XQIs+GyjGIXyy7FJ24WWDUSNjfn3qPLCpFHjpUR0 BkvfZKr94+9/kjLOH69H9Ev70VaVZ/oEmz4lxityD0QA8cBD71oeRVpRzGaW8RuLOLaR3FjyVU2 suA== X-Google-Smtp-Source: AGHT+IEqhoRB6Y0oN3m5NcLCAE13Syec+nwzSz/G/oDMKpRVqvvGvxmaue6gtYivNzLX6nHzVM+33xp6Yx8B X-Received: by 2002:a05:620a:4111:b0:80e:3af7:7a0c with SMTP id af79cd13be357-87a3720be93mr1954553685a.43.1759816992900; Mon, 06 Oct 2025 23:03:12 -0700 (PDT) Received: from postal.iol.unh.edu (postal.iol.unh.edu. [132.177.123.84]) by smtp-relay.gmail.com with ESMTPS id d75a77b69052e-4e55ab3fc7dsm5148981cf.8.2025.10.06.23.03.12 (version=TLS1_2 cipher=ECDHE-ECDSA-AES128-GCM-SHA256 bits=128/128); Mon, 06 Oct 2025 23:03:12 -0700 (PDT) X-Relaying-Domain: iol.unh.edu Date: Mon, 06 Oct 2025 23:03:12 -0700 (PDT) Message-ID: <68e4ad20.050a0220.71db4.b522SMTPIN_ADDED_MISSING@mx.google.com> Received: from [172.21.0.2] (unknown [172.18.0.240]) by postal.iol.unh.edu (Postfix) with ESMTP id 9DBF46051830; Tue, 7 Oct 2025 02:03:12 -0400 (EDT) Subject: |SUCCESS| pw157298 [PATCH] [V2] net/intel/e1000: reduce the optimiza From: dpdklab@iol.unh.edu To: Test Report Cc: dpdk-test-reports@iol.unh.edu, Bruce Richardson In-Reply-To: <20251006130257.391200-1-thierry.herbelot@6wind.com> References: <20251006130257.391200-1-thierry.herbelot@6wind.com> Content-Type: text/plain X-BeenThere: test-report@dpdk.org X-Mailman-Version: 2.1.29 Precedence: list List-Id: automatic DPDK test reports List-Unsubscribe: , List-Archive: List-Post: List-Help: List-Subscribe: , Errors-To: test-report-bounces@dpdk.org Test-Label: iol-unit-arm64-testing Test-Status: SUCCESS http://dpdk.org/patch/157298 _Testing PASS_ Submitter: Thierry Herbelot Date: Monday, October 06 2025 13:02:57 DPDK git baseline: Repo:dpdk-next-net-intel Branch: master CommitID:e7d8cc7ef4df3552575525697079d3c957cfcdaf 157298 --> testing pass Upstream job id: Generic-Unit-Test-DPDK#378915 Test environment and result as below: +------------------------------+--------------+---------------------------+------------------------------+----------------+ | Environment | lpm_autotest | cryptodev_sw_zuc_autotest | cryptodev_sw_snow3g_autotest | dpdk_unit_test | +==============================+==============+===========================+==============================+================+ | Ubuntu 20.04 | PASS | SKIPPED | SKIPPED | PASS | +------------------------------+--------------+---------------------------+------------------------------+----------------+ | Debian 12 (arm) | SKIPPED | PASS | PASS | SKIPPED | +------------------------------+--------------+---------------------------+------------------------------+----------------+ | CentOS Stream 10 | SKIPPED | SKIPPED | SKIPPED | PASS | +------------------------------+--------------+---------------------------+------------------------------+----------------+ | CentOS Stream 9 | SKIPPED | SKIPPED | SKIPPED | PASS | +------------------------------+--------------+---------------------------+------------------------------+----------------+ | Debian GNU/Linux 12 | SKIPPED | SKIPPED | SKIPPED | PASS | +------------------------------+--------------+---------------------------+------------------------------+----------------+ | Fedora Linux 40 | SKIPPED | SKIPPED | SKIPPED | PASS | +------------------------------+--------------+---------------------------+------------------------------+----------------+ | Fedora Linux 42 | SKIPPED | SKIPPED | SKIPPED | PASS | +------------------------------+--------------+---------------------------+------------------------------+----------------+ | Fedora Linux 41 | SKIPPED | SKIPPED | SKIPPED | PASS | +------------------------------+--------------+---------------------------+------------------------------+----------------+ | Ubuntu 22.04 | SKIPPED | SKIPPED | SKIPPED | PASS | +------------------------------+--------------+---------------------------+------------------------------+----------------+ | Red Hat Enterprise Linux 9.5 | SKIPPED | SKIPPED | SKIPPED | PASS | +------------------------------+--------------+---------------------------+------------------------------+----------------+ | Ubuntu 24.04 | SKIPPED | SKIPPED | SKIPPED | PASS | +------------------------------+--------------+---------------------------+------------------------------+----------------+ Ubuntu 20.04 Kernel: 5.4 Compiler: gcc gcc (Ubuntu 9.4.0-1ubuntu1~20.04.2) 9.4.0 Debian 12 (arm) Kernel: Depends on container host Compiler: gcc (Debian 12.2.0-14) 12.2.0 CentOS Stream 10 Kernel: 5.4 Compiler: gcc gcc (GCC) 14.2.1 20250110 (Red Hat 14.2.1-8) CentOS Stream 9 Kernel: 5.4 Compiler: gcc gcc (GCC) 11.5.0 20240719 (Red Hat 11.5.0-11) Debian GNU/Linux 12 Kernel: 5.4 Compiler: gcc gcc (Debian 12.2.0-14+deb12u1) 12.2.0 Fedora Linux 40 Kernel: 5.4 Compiler: gcc gcc (GCC) 14.2.1 20240912 (Red Hat 14.2.1-3) Fedora Linux 42 Kernel: 5.4 Compiler: gcc gcc (GCC) 15.2.1 20250808 (Red Hat 15.2.1-1) Fedora Linux 41 Kernel: 5.4 Compiler: gcc gcc (GCC) 14.3.1 20250523 (Red Hat 14.3.1-1) Ubuntu 22.04 Kernel: 5.4 Compiler: gcc gcc (Ubuntu 11.4.0-1ubuntu1~22.04) 11.4.0 Red Hat Enterprise Linux 9.5 Kernel: 5.4 Compiler: gcc gcc (GCC) 11.5.0 20240719 (Red Hat 11.5.0-2) Ubuntu 24.04 Kernel: 5.4 Compiler: gcc gcc (Ubuntu 13.3.0-6ubuntu2~24.04) 13.3.0 To view detailed results, visit: https://lab.dpdk.org/results/dashboard/patchsets/34223/ UNH-IOL DPDK Community Lab To manage your email subscriptions, visit: https://lab.dpdk.org/results/dashboard/preferences/subscriptions/