From mboxrd@z Thu Jan 1 00:00:00 1970 Return-Path: Received: from mails.dpdk.org (mails.dpdk.org [217.70.189.124]) by inbox.dpdk.org (Postfix) with ESMTP id BA305488CF for ; Tue, 7 Oct 2025 08:08:02 +0200 (CEST) Received: from mails.dpdk.org (localhost [127.0.0.1]) by mails.dpdk.org (Postfix) with ESMTP id 996C24027F; Tue, 7 Oct 2025 08:08:02 +0200 (CEST) Received: from mail-yw1-f227.google.com (mail-yw1-f227.google.com [209.85.128.227]) by mails.dpdk.org (Postfix) with ESMTP id 22BB54027F for ; Tue, 7 Oct 2025 08:08:01 +0200 (CEST) Received: by mail-yw1-f227.google.com with SMTP id 00721157ae682-72ce9790acdso63731757b3.0 for ; Mon, 06 Oct 2025 23:08:01 -0700 (PDT) DKIM-Signature: v=1; a=rsa-sha256; c=relaxed/relaxed; d=iol.unh.edu; s=unh-iol; t=1759817280; x=1760422080; darn=dpdk.org; h=references:in-reply-to:cc:to:from:subject:message-id:date:from:to :cc:subject:date:message-id:reply-to; bh=AaZXV3igVlhMoZzthoXhvAIUiuQcakZ5u6qRH4QST00=; b=UeNlQwFdVIH6gjjoEe3w742e2dhquXqVAlakMrSO9D6IHw1tpURS1YWwhl7LaFsSXW UYbfE+4CljtME+EPHQh889vYw6pPiMvJFv1oWTAL+zJjDzGdwHMXNMPpW+JfKaBtX5bc JhyzVjs83yxtJc0P6SEEwK7VI9wYE+wXVxNJ0= X-Google-DKIM-Signature: v=1; a=rsa-sha256; c=relaxed/relaxed; d=1e100.net; s=20230601; t=1759817280; x=1760422080; h=references:in-reply-to:cc:to:from:subject:message-id:date :x-gm-message-state:from:to:cc:subject:date:message-id:reply-to; bh=AaZXV3igVlhMoZzthoXhvAIUiuQcakZ5u6qRH4QST00=; b=gtWrpN0C96yXJkhQCH//khcBAMonDKFz3WwtpanNFufaZWmLAIJFGAJirnOzGctA90 qVCmn38scf7Qzhqz8eB1uNzIb2EfuTTwyM90liKCvwKmFzaRnQmFxPTKW+7FO/cdRRKy W09sSE58HLofu9lSLcFJ36MjpnN1OK3EDnzBNBn6SA+Ktov2DHUwf8kGIjKgO42NS8VP +xcRzFos5MhQhZNpeODtQ8wq7mTEIaWu5kukiBMK1xR0nisHdijq5Z0X5ctWVVbG2GGP FYZHDo2PHeUQKKGlrb2TZ1y8JZtHqV9WHZFmSTZ6N8j5yVYo5+fvUf8qIqxpO+yorXuw Y6EA== X-Gm-Message-State: AOJu0Ywzom7tc3TzKK1VD76K9T+6eCIRlK2bsKgD5FwyYndmIRgjsZ+N RtHuTqokuCWnSh6vLkSuGPymD8Uj7rtlqL4bljkndHeAfzHH5RrT5704MehdAcRAJ48CgvhAw80 ilpnVTvHg6fndk/qs8ozsAeOyw50eU2xbTah9XRyhYoJp X-Gm-Gg: ASbGnctjnWM1o4wbqyq89EZKXjM+UtnYQERtGgRcv5/GuGVurDhzj1rL+6AdmjSkAvx voGaaUY+Oj5cVvEH0J9fJB14tdlgPXPtwopHvrWvHOk+eJJfolEdYf3il+kWI+R0p6xUfiS1zR9 HbI984L2RfIVJj2ohaWHImdB8yiyhmjVrdi5QRlVtemq5/x5db0rj89d+UizteURGIDwChQfifg C83CgBPCltMqF0ceGbRA5QE7rvtdpYBy8TGXWkn6BxC4meFlkgUKHZ2GmZZ2BkXNOaEUpO791ej 2mxKGxlRbN6zLftXGiKCIheB+OTzEeeomg/I/kvaHE2MZHoe77mypI8wi6Fz/z0pVX7Kzn/2OQg Crg== X-Google-Smtp-Source: AGHT+IE4cQPBzYi5T+AuTviELMOKTl7S8Mp6SoFh1Zm50HYobTCp3qfUwJy4KduSm2JSHQyqZc31lM6ql0VM X-Received: by 2002:a05:690c:884:b0:74d:15c3:f16f with SMTP id 00721157ae682-77f942e060amr203964367b3.22.1759817280170; Mon, 06 Oct 2025 23:08:00 -0700 (PDT) Received: from postal.iol.unh.edu (postal.iol.unh.edu. [132.177.123.84]) by smtp-relay.gmail.com with ESMTPS id 00721157ae682-77f81c093b7sm8139987b3.3.2025.10.06.23.08.00 (version=TLS1_2 cipher=ECDHE-ECDSA-AES128-GCM-SHA256 bits=128/128); Mon, 06 Oct 2025 23:08:00 -0700 (PDT) X-Relaying-Domain: iol.unh.edu Date: Mon, 06 Oct 2025 23:08:00 -0700 (PDT) Message-ID: <68e4ae40.050a0220.20b84f.bc60SMTPIN_ADDED_MISSING@mx.google.com> Received: from [172.21.0.2] (unknown [172.18.0.240]) by postal.iol.unh.edu (Postfix) with ESMTP id C73C66051830; Tue, 7 Oct 2025 02:07:59 -0400 (EDT) Subject: |SUCCESS| pw157304-157308 [PATCH] [5/5] net/dpaa: Fix coverity issue From: dpdklab@iol.unh.edu To: Test Report Cc: dpdk-test-reports@iol.unh.edu, Stephen Hemminger In-Reply-To: <20251007050012.2432449-6-g.singh@nxp.com> References: <20251007050012.2432449-6-g.singh@nxp.com> Content-Type: text/plain X-BeenThere: test-report@dpdk.org X-Mailman-Version: 2.1.29 Precedence: list List-Id: automatic DPDK test reports List-Unsubscribe: , List-Archive: List-Post: List-Help: List-Subscribe: , Errors-To: test-report-bounces@dpdk.org Test-Label: iol-compile-amd64-testing Test-Status: SUCCESS http://dpdk.org/patch/157308 _Testing PASS_ Submitter: Gagandeep Singh Date: Tuesday, October 07 2025 05:00:12 DPDK git baseline: Repo:dpdk-next-net Branch: master CommitID:c04bbd131b2c14b3049bf86d3ef367b34e6fdf1e 157304-157308 --> testing pass Upstream job id: Windows-Compile-DPDK-Native#31462 Test environment and result as below: +---------------------+--------------------+-------------------------+-------------------+----------------------+ | Environment | dpdk_meson_compile | dpdk_llvm_clang_compile | dpdk_msvc_compile | dpdk_mingw64_compile | +=====================+====================+=========================+===================+======================+ | Ubuntu 20.04 | PASS | SKIPPED | SKIPPED | SKIPPED | +---------------------+--------------------+-------------------------+-------------------+----------------------+ | FreeBSD 14.2 | PASS | SKIPPED | SKIPPED | SKIPPED | +---------------------+--------------------+-------------------------+-------------------+----------------------+ | Windows Server 2022 | SKIPPED | PASS | PASS | PASS | +---------------------+--------------------+-------------------------+-------------------+----------------------+ Ubuntu 20.04 Kernel: 4.19 Compiler: gcc gcc (Ubuntu 9.4.0-1ubuntu1~20.04.2) 9.4.0 FreeBSD 14.2 Kernel: 14.2-RELEASE Compiler: clang 18.1.6 Windows Server 2022 Kernel: 10.0.20348.2031 Compiler: clang 15.0.7, gcc 14.1.0 (MinGW), and MSVC VS 19.39.33521 To view detailed results, visit: https://lab.dpdk.org/results/dashboard/patchsets/34226/ UNH-IOL DPDK Community Lab To manage your email subscriptions, visit: https://lab.dpdk.org/results/dashboard/preferences/subscriptions/