From mboxrd@z Thu Jan 1 00:00:00 1970 Return-Path: Received: from mails.dpdk.org (mails.dpdk.org [217.70.189.124]) by inbox.dpdk.org (Postfix) with ESMTP id 1632D488CF for ; Tue, 7 Oct 2025 08:10:32 +0200 (CEST) Received: from mails.dpdk.org (localhost [127.0.0.1]) by mails.dpdk.org (Postfix) with ESMTP id 12A2D4027F; Tue, 7 Oct 2025 08:10:32 +0200 (CEST) Received: from mail-pj1-f99.google.com (mail-pj1-f99.google.com [209.85.216.99]) by mails.dpdk.org (Postfix) with ESMTP id D43A14027F for ; Tue, 7 Oct 2025 08:10:30 +0200 (CEST) Received: by mail-pj1-f99.google.com with SMTP id 98e67ed59e1d1-330469eb750so6936068a91.2 for ; Mon, 06 Oct 2025 23:10:30 -0700 (PDT) DKIM-Signature: v=1; a=rsa-sha256; c=relaxed/relaxed; d=iol.unh.edu; s=unh-iol; t=1759817430; x=1760422230; darn=dpdk.org; h=references:in-reply-to:cc:to:from:subject:message-id:date:from:to :cc:subject:date:message-id:reply-to; bh=CJ/pRUrxfsRKgKgn8jFRUHzgnlbndyyPCMBkgqFAJf4=; b=fEOgzYTzDhKp2Rtl8PXu3QkOwKWIlAc2uo9/bgPcCmNxcIzQnQmyK2WDiJUSygSb+y qh1IQ1pFDPzo74I0JvUVcmX6VMf2sbEPREzl46zDOXWCufbEyH2rsrqC0CmpITsSoh2S i6MYN1IN2gteRvgri2ZukyukxHFKwLIV7wNtw= X-Google-DKIM-Signature: v=1; a=rsa-sha256; c=relaxed/relaxed; d=1e100.net; s=20230601; t=1759817430; x=1760422230; h=references:in-reply-to:cc:to:from:subject:message-id:date :x-gm-message-state:from:to:cc:subject:date:message-id:reply-to; bh=CJ/pRUrxfsRKgKgn8jFRUHzgnlbndyyPCMBkgqFAJf4=; b=YUDssq0DCGxrRUQBYr1MbeMORD8wyDlrk8m4mhjAULPgA86TCSo5f1JWPa0NtDMJdc GbFLlpo/LhT155YVtGf3y677y08qP1W5139QUFQVFADHAPONZDvMATNknNQrsqTM89zd C2DGEeeRI01yLJy2OFCwXdzUHL71yUEQ6TdN2J8+hqDjCbHru5s20fciEyFI5GKLOogd nFl/bKbtk3UWXkJEa8rlrcrcW4BqSyJkJVavHlxdQIaQyh0W5Lr89Zam197xcjD+cW6H zK0Ci/1Uy7C1M09eN819RdK0uMOx6vUO8IMG87ciE2knPkTVg3vMH9bJ6EMvnnZd2c8d IHlQ== X-Gm-Message-State: AOJu0YyDHM/LlevDPOxPpH2XAfRYXl+yXV5jJ0J9vhv2sj3G0iTbW50q G3YKswQQGcpY82klUoSAtvnGTsGoM9BhrG+VPYctZbk5SE6tF09H8n9nSgadYL7bIqrD8Q2CroY jo8iwPxPh+TE+Bw+a61SfRs4utmEk0ov/hpa0qnyvYQng X-Gm-Gg: ASbGncsU4MYpaHSBn21FkWJDbJQexaTZ40jP93ZhjjlzZYCePD/g5+PwdK+fQYvnCaf JdqjxDR0ohcZ8ivG/aRfv8luGkajgIx4mqf3XSXoWkDpKzS7JJT4Cowa4PeEegl5Bm4sUpSOc2A Ygit7fdu+6QTZLfbQnRMvvWocSNrot8/pjZtglBM/h4/RwrTVkU5vh9+TgSomCaQ4PyfVG9LvYc ARy13JmPEElPvj+uQ8O9uOoMRWOE1D8ddo2fyPVSsQu+A8Cm1VM/O5Pi2NK2LjImmtohMO66JHf ywq/nrMEz6TB6dSPSTBdKCBCzJ25kOJcg/2kqHwjcKHWe0xANNjiFnrSaME2+nTkJnCsnbnkzvu dHw== X-Google-Smtp-Source: AGHT+IHsPvafIz3DN1kRMxoLj0KOLbwJLQXJUGtawvQKqfM9yIdiqPpN/4rXLo3DaUhBasIGXm4sP6BchlL3 X-Received: by 2002:a17:90b:1c8b:b0:32b:65e6:ec48 with SMTP id 98e67ed59e1d1-339c2707c6bmr19584203a91.8.1759817429896; Mon, 06 Oct 2025 23:10:29 -0700 (PDT) Received: from postal.iol.unh.edu (postal.iol.unh.edu. [132.177.123.84]) by smtp-relay.gmail.com with ESMTPS id 98e67ed59e1d1-339a6f95ecbsm1619522a91.8.2025.10.06.23.10.29 (version=TLS1_2 cipher=ECDHE-ECDSA-AES128-GCM-SHA256 bits=128/128); Mon, 06 Oct 2025 23:10:29 -0700 (PDT) X-Relaying-Domain: iol.unh.edu Date: Mon, 06 Oct 2025 23:10:29 -0700 (PDT) Message-ID: <68e4aed5.170a0220.817eb.9c97SMTPIN_ADDED_MISSING@mx.google.com> Received: from [172.21.0.2] (unknown [172.18.0.240]) by postal.iol.unh.edu (Postfix) with ESMTP id 3204A6051830; Tue, 7 Oct 2025 02:10:29 -0400 (EDT) Subject: |SUCCESS| pw157272-157273 [PATCH] [v3,4/4] doc: add doc for dictiona From: dpdklab@iol.unh.edu To: Test Report Cc: dpdk-test-reports@iol.unh.edu, Akhil Goyal In-Reply-To: <20251003194901.3375364-4-svaze@qti.qualcomm.com> References: <20251003194901.3375364-4-svaze@qti.qualcomm.com> Content-Type: text/plain X-BeenThere: test-report@dpdk.org X-Mailman-Version: 2.1.29 Precedence: list List-Id: automatic DPDK test reports List-Unsubscribe: , List-Archive: List-Post: List-Help: List-Subscribe: , Errors-To: test-report-bounces@dpdk.org Test-Label: iol-compile-arm64-testing Test-Status: SUCCESS http://dpdk.org/patch/157273 _Testing PASS_ Submitter: Sameer Vaze Date: Friday, October 03 2025 19:49:01 DPDK git baseline: Repo:dpdk-next-crypto Branch: master CommitID:caa17cb4b057a31ee04067459fe543f7d7ae1079 157272-157273 --> testing pass Upstream job id: Generic-DPDK-Compile-Meson#431490 Test environment and result as below: +------------------------------+--------------------+ | Environment | dpdk_meson_compile | +==============================+====================+ | Ubuntu 22.04 | PASS | +------------------------------+--------------------+ | Red Hat Enterprise Linux 9.5 | PASS | +------------------------------+--------------------+ | Ubuntu 20.04 | PASS | +------------------------------+--------------------+ | Debian GNU/Linux 12 | PASS | +------------------------------+--------------------+ | Fedora Linux 42 | PASS | +------------------------------+--------------------+ | Ubuntu 24.04 | PASS | +------------------------------+--------------------+ | CentOS Stream 9 | PASS | +------------------------------+--------------------+ | CentOS Stream 10 | PASS | +------------------------------+--------------------+ Ubuntu 22.04 Kernel: 5.4 Compiler: gcc gcc (Ubuntu 11.4.0-1ubuntu1~22.04) 11.4.0 Red Hat Enterprise Linux 9.5 Kernel: 5.4 Compiler: gcc gcc (GCC) 11.5.0 20240719 (Red Hat 11.5.0-2) Ubuntu 20.04 Kernel: 5.15 Compiler: aarch64-linux-gnu-gcc gcc (Ubuntu 9.4.0-1ubuntu1~20.04.2) 9.4.0 Debian GNU/Linux 12 Kernel: 5.4 Compiler: gcc gcc (Debian 12.2.0-14+deb12u1) 12.2.0 Fedora Linux 42 Kernel: 5.4 Compiler: gcc gcc (GCC) 15.2.1 20250808 (Red Hat 15.2.1-1) Ubuntu 24.04 Kernel: 5.4 Compiler: gcc gcc (Ubuntu 13.3.0-6ubuntu2~24.04) 13.3.0 CentOS Stream 9 Kernel: 5.4 Compiler: gcc gcc (GCC) 11.5.0 20240719 (Red Hat 11.5.0-11) CentOS Stream 10 Kernel: 5.4 Compiler: gcc gcc (GCC) 14.2.1 20250110 (Red Hat 14.2.1-8) To view detailed results, visit: https://lab.dpdk.org/results/dashboard/patchsets/34214/ UNH-IOL DPDK Community Lab To manage your email subscriptions, visit: https://lab.dpdk.org/results/dashboard/preferences/subscriptions/