From mboxrd@z Thu Jan 1 00:00:00 1970 Return-Path: Received: from mails.dpdk.org (mails.dpdk.org [217.70.189.124]) by inbox.dpdk.org (Postfix) with ESMTP id DCBF3488CF for ; Tue, 7 Oct 2025 08:23:21 +0200 (CEST) Received: from mails.dpdk.org (localhost [127.0.0.1]) by mails.dpdk.org (Postfix) with ESMTP id B460E4027F; Tue, 7 Oct 2025 08:23:21 +0200 (CEST) Received: from mail-qt1-f227.google.com (mail-qt1-f227.google.com [209.85.160.227]) by mails.dpdk.org (Postfix) with ESMTP id BDBDE4027F for ; Tue, 7 Oct 2025 08:23:19 +0200 (CEST) Received: by mail-qt1-f227.google.com with SMTP id d75a77b69052e-4e6d9573c2aso21669341cf.3 for ; Mon, 06 Oct 2025 23:23:19 -0700 (PDT) DKIM-Signature: v=1; a=rsa-sha256; c=relaxed/relaxed; d=iol.unh.edu; s=unh-iol; t=1759818199; x=1760422999; darn=dpdk.org; h=cc:to:from:subject:message-id:date:from:to:cc:subject:date :message-id:reply-to; bh=VYhMe8/aVnt7xcMHcaIWyIoCKOrBBWKVTyJQqGFg/Sg=; b=Ed07bxt6ZgNMDtOuK7YNNxakIJ93TSVnhDuyz0wFNqxA+qFOhX+bw4THwrlRQkJ7NA IYHXH8wtjV46hupVUmIXrPwwBxis4RmRMLdUAxQ2hHcnleTsKwoWGEumZNg0naWMgzeg N3EKjKp0M2ER5NpVjnh6HWGLC1yELWqpNHuMA= X-Google-DKIM-Signature: v=1; a=rsa-sha256; c=relaxed/relaxed; d=1e100.net; s=20230601; t=1759818199; x=1760422999; h=cc:to:from:subject:message-id:date:x-gm-message-state:from:to:cc :subject:date:message-id:reply-to; bh=VYhMe8/aVnt7xcMHcaIWyIoCKOrBBWKVTyJQqGFg/Sg=; b=XjmuJUO2+RWcZhPFpWDi3P0UAY2uGbS06GOPkOS+WSftnNfh6QX4tiBMMvh1gnjgGQ kf9QwTr9YmhNjm1xxDfBJd7GtmEqP0c5XKCahgXRMGbv8G75amJdm2HwPnGFvc86Ujce Yjwc6ubLIOX8Btcjl18RUfi4CyXYm7ggam7k+ePiUKm9DPCgGVh4vuarTMDYxqUwUf/j IjOovvuf62ALIbIhETXfyXMOPAJpPE3gOWZulfwgkN4nyz1jrnNa8GuNr1SdusGarBHv X7654WJOB95+TtH5dWxPi4jwoaNC3GvIk67fD4Hk9Y66NEz4s7cQuDzeDIsUOTdhQHZW IFrA== X-Gm-Message-State: AOJu0YxVGyByStFbWnF0pgKC0Z3XegMHDfiEivxc2MCWbmn2zqBMB/aO 7DkRWLVHHttCTFvGh2rz2PTBB5te64TKcrZSIDfPy9vvwTV0Mg9wsSulKVKQgOupueXXwcqAdg0 CntH2VRyHFl++7NHSQrEdnKgSEmIRfDCEL5uOFEmI+w4qoTnfufaIU/vN46up X-Gm-Gg: ASbGncs2zyGAWYIYy9wYPOQn0KckW/eTSnv8cxLz+jDQ9g/m/DHlHopK12crbR1kiy4 AB0lcMaUh3f1HoGM/jhxuUky89vh3KZqAZIz3lOxDzzbWCMjP1RyZbI4WOZp4BvwoyudNEOixJH lQPVmlPMJo/oCmlZEw2z8ilgq6CUIUb+FkaSKH+eU+rqvQHHmbR20l9Bh8zg0svIooonLGd6411 3wABzE13Jd0RRBbW1akgQ2mHm1lDe8gTdrXJaUukMOckmJ5E1QRqX38PXei2QpC5qCmG/pdVsS0 qMPfs1SEVeUl+sxxv0GrE9IS8dDAMjyyg5LIBXjW+EPQKIhYyfX+d/A= X-Google-Smtp-Source: AGHT+IGivmxNtqYtzUWxIKxVNW8oa5IsyIVGSVQXNmojN+Eqt80DNrOSuYmdReqWeggYp7sIlJjjaSXwKEOr X-Received: by 2002:a05:622a:2618:b0:4cf:88a0:44e4 with SMTP id d75a77b69052e-4e576a5c90amr219030241cf.10.1759818199044; Mon, 06 Oct 2025 23:23:19 -0700 (PDT) Received: from postal.iol.unh.edu (postal.iol.unh.edu. [2606:4100:3880:1234::84]) by smtp-relay.gmail.com with ESMTPS id d75a77b69052e-4e5577e3eeasm5085511cf.0.2025.10.06.23.23.18 (version=TLS1_2 cipher=ECDHE-ECDSA-AES128-GCM-SHA256 bits=128/128); Mon, 06 Oct 2025 23:23:19 -0700 (PDT) X-Relaying-Domain: iol.unh.edu Date: Mon, 06 Oct 2025 23:23:19 -0700 (PDT) Message-ID: <68e4b1d7.c80a0220.12387.acabSMTPIN_ADDED_MISSING@mx.google.com> Received: from [172.21.0.3] (unknown [172.18.0.240]) by postal.iol.unh.edu (Postfix) with ESMTP id B0BEA6051830; Tue, 7 Oct 2025 02:23:18 -0400 (EDT) Subject: |SUCCESS| [GIT MASTER] 76393b98bf67f94dc6aa23cf5016c32571899261 From: dpdklab@iol.unh.edu To: Test Report Cc: dpdk-test-reports@iol.unh.edu Content-Type: text/plain X-BeenThere: test-report@dpdk.org X-Mailman-Version: 2.1.29 Precedence: list List-Id: automatic DPDK test reports List-Unsubscribe: , List-Archive: List-Post: List-Help: List-Subscribe: , Errors-To: test-report-bounces@dpdk.org _Testing PASS_ Branch: dpdk 76393b98bf67f94dc6aa23cf5016c32571899261 --> testing pass Upstream job id: Generic-DPDK-Compile-Meson#431531 Test environment and result as below: +------------------------------+--------------------+ | Environment | dpdk_meson_compile | +==============================+====================+ | Red Hat Enterprise Linux 9.5 | PASS | +------------------------------+--------------------+ | Ubuntu 20.04 | PASS | +------------------------------+--------------------+ | Debian GNU/Linux 12 | PASS | +------------------------------+--------------------+ | Fedora Linux 42 | PASS | +------------------------------+--------------------+ | Ubuntu 22.04 | PASS | +------------------------------+--------------------+ | Ubuntu 24.04 | PASS | +------------------------------+--------------------+ | CentOS Stream 9 | PASS | +------------------------------+--------------------+ | CentOS Stream 10 | PASS | +------------------------------+--------------------+ Red Hat Enterprise Linux 9.5 Kernel: 5.4 Compiler: gcc gcc (GCC) 11.5.0 20240719 (Red Hat 11.5.0-2) Ubuntu 20.04 Kernel: 5.15 Compiler: aarch64-linux-gnu-gcc gcc (Ubuntu 9.4.0-1ubuntu1~20.04.2) 9.4.0 Debian GNU/Linux 12 Kernel: 5.4 Compiler: gcc gcc (Debian 12.2.0-14+deb12u1) 12.2.0 Fedora Linux 42 Kernel: 5.4 Compiler: gcc gcc (GCC) 15.2.1 20250808 (Red Hat 15.2.1-1) Ubuntu 22.04 Kernel: 5.4 Compiler: gcc gcc (Ubuntu 11.4.0-1ubuntu1~22.04) 11.4.0 Ubuntu 24.04 Kernel: 5.4 Compiler: gcc gcc (Ubuntu 13.3.0-6ubuntu2~24.04) 13.3.0 CentOS Stream 9 Kernel: 5.4 Compiler: gcc gcc (GCC) 11.5.0 20240719 (Red Hat 11.5.0-11) CentOS Stream 10 Kernel: 5.4 Compiler: gcc gcc (GCC) 14.2.1 20250110 (Red Hat 14.2.1-8) To view detailed results, visit: https://lab.dpdk.org/results/dashboard/tarballs/35103/ UNH-IOL DPDK Community Lab To manage your email subscriptions, visit: https://lab.dpdk.org/results/dashboard/preferences/subscriptions/