From mboxrd@z Thu Jan 1 00:00:00 1970 Return-Path: Received: from mails.dpdk.org (mails.dpdk.org [217.70.189.124]) by inbox.dpdk.org (Postfix) with ESMTP id CB740488CF for ; Tue, 7 Oct 2025 08:23:31 +0200 (CEST) Received: from mails.dpdk.org (localhost [127.0.0.1]) by mails.dpdk.org (Postfix) with ESMTP id C52C84027F; Tue, 7 Oct 2025 08:23:31 +0200 (CEST) Received: from mail-io1-f97.google.com (mail-io1-f97.google.com [209.85.166.97]) by mails.dpdk.org (Postfix) with ESMTP id 32DA44027F for ; Tue, 7 Oct 2025 08:23:30 +0200 (CEST) Received: by mail-io1-f97.google.com with SMTP id ca18e2360f4ac-92790f12293so278992739f.2 for ; Mon, 06 Oct 2025 23:23:30 -0700 (PDT) DKIM-Signature: v=1; a=rsa-sha256; c=relaxed/relaxed; d=iol.unh.edu; s=unh-iol; t=1759818209; x=1760423009; darn=dpdk.org; h=references:in-reply-to:cc:to:from:subject:message-id:date:from:to :cc:subject:date:message-id:reply-to; bh=DNbzQMeuA1UVXJDfYGToStHT6A1V5wrQTGQ/UnYg2iA=; b=iet3voy/E2N737d8sDrxrIKN75TOjR+q+9lp6Q/r/g1TAjkUhCRNs/pjnqBfd+6GWG OBOwJaJRXCrDNyoLqvcbrAKSvvFuJKK58a92LUnwo1d4JxGRwKCA6h1MPnX+hRxkvYwm BnD08n/OrhkI4we3aH3UALHIQel6qc/4WKWqg= X-Google-DKIM-Signature: v=1; a=rsa-sha256; c=relaxed/relaxed; d=1e100.net; s=20230601; t=1759818209; x=1760423009; h=references:in-reply-to:cc:to:from:subject:message-id:date :x-gm-message-state:from:to:cc:subject:date:message-id:reply-to; bh=DNbzQMeuA1UVXJDfYGToStHT6A1V5wrQTGQ/UnYg2iA=; b=SzfwQtV9SmPmfUlyH4SSBo1rbR79rQPd/x7J0mjGUOueP8SifmPQZVnYXf5mXwVWa0 ixliXngpmjjcZBpbwiR+lHKuPS7BoB6YXTWv6OkRvVTJvmqkCfIBNoIP7sx+qq3xZJr7 53GKWvmH83zzcI2asFhbt2tIU/G5qzNN4jtpI9eUQZylGwwnua54pkA7g+O4QWczxbK4 pxoZFUvpZBdIasSlAb6+dnmJsdLWOEvPyz3uuo9gfao1l9R2BRj62GMF+TgOd5wLBPEo 1KZXMHzwZAWlRbMsavcehDu8cVI01hsPRpgOr975U2gslqBWqW2uc3X8nizO1rObvLzX zDoA== X-Gm-Message-State: AOJu0YxTBp+rAatoNbgrB7SCezG14lJAj+mq4Q9yFEnHSu5hKaRQ0QzS 280ISGRPncwvb62FDUUNwqr9cb+TlQtD3YidfROEYA4emYyTrTaWszgo+XbNnZexI+A1G7Z77IQ iFeSI7rAyEbCjm1te6Igla2aDZ9h6PJ4TeQD6u3Ijj/T7lcoUMGf+em+HAUHY X-Gm-Gg: ASbGnctkFdSFmXpEU1jGYBbp4IJLJ6uf93XdzpQIfzhi8Ru7NpQTogFp6U4DVbTYwtZ XaiKcA2LSIz38V5FdjPEyL/5RylpvwlzFs3/ZWinGAuprjqz4/lLZBtrQMg+fpfdpZm/F5ACwEY Qs9TpH4/0p7mKhFKIgj3YqDEDIrIYHoRtWQc44znRaQ3fAUfD6FIW6RAZqohq5Q46iE9nNiBRQQ iooYApoDeHNZ58Jh1/nViytiA8C4kIN8582D8G9wAa8yiyxpl+WRmt+xZGCBRxR8PybG8AHWb+j 3VGB5kXvpGTMSbhTgYc8VnKb8WAss1Qz/FpmPvcu+O33PNzCqkC7Ngc= X-Google-Smtp-Source: AGHT+IGCi45Gj2YD2K1mEztldTbOGHhCGavF3yvdRCgJ3SPIPQWvszJvY6dMjBdzA88jar0KOlwiUCzF8yde X-Received: by 2002:a05:6e02:198e:b0:428:9913:509c with SMTP id e9e14a558f8ab-42e7ad8677amr206272265ab.18.1759818209338; Mon, 06 Oct 2025 23:23:29 -0700 (PDT) Received: from postal.iol.unh.edu (postal.iol.unh.edu. [2606:4100:3880:1234::84]) by smtp-relay.gmail.com with ESMTPS id 8926c6da1cb9f-57b5eafe2bfsm1208450173.14.2025.10.06.23.23.29 (version=TLS1_2 cipher=ECDHE-ECDSA-AES128-GCM-SHA256 bits=128/128); Mon, 06 Oct 2025 23:23:29 -0700 (PDT) X-Relaying-Domain: iol.unh.edu Date: Mon, 06 Oct 2025 23:23:29 -0700 (PDT) Message-ID: <68e4b1e1.050a0220.2b7a42.2056SMTPIN_ADDED_MISSING@mx.google.com> Received: from [172.21.0.3] (unknown [172.18.0.240]) by postal.iol.unh.edu (Postfix) with ESMTP id E34E36051830; Tue, 7 Oct 2025 02:23:28 -0400 (EDT) Subject: |SUCCESS| pw157268-157269 [PATCH] [v2,2/2] dts: add virtio forwardin From: dpdklab@iol.unh.edu To: Test Report Cc: dpdk-test-reports@iol.unh.edu In-Reply-To: <20251003192717.444490-2-dmarx@iol.unh.edu> References: <20251003192717.444490-2-dmarx@iol.unh.edu> Content-Type: text/plain X-BeenThere: test-report@dpdk.org X-Mailman-Version: 2.1.29 Precedence: list List-Id: automatic DPDK test reports List-Unsubscribe: , List-Archive: List-Post: List-Help: List-Subscribe: , Errors-To: test-report-bounces@dpdk.org Test-Label: iol-compile-arm64-testing Test-Status: SUCCESS http://dpdk.org/patch/157269 _Testing PASS_ Submitter: Dean Marx Date: Friday, October 03 2025 19:27:16 DPDK git baseline: Repo:dpdk-next-dts Branch: master CommitID:b71d7bdf2b663f9fedc1d344b81a8cf65518026c 157268-157269 --> testing pass Upstream job id: Generic-DPDK-Compile-Meson#431486 Test environment and result as below: +------------------------------+--------------------+ | Environment | dpdk_meson_compile | +==============================+====================+ | Ubuntu 20.04 | PASS | +------------------------------+--------------------+ | Debian GNU/Linux 12 | PASS | +------------------------------+--------------------+ | Fedora Linux 42 | PASS | +------------------------------+--------------------+ | Ubuntu 22.04 | PASS | +------------------------------+--------------------+ | Red Hat Enterprise Linux 9.5 | PASS | +------------------------------+--------------------+ | Ubuntu 24.04 | PASS | +------------------------------+--------------------+ | CentOS Stream 9 | PASS | +------------------------------+--------------------+ | CentOS Stream 10 | PASS | +------------------------------+--------------------+ Ubuntu 20.04 Kernel: 5.4 Compiler: gcc gcc (Ubuntu 9.4.0-1ubuntu1~20.04.2) 9.4.0 Debian GNU/Linux 12 Kernel: 5.4 Compiler: gcc gcc (Debian 12.2.0-14+deb12u1) 12.2.0 Fedora Linux 42 Kernel: 5.4 Compiler: gcc gcc (GCC) 15.2.1 20250808 (Red Hat 15.2.1-1) Ubuntu 22.04 Kernel: 5.4 Compiler: gcc gcc (Ubuntu 11.4.0-1ubuntu1~22.04) 11.4.0 Red Hat Enterprise Linux 9.5 Kernel: 5.4 Compiler: gcc gcc (GCC) 11.5.0 20240719 (Red Hat 11.5.0-2) Ubuntu 24.04 Kernel: 5.4 Compiler: gcc gcc (Ubuntu 13.3.0-6ubuntu2~24.04) 13.3.0 CentOS Stream 9 Kernel: 5.4 Compiler: gcc gcc (GCC) 11.5.0 20240719 (Red Hat 11.5.0-11) CentOS Stream 10 Kernel: 5.4 Compiler: gcc gcc (GCC) 14.2.1 20250110 (Red Hat 14.2.1-8) To view detailed results, visit: https://lab.dpdk.org/results/dashboard/patchsets/34213/ UNH-IOL DPDK Community Lab To manage your email subscriptions, visit: https://lab.dpdk.org/results/dashboard/preferences/subscriptions/