From mboxrd@z Thu Jan 1 00:00:00 1970 Return-Path: Received: from mails.dpdk.org (mails.dpdk.org [217.70.189.124]) by inbox.dpdk.org (Postfix) with ESMTP id 0DFD5488CF for ; Tue, 7 Oct 2025 08:57:11 +0200 (CEST) Received: from mails.dpdk.org (localhost [127.0.0.1]) by mails.dpdk.org (Postfix) with ESMTP id 0837A4027F; Tue, 7 Oct 2025 08:57:11 +0200 (CEST) Received: from mail-pl1-f226.google.com (mail-pl1-f226.google.com [209.85.214.226]) by mails.dpdk.org (Postfix) with ESMTP id AB5414027F for ; Tue, 7 Oct 2025 08:57:09 +0200 (CEST) Received: by mail-pl1-f226.google.com with SMTP id d9443c01a7336-28e7cd6dbc0so67521115ad.0 for ; Mon, 06 Oct 2025 23:57:09 -0700 (PDT) DKIM-Signature: v=1; a=rsa-sha256; c=relaxed/relaxed; d=iol.unh.edu; s=unh-iol; t=1759820229; x=1760425029; darn=dpdk.org; h=references:in-reply-to:cc:to:from:subject:message-id:date:from:to :cc:subject:date:message-id:reply-to; bh=CFQ5wzRyHpwNfktrQLisN/LMKjysVNgWIr/0LbH6vnU=; b=c5bVQoTjWL1zbU/ZNGZ0G19YRsUH2N1gn5eFjii6Xp5agTIsEsU/bE5biGLnMp2ODS 1apEefaMpCqCFwL+TzMN4UeMUu8QQlTq4wh7kKqOmgIDkbHQUoUaxcKYu6hlzdXWQUCf //Tun52cf1xRO5L8RIZui+dUSBFmj4oIZ+tK4= X-Google-DKIM-Signature: v=1; a=rsa-sha256; c=relaxed/relaxed; d=1e100.net; s=20230601; t=1759820229; x=1760425029; h=references:in-reply-to:cc:to:from:subject:message-id:date :x-gm-message-state:from:to:cc:subject:date:message-id:reply-to; bh=CFQ5wzRyHpwNfktrQLisN/LMKjysVNgWIr/0LbH6vnU=; b=psNEHMAmOAQ209y8ejNbu3KusEECfZ0GLZhSLOix/pS5TFf0JbxD1HCssGKzPHZwDY yiMr5WTLomjHb7avNd/x5zcB5unTwYwa3jsI/+j7I61X52UBVvUbvgaPf1QLXiPlzasg mRUuwHDeqlOoPoalHxCvXwxL34V1EFN9KDF4ZDky5+/q9QJM/2a+Qzr1mJOZmDDW1B9d SctDnVRs0nDhoc0f3NvtAsAWJjQ4TWjvQcowf9kR8jKV0qbxVo/YLcWJ5/8XFJBiPZXy QMOT5uMcutFwfdaRBy+kNf0oawxKluzS+UrLErc9NxDY90iVMUDWj1CW5QppKq+nHnsK F0Zw== X-Gm-Message-State: AOJu0YwSny4RP7BMwAwFVvamoa3r0SqUzFKS8nh2YdmhTH8Gj0eRWRee GRn3y+2ls8bDEI6XdwqI/l9sa4X0xk0nEG+t/nuctCLENOaJ5yENSs1LU2npHwUsxek/FRo2woR 5GqdQGcyJPs4tmnclA8lCC91GtvTTNzmUn7hZwGrv2HFD X-Gm-Gg: ASbGnctJOfRRyxUykROtWtP8AT7UUV1dsr5VlOiMO8yOasT/6LRkxMwLzjKRgCVvzOU JfdLAj0cuqq33iWt3QAOjXp1Qgn70HOeLKMd/DUM1DYhqPhXWV+JYUX4+9KDvh4diFI7vsBi7pn JgZIUcCnETfG3bUBKXKUWvK5V+0+Cm+7b+8zihM+eTICYIBROQKz2ozr4fJewyynJC3PQDRd1jY 8ZvAyil9BZH3Yd1feOes/3ktxnul7HWLceYi3aNFbdoV2vrY9rJZiProizamLGi3cRk8EhsN1Bn msi7mLE7SS2dBSl+u4tPCrc3Tppsw0tzZctnR6JfC1LOqihZhnsJNyAyGIaBGG+k40/twLo4fGA EKw== X-Google-Smtp-Source: AGHT+IF8PJ0EEihyc+ogEkv2PGibHSeX4+7AYu4iN2IniX37MCZKpo5T95CBjHiD6RNhiiDNIdvV+hlSIVPg X-Received: by 2002:a17:903:2341:b0:269:4741:6d33 with SMTP id d9443c01a7336-28e9a5bda87mr191219625ad.23.1759820228802; Mon, 06 Oct 2025 23:57:08 -0700 (PDT) Received: from postal.iol.unh.edu (postal.iol.unh.edu. [132.177.123.84]) by smtp-relay.gmail.com with ESMTPS id d9443c01a7336-28e8d1b21absm11179265ad.70.2025.10.06.23.57.08 (version=TLS1_2 cipher=ECDHE-ECDSA-AES128-GCM-SHA256 bits=128/128); Mon, 06 Oct 2025 23:57:08 -0700 (PDT) X-Relaying-Domain: iol.unh.edu Date: Mon, 06 Oct 2025 23:57:08 -0700 (PDT) Message-ID: <68e4b9c4.170a0220.1c1e31.d714SMTPIN_ADDED_MISSING@mx.google.com> Received: from [172.21.0.2] (unknown [172.18.0.240]) by postal.iol.unh.edu (Postfix) with ESMTP id 15C406051830; Tue, 7 Oct 2025 02:57:08 -0400 (EDT) Subject: |SUCCESS| pw157303 [PATCH] net/idpf: correct the enum constant name From: dpdklab@iol.unh.edu To: Test Report Cc: dpdk-test-reports@iol.unh.edu, Bruce Richardson In-Reply-To: <20251007040436.2924355-1-shaiq.wani@intel.com> References: <20251007040436.2924355-1-shaiq.wani@intel.com> Content-Type: text/plain X-BeenThere: test-report@dpdk.org X-Mailman-Version: 2.1.29 Precedence: list List-Id: automatic DPDK test reports List-Unsubscribe: , List-Archive: List-Post: List-Help: List-Subscribe: , Errors-To: test-report-bounces@dpdk.org Test-Label: iol-unit-amd64-testing Test-Status: SUCCESS http://dpdk.org/patch/157303 _Testing PASS_ Submitter: Shaiq Wani Date: Tuesday, October 07 2025 04:04:36 DPDK git baseline: Repo:dpdk-next-net-intel Branch: master CommitID:e7d8cc7ef4df3552575525697079d3c957cfcdaf 157303 --> testing pass Upstream job id: Generic-Unit-Test-DPDK#379076 Test environment and result as below: +-------------------------------+----------------+ | Environment | dpdk_unit_test | +===============================+================+ | CentOS Stream 10 | PASS | +-------------------------------+----------------+ | CentOS Stream 9 | PASS | +-------------------------------+----------------+ | Fedora Linux 40 | PASS | +-------------------------------+----------------+ | Debian GNU/Linux 12 | PASS | +-------------------------------+----------------+ | Fedora Linux 41 | PASS | +-------------------------------+----------------+ | Fedora Linux 42 | PASS | +-------------------------------+----------------+ | Red Hat Enterprise Linux 9.5 | PASS | +-------------------------------+----------------+ | Red Hat Enterprise Linux 8.10 | PASS | +-------------------------------+----------------+ | Ubuntu 24.04 | PASS | +-------------------------------+----------------+ | Ubuntu 22.04 | PASS | +-------------------------------+----------------+ | Ubuntu 20.04 | PASS | +-------------------------------+----------------+ | Windows Server 2022 | PASS | +-------------------------------+----------------+ CentOS Stream 10 Kernel: 5.15 Compiler: gcc gcc (GCC) 14.2.1 20250110 (Red Hat 14.2.1-8) CentOS Stream 9 Kernel: 5.15 Compiler: gcc gcc (GCC) 11.5.0 20240719 (Red Hat 11.5.0-11) Fedora Linux 40 Kernel: 5.15 Compiler: gcc gcc (GCC) 14.2.1 20240912 (Red Hat 14.2.1-3) Debian GNU/Linux 12 Kernel: 5.15 Compiler: gcc gcc (Debian 12.2.0-14+deb12u1) 12.2.0 Fedora Linux 41 Kernel: 5.15 Compiler: gcc gcc (GCC) 14.3.1 20250523 (Red Hat 14.3.1-1) Fedora Linux 42 Kernel: 5.15 Compiler: gcc gcc (GCC) 15.2.1 20250808 (Red Hat 15.2.1-1) Red Hat Enterprise Linux 9.5 Kernel: 5.15 Compiler: gcc gcc (GCC) 11.5.0 20240719 (Red Hat 11.5.0-2) Red Hat Enterprise Linux 8.10 Kernel: 5.15 Compiler: gcc gcc (GCC) 8.5.0 20210514 (Red Hat 8.5.0-22) Ubuntu 24.04 Kernel: 5.15 Compiler: gcc gcc (Ubuntu 13.3.0-6ubuntu2~24.04) 13.3.0 Ubuntu 22.04 Kernel: 5.15 Compiler: gcc gcc (Ubuntu 11.4.0-1ubuntu1~22.04) 11.4.0 Ubuntu 20.04 Kernel: 5.15 Compiler: gcc gcc (Ubuntu 9.4.0-1ubuntu1~20.04.2) 9.4.0 Windows Server 2022 Kernel: 10.0.20348.2031 Compiler: clang 15.0.7, gcc 14.1.0 (MinGW), and MSVC VS 19.39.33521 To view detailed results, visit: https://lab.dpdk.org/results/dashboard/patchsets/34225/ UNH-IOL DPDK Community Lab To manage your email subscriptions, visit: https://lab.dpdk.org/results/dashboard/preferences/subscriptions/