From mboxrd@z Thu Jan 1 00:00:00 1970 Return-Path: Received: from mails.dpdk.org (mails.dpdk.org [217.70.189.124]) by inbox.dpdk.org (Postfix) with ESMTP id A40E1488CF for ; Tue, 7 Oct 2025 09:14:00 +0200 (CEST) Received: from mails.dpdk.org (localhost [127.0.0.1]) by mails.dpdk.org (Postfix) with ESMTP id 7C2B84027F; Tue, 7 Oct 2025 09:14:00 +0200 (CEST) Received: from mail-pf1-f228.google.com (mail-pf1-f228.google.com [209.85.210.228]) by mails.dpdk.org (Postfix) with ESMTP id 3C41D4027F for ; Tue, 7 Oct 2025 09:13:59 +0200 (CEST) Received: by mail-pf1-f228.google.com with SMTP id d2e1a72fcca58-7930132f59aso101626b3a.0 for ; Tue, 07 Oct 2025 00:13:59 -0700 (PDT) DKIM-Signature: v=1; a=rsa-sha256; c=relaxed/relaxed; d=iol.unh.edu; s=unh-iol; t=1759821238; x=1760426038; darn=dpdk.org; h=cc:to:from:subject:message-id:date:from:to:cc:subject:date :message-id:reply-to; bh=/XqYqiX7k3v2JyOy6fb9SWnGw/O3Li6tPdhgVYgtp2k=; b=Kb9N9/eLGXyYh5nMMTB9GqahGx+2Fk+dck3/zUkyirRHstAF/MyeChE6rmN3wKvufV 2MBxgjyZVjzapjrOzkxlXCgrW7aFgObWAFTTful8HJAP/gJXqOSlCChqrbisFsXs3jiq Tu9KkMlqaGhtWWyT9yFy8J+5H/YrJKpdnqUDw= X-Google-DKIM-Signature: v=1; a=rsa-sha256; c=relaxed/relaxed; d=1e100.net; s=20230601; t=1759821238; x=1760426038; h=cc:to:from:subject:message-id:date:x-gm-message-state:from:to:cc :subject:date:message-id:reply-to; bh=/XqYqiX7k3v2JyOy6fb9SWnGw/O3Li6tPdhgVYgtp2k=; b=XJwgwfGkz4lOA/8kgb/5F6fWawOOd0lGnj8Wz+fTq6WIvUre3GO6A89t4Wby2/F58X doMVGKkOq7QFwWqUmpylgqDNWRtRTb61VpnHX6zMX3rmHh2g3r2rAxcJzW9EazC217mg 3NqmwFwNMPQ+LgyZplUFNxOtXz9sKZnFoXbg2JX+YaG8GM4lF/40CwpkqL+HhcUOwZHg YKng2Z4kU0A4MWCgHrwgEjIEnZEPGpaHGZ50J0WCqpXj9+qtduDAKwNnRfKpEEySyJwu 35+Yid8LaKsGvlMQdRnCmlxqSOvsuZVJSdGHvTANF6ffaupewXvyAGsgLyL2J7pMI6h/ MXnA== X-Gm-Message-State: AOJu0Yyl1WRaHqoLDz3Th8rEPJV0TcH+6Wrwp6TaNb8gDvYv3diN4dqz t/Nn+0xFrlBVx03oCZ+7+bLS97xJUTj+W8dEJ/1BmoPIHUfhsTzexlpEQWLaMaOPmaAG7SzjurY 28PGolyNuUJhDx5nXvU9AdtjWcdoxYtZohuRcuSM3250ZcKP6qy0a X-Gm-Gg: ASbGncumGKjGHMwxSOpZqMUckNd0nG66iz9RrIOV0LLyZGDh8+cTZJNgSTM16J5I7P4 /Dr5KjrL+A87fAGwSJEky4/ggP9M4aNkCaI/6t5jGO1b8cVxoUW7YuHdVhuGwQoAlA6o4CNb2oU zRfaw7mYkuF6PnVjTa9cQM0YbTAUO/3Exggk3q2uwmazTmmb0g224pDtS/nzHld/BfseBc9H2Vf rylW2DY09Tbk26+6ZeHbdB3tmHJxT8SZ19LYONMOGJ8h3ThPJeh0zYBehfSCL6NOPo3ys1mslV/ 1lTIuHQdvBJ/Vdf4RbCqKPdQ1jaMd+ySMy0O7KE/AUAofblr/l8207U= X-Google-Smtp-Source: AGHT+IHa4DN6FgETsgHFCPjktU6nHzPxr/xIv/tVs+BYiRdE/VcDa882ZkYnwWyqIFz8dTdWrNIUM7KAl85f X-Received: by 2002:a17:902:da91:b0:27e:da3a:32bc with SMTP id d9443c01a7336-28e9a65658emr185068565ad.33.1759821237865; Tue, 07 Oct 2025 00:13:57 -0700 (PDT) Received: from postal.iol.unh.edu (postal.iol.unh.edu. [2606:4100:3880:1234::84]) by smtp-relay.gmail.com with ESMTPS id d9443c01a7336-28e8d122e13sm11145215ad.30.2025.10.07.00.13.57 (version=TLS1_2 cipher=ECDHE-ECDSA-AES128-GCM-SHA256 bits=128/128); Tue, 07 Oct 2025 00:13:57 -0700 (PDT) X-Relaying-Domain: iol.unh.edu Date: Tue, 07 Oct 2025 00:13:57 -0700 (PDT) Message-ID: <68e4bdb5.170a0220.27bad5.318eSMTPIN_ADDED_MISSING@mx.google.com> Received: from [172.21.0.2] (unknown [172.18.0.240]) by postal.iol.unh.edu (Postfix) with ESMTP id 1E26660003F7; Tue, 7 Oct 2025 03:13:57 -0400 (EDT) Subject: |SUCCESS| [GIT MASTER] b287e404643aeab5bb5db084c142789df187844e From: dpdklab@iol.unh.edu To: Test Report Cc: dpdk-test-reports@iol.unh.edu, Xueming Li , Christian Ehrhardt , Kevin Traynor , Luca Boccassi Content-Type: text/plain X-BeenThere: test-report@dpdk.org X-Mailman-Version: 2.1.29 Precedence: list List-Id: automatic DPDK test reports List-Unsubscribe: , List-Archive: List-Post: List-Help: List-Subscribe: , Errors-To: test-report-bounces@dpdk.org _Testing PASS_ Branch: tags/v24.11 b287e404643aeab5bb5db084c142789df187844e --> testing pass Upstream job id: Generic-DPDK-Compile-Meson#431636 Test environment and result as below: +-------------------------------+--------------------+-------------------+-------------------------+----------------------+-------------------+------------------+ | Environment | dpdk_meson_compile | dpdk_msvc_compile | dpdk_llvm_clang_compile | dpdk_mingw64_compile | dpdk_compile_spdk | dpdk_compile_ovs | +===============================+====================+===================+=========================+======================+===================+==================+ | Ubuntu 20.04 | PASS | SKIPPED | SKIPPED | SKIPPED | SKIPPED | SKIPPED | +-------------------------------+--------------------+-------------------+-------------------------+----------------------+-------------------+------------------+ | FreeBSD 14.2 | PASS | SKIPPED | SKIPPED | SKIPPED | SKIPPED | SKIPPED | +-------------------------------+--------------------+-------------------+-------------------------+----------------------+-------------------+------------------+ | Ubuntu 22.04 | PASS | SKIPPED | SKIPPED | SKIPPED | PASS | SKIPPED | +-------------------------------+--------------------+-------------------+-------------------------+----------------------+-------------------+------------------+ | CentOS Stream 9 | PASS | SKIPPED | SKIPPED | SKIPPED | PASS | SKIPPED | +-------------------------------+--------------------+-------------------+-------------------------+----------------------+-------------------+------------------+ | CentOS Stream 10 | PASS | SKIPPED | SKIPPED | SKIPPED | SKIPPED | SKIPPED | +-------------------------------+--------------------+-------------------+-------------------------+----------------------+-------------------+------------------+ | Debian GNU/Linux 12 | PASS | SKIPPED | SKIPPED | SKIPPED | PASS | SKIPPED | +-------------------------------+--------------------+-------------------+-------------------------+----------------------+-------------------+------------------+ | Fedora Linux 42 | PASS | SKIPPED | SKIPPED | SKIPPED | PASS | PASS | +-------------------------------+--------------------+-------------------+-------------------------+----------------------+-------------------+------------------+ | openSUSE Leap 15.6 | PASS | SKIPPED | SKIPPED | SKIPPED | SKIPPED | SKIPPED | +-------------------------------+--------------------+-------------------+-------------------------+----------------------+-------------------+------------------+ | Red Hat Enterprise Linux 8.10 | PASS | SKIPPED | SKIPPED | SKIPPED | SKIPPED | SKIPPED | +-------------------------------+--------------------+-------------------+-------------------------+----------------------+-------------------+------------------+ | Red Hat Enterprise Linux 9.5 | PASS | SKIPPED | SKIPPED | SKIPPED | SKIPPED | SKIPPED | +-------------------------------+--------------------+-------------------+-------------------------+----------------------+-------------------+------------------+ | Ubuntu 24.04 | PASS | SKIPPED | SKIPPED | SKIPPED | PASS | PASS | +-------------------------------+--------------------+-------------------+-------------------------+----------------------+-------------------+------------------+ | Alpine Linux 3.22.0 | PASS | SKIPPED | SKIPPED | SKIPPED | SKIPPED | SKIPPED | +-------------------------------+--------------------+-------------------+-------------------------+----------------------+-------------------+------------------+ | Windows Server 2022 | SKIPPED | PASS | PASS | PASS | SKIPPED | SKIPPED | +-------------------------------+--------------------+-------------------+-------------------------+----------------------+-------------------+------------------+ Ubuntu 20.04 Kernel: 4.19 Compiler: gcc gcc (Ubuntu 9.4.0-1ubuntu1~20.04.2) 9.4.0 FreeBSD 14.2 Kernel: 14.2-RELEASE Compiler: clang 18.1.6 Ubuntu 22.04 Kernel: 5.15 Compiler: gcc gcc (Ubuntu 11.4.0-1ubuntu1~22.04) 11.4.0 CentOS Stream 9 Kernel: 5.15 Compiler: gcc gcc (GCC) 11.5.0 20240719 (Red Hat 11.5.0-11) CentOS Stream 10 Kernel: 5.15 Compiler: gcc gcc (GCC) 14.2.1 20250110 (Red Hat 14.2.1-8) Debian GNU/Linux 12 Kernel: 5.15 Compiler: gcc gcc (Debian 12.2.0-14+deb12u1) 12.2.0 Fedora Linux 42 Kernel: 5.15 Compiler: clang gcc (GCC) 15.2.1 20250808 (Red Hat 15.2.1-1) openSUSE Leap 15.6 Kernel: 5.15 Compiler: gcc gcc (SUSE Linux) 7.5.0 Red Hat Enterprise Linux 8.10 Kernel: 5.15 Compiler: gcc gcc (GCC) 8.5.0 20210514 (Red Hat 8.5.0-22) Red Hat Enterprise Linux 9.5 Kernel: 5.15 Compiler: gcc gcc (GCC) 11.5.0 20240719 (Red Hat 11.5.0-2) Ubuntu 24.04 Kernel: 5.15 Compiler: gcc gcc (Ubuntu 13.3.0-6ubuntu2~24.04) 13.3.0 Alpine Linux 3.22.0 Kernel: 5.15 Compiler: gcc gcc (Alpine 14.2.0) 14.2.0 Windows Server 2022 Kernel: 10.0.20348.2031 Compiler: clang 15.0.7, gcc 14.1.0 (MinGW), and MSVC VS 19.39.33521 To view detailed results, visit: https://lab.dpdk.org/results/dashboard/tarballs/35107/ UNH-IOL DPDK Community Lab To manage your email subscriptions, visit: https://lab.dpdk.org/results/dashboard/preferences/subscriptions/